BEGIN:VCALENDAR
VERSION:2.0
PRODID:-//Sabre//Sabre VObject 4.5.8//EN
CALSCALE:GREGORIAN
BEGIN:VEVENT
UID:sabre-vobject-64120926-9f3e-42af-aa81-f647ca55027a
DTSTAMP:20260424T094231Z
SUMMARY:Beginner Yoga Landstuhl
DESCRIPTION:Beginner&nbsp\;Level Yoga Landstuhl\n
X-ALT-DESC:FMTTYPE=text/html:<!DOCTYPE HTML PUBLIC "-//W3C//DTD HTML 3.2//E
 N"><HTML><p>Beginner&nbsp\;Level Yoga Landstuhl</p>\n</HTML>
CREATED;TZID=Europe/Berlin:20201001T101226
URL;VALUE=URI:https://kaiserslautern.armymwr.com/view-event
DTSTART;TZID=Europe/Berlin:20201006T120000
DTEND;TZID=Europe/Berlin:20201006T130000
SEQUENCE:0
END:VEVENT
END:VCALENDAR
