BEGIN:VCALENDAR
VERSION:2.0
PRODID:-//Sabre//Sabre VObject 4.5.8//EN
CALSCALE:GREGORIAN
BEGIN:VEVENT
UID:sabre-vobject-1c306a7e-2e9f-4e84-8b64-0a2772ec9f48
DTSTAMP:20260424T112024Z
SUMMARY:ZUMBA! Kazabra Club
DESCRIPTION:High-energy exotic rhythms make burning calories fun!\n
X-ALT-DESC:FMTTYPE=text/html:<!DOCTYPE HTML PUBLIC "-//W3C//DTD HTML 3.2//E
 N"><HTML><p>High-energy exotic rhythms make burning calories fun!</p>\n</H
 TML>
CREATED;TZID=Europe/Berlin:20201001T104208
URL;VALUE=URI:https://kaiserslautern.armymwr.com/view-event
DTSTART;TZID=Europe/Berlin:20201001T180000
DTEND;TZID=Europe/Berlin:20201001T190000
SEQUENCE:0
END:VEVENT
END:VCALENDAR
