BEGIN:VCALENDAR
VERSION:2.0
PRODID:-//Sabre//Sabre VObject 4.5.8//EN
CALSCALE:GREGORIAN
BEGIN:VEVENT
UID:sabre-vobject-4d3b9129-89f9-4779-8365-2a0c76299059
DTSTAMP:20260423T174044Z
SUMMARY:Disaster! A 70's Disaster Movie Musical-CANCELED
DESCRIPTION:
X-ALT-DESC:FMTTYPE=text/html:<!DOCTYPE HTML PUBLIC "-//W3C//DTD HTML 3.2//E
 N"><HTML></HTML>
CREATED;TZID=Europe/Berlin:20201103T131159
URL;VALUE=URI:https://kaiserslautern.armymwr.com/view-event
DTSTART;TZID=Europe/Berlin:20201016T190000
DTEND;TZID=Europe/Berlin:20201016T213000
SEQUENCE:0
END:VEVENT
BEGIN:VEVENT
UID:sabre-vobject-6e2502a4-e5a6-471b-ab2e-b28f74008374
DTSTAMP:20260423T174044Z
SUMMARY:Disaster! A 70's Disaster Movie Musical-CANCELED
DESCRIPTION:
X-ALT-DESC:FMTTYPE=text/html:<!DOCTYPE HTML PUBLIC "-//W3C//DTD HTML 3.2//E
 N"><HTML></HTML>
CREATED;TZID=Europe/Berlin:20201103T131159
URL;VALUE=URI:https://kaiserslautern.armymwr.com/view-event
DTSTART;TZID=Europe/Berlin:20201017T190000
DTEND;TZID=Europe/Berlin:20201017T213000
SEQUENCE:1
END:VEVENT
BEGIN:VEVENT
UID:sabre-vobject-998b33f0-7d6d-4230-aa2d-d3efc3c43890
DTSTAMP:20260423T174044Z
SUMMARY:Disaster! A 70's Disaster Movie Musical-CANCELED
DESCRIPTION:
X-ALT-DESC:FMTTYPE=text/html:<!DOCTYPE HTML PUBLIC "-//W3C//DTD HTML 3.2//E
 N"><HTML></HTML>
CREATED;TZID=Europe/Berlin:20201103T131159
URL;VALUE=URI:https://kaiserslautern.armymwr.com/view-event
DTSTART;TZID=Europe/Berlin:20201018T150000
DTEND;TZID=Europe/Berlin:20201018T173000
SEQUENCE:2
END:VEVENT
BEGIN:VEVENT
UID:sabre-vobject-21ea1255-43d1-4645-8cc5-1335ea2fd012
DTSTAMP:20260423T174044Z
SUMMARY:Disaster! A 70's Disaster Movie Musical-CANCELED
DESCRIPTION:
X-ALT-DESC:FMTTYPE=text/html:<!DOCTYPE HTML PUBLIC "-//W3C//DTD HTML 3.2//E
 N"><HTML></HTML>
CREATED;TZID=Europe/Berlin:20201103T131159
URL;VALUE=URI:https://kaiserslautern.armymwr.com/view-event
DTSTART;TZID=Europe/Berlin:20201023T190000
DTEND;TZID=Europe/Berlin:20201023T210000
SEQUENCE:3
END:VEVENT
BEGIN:VEVENT
UID:sabre-vobject-9955a34b-b32b-422a-9304-c579e8760a14
DTSTAMP:20260423T174044Z
SUMMARY:Disaster! A 70's Disaster Movie Musical-CANCELED
DESCRIPTION:
X-ALT-DESC:FMTTYPE=text/html:<!DOCTYPE HTML PUBLIC "-//W3C//DTD HTML 3.2//E
 N"><HTML></HTML>
CREATED;TZID=Europe/Berlin:20201103T131159
URL;VALUE=URI:https://kaiserslautern.armymwr.com/view-event
DTSTART;TZID=Europe/Berlin:20201024T190000
DTEND;TZID=Europe/Berlin:20201024T210000
SEQUENCE:4
END:VEVENT
BEGIN:VEVENT
UID:sabre-vobject-916b10ba-ddaa-4e29-bc95-8302840a7cfe
DTSTAMP:20260423T174044Z
SUMMARY:Disaster! A 70's Disaster Movie Musical-CANCELED
DESCRIPTION:
X-ALT-DESC:FMTTYPE=text/html:<!DOCTYPE HTML PUBLIC "-//W3C//DTD HTML 3.2//E
 N"><HTML></HTML>
CREATED;TZID=Europe/Berlin:20201103T131159
URL;VALUE=URI:https://kaiserslautern.armymwr.com/view-event
DTSTART;TZID=Europe/Berlin:20201025T150000
DTEND;TZID=Europe/Berlin:20201025T173000
SEQUENCE:5
END:VEVENT
BEGIN:VEVENT
UID:sabre-vobject-0122880a-a1e6-410d-a9e8-7c6ba9384c6d
DTSTAMP:20260423T174044Z
SUMMARY:Disaster! A 70's Disaster Movie Musical-CANCELED
DESCRIPTION:
X-ALT-DESC:FMTTYPE=text/html:<!DOCTYPE HTML PUBLIC "-//W3C//DTD HTML 3.2//E
 N"><HTML></HTML>
CREATED;TZID=Europe/Berlin:20201103T131159
URL;VALUE=URI:https://kaiserslautern.armymwr.com/view-event
DTSTART;TZID=Europe/Berlin:20201030T190000
DTEND;TZID=Europe/Berlin:20201030T210000
SEQUENCE:6
END:VEVENT
BEGIN:VEVENT
UID:sabre-vobject-dfb819bd-9069-4116-b74b-c893a67fa29f
DTSTAMP:20260423T174044Z
SUMMARY:Disaster! A 70's Disaster Movie Musical-CANCELED
DESCRIPTION:
X-ALT-DESC:FMTTYPE=text/html:<!DOCTYPE HTML PUBLIC "-//W3C//DTD HTML 3.2//E
 N"><HTML></HTML>
CREATED;TZID=Europe/Berlin:20201103T131159
URL;VALUE=URI:https://kaiserslautern.armymwr.com/view-event
DTSTART;TZID=Europe/Berlin:20201031T190000
DTEND;TZID=Europe/Berlin:20201031T210000
SEQUENCE:7
END:VEVENT
BEGIN:VEVENT
UID:sabre-vobject-55f14b95-27ac-4944-8186-3c7e08b67a55
DTSTAMP:20260423T174044Z
SUMMARY:Disaster! A 70's Disaster Movie Musical-CANCELED
DESCRIPTION:
X-ALT-DESC:FMTTYPE=text/html:<!DOCTYPE HTML PUBLIC "-//W3C//DTD HTML 3.2//E
 N"><HTML></HTML>
CREATED;TZID=Europe/Berlin:20201103T131159
URL;VALUE=URI:https://kaiserslautern.armymwr.com/view-event
DTSTART;TZID=Europe/Berlin:20201101T150000
DTEND;TZID=Europe/Berlin:20201101T173000
SEQUENCE:8
END:VEVENT
BEGIN:VEVENT
UID:sabre-vobject-6765b171-557e-455e-ba5c-2a1603beaeca
DTSTAMP:20260423T174044Z
SUMMARY:Disaster! A 70's Disaster Movie Musical-CANCELED
DESCRIPTION:
X-ALT-DESC:FMTTYPE=text/html:<!DOCTYPE HTML PUBLIC "-//W3C//DTD HTML 3.2//E
 N"><HTML></HTML>
CREATED;TZID=Europe/Berlin:20201103T131159
URL;VALUE=URI:https://kaiserslautern.armymwr.com/view-event
DTSTART;TZID=Europe/Berlin:20201106T190000
DTEND;TZID=Europe/Berlin:20201106T210000
SEQUENCE:9
END:VEVENT
BEGIN:VEVENT
UID:sabre-vobject-ba1394e4-a8b1-4f6a-b1f6-6ac64e77d959
DTSTAMP:20260423T174044Z
SUMMARY:Disaster! A 70's Disaster Movie Musical-CANCELED
DESCRIPTION:
X-ALT-DESC:FMTTYPE=text/html:<!DOCTYPE HTML PUBLIC "-//W3C//DTD HTML 3.2//E
 N"><HTML></HTML>
CREATED;TZID=Europe/Berlin:20201103T131159
URL;VALUE=URI:https://kaiserslautern.armymwr.com/view-event
DTSTART;TZID=Europe/Berlin:20201107T190000
DTEND;TZID=Europe/Berlin:20201107T210000
SEQUENCE:10
END:VEVENT
BEGIN:VEVENT
UID:sabre-vobject-5de069a2-c654-4a3c-97d4-d1ac51813c09
DTSTAMP:20260423T174044Z
SUMMARY:Disaster! A 70's Disaster Movie Musical-CANCELED
DESCRIPTION:
X-ALT-DESC:FMTTYPE=text/html:<!DOCTYPE HTML PUBLIC "-//W3C//DTD HTML 3.2//E
 N"><HTML></HTML>
CREATED;TZID=Europe/Berlin:20201103T131159
URL;VALUE=URI:https://kaiserslautern.armymwr.com/view-event
DTSTART;TZID=Europe/Berlin:20201108T150000
DTEND;TZID=Europe/Berlin:20201108T173000
SEQUENCE:11
END:VEVENT
END:VCALENDAR
