BEGIN:VCALENDAR
VERSION:2.0
PRODID:-//Sabre//Sabre VObject 4.5.8//EN
CALSCALE:GREGORIAN
BEGIN:VEVENT
UID:sabre-vobject-ebfb7c95-c012-4271-ba08-23a012240536
DTSTAMP:20260424T131914Z
SUMMARY:NAF Warehouse Sale-By Appointment Only
DESCRIPTION:All appointments through Monday have been taken.&nbsp\;\n
X-ALT-DESC:FMTTYPE=text/html:<!DOCTYPE HTML PUBLIC "-//W3C//DTD HTML 3.2//E
 N"><HTML><p><strong>All appointments through Monday have been taken.</stro
 ng>&nbsp\;</p>\n</HTML>
CREATED;TZID=Europe/Berlin:20201030T101424
URL;VALUE=URI:https://kaiserslautern.armymwr.com/view-event
DTSTART;TZID=Europe/Berlin:20201030T080000
DTEND;TZID=Europe/Berlin:20201030T170000
SEQUENCE:0
END:VEVENT
BEGIN:VEVENT
UID:sabre-vobject-a94540b8-1065-4f96-9f7c-1c638d8d07e5
DTSTAMP:20260424T131914Z
SUMMARY:NAF Warehouse Sale-By Appointment Only
DESCRIPTION:All appointments through Monday have been taken.&nbsp\;\n
X-ALT-DESC:FMTTYPE=text/html:<!DOCTYPE HTML PUBLIC "-//W3C//DTD HTML 3.2//E
 N"><HTML><p><strong>All appointments through Monday have been taken.</stro
 ng>&nbsp\;</p>\n</HTML>
CREATED;TZID=Europe/Berlin:20201030T101424
URL;VALUE=URI:https://kaiserslautern.armymwr.com/view-event
DTSTART;TZID=Europe/Berlin:20201102T080000
DTEND;TZID=Europe/Berlin:20201102T170000
SEQUENCE:1
END:VEVENT
END:VCALENDAR
