BEGIN:VCALENDAR
VERSION:2.0
PRODID:-//Sabre//Sabre VObject 4.5.8//EN
CALSCALE:GREGORIAN
BEGIN:VEVENT
UID:sabre-vobject-1c3234d8-c1f4-42bd-8241-7e38af3515b2
DTSTAMP:20260423T152850Z
SUMMARY:Date Night - Virtual Winery Visit and Wine Tasting with Weingut Die
 mer
DESCRIPTION:Visit the Deutsche&nbsp\;Weinstrasse from the comfort of your o
 wn home with Kaiserslautern Outdoor Recreation and Weingut Diemar!\n
X-ALT-DESC:FMTTYPE=text/html:<!DOCTYPE HTML PUBLIC "-//W3C//DTD HTML 3.2//E
 N"><HTML><p>Visit the Deutsche&nbsp\;Weinstrasse from the comfort of your 
 own home with Kaiserslautern Outdoor Recreation and Weingut Diemar!</p>\n<
 /HTML>
CREATED;TZID=Europe/Berlin:20211104T150629
URL;VALUE=URI:https://kaiserslautern.armymwr.com/view-event
DTSTART;TZID=Europe/Berlin:20211105T200000
DTEND;TZID=Europe/Berlin:20211105T220000
SEQUENCE:0
END:VEVENT
END:VCALENDAR
