BEGIN:VCALENDAR
VERSION:2.0
PRODID:-//Sabre//Sabre VObject 4.5.8//EN
CALSCALE:GREGORIAN
BEGIN:VEVENT
UID:sabre-vobject-075c0c6b-e477-4e02-b36e-d9566efa42ef
DTSTAMP:20260426T024041Z
SUMMARY:An Evening of One Acts!
DESCRIPTION:
X-ALT-DESC:FMTTYPE=text/html:<!DOCTYPE HTML PUBLIC "-//W3C//DTD HTML 3.2//E
 N"><HTML></HTML>
CREATED;TZID=Europe/Berlin:20210819T110504
URL;VALUE=URI:https://kaiserslautern.armymwr.com/view-event
DTSTART;TZID=Europe/Berlin:20210917T190000
DTEND;TZID=Europe/Berlin:20210917T200000
SEQUENCE:0
END:VEVENT
BEGIN:VEVENT
UID:sabre-vobject-79e86cb3-ce63-43be-a79c-1e5bcab3b611
DTSTAMP:20260426T024041Z
SUMMARY:An Evening of One Acts!
DESCRIPTION:
X-ALT-DESC:FMTTYPE=text/html:<!DOCTYPE HTML PUBLIC "-//W3C//DTD HTML 3.2//E
 N"><HTML></HTML>
CREATED;TZID=Europe/Berlin:20210819T110504
URL;VALUE=URI:https://kaiserslautern.armymwr.com/view-event
DTSTART;TZID=Europe/Berlin:20210918T190000
DTEND;TZID=Europe/Berlin:20210918T200000
SEQUENCE:1
END:VEVENT
BEGIN:VEVENT
UID:sabre-vobject-10ebf5b6-6e49-49c7-8172-c1823126e4a0
DTSTAMP:20260426T024041Z
SUMMARY:An Evening of One Acts!
DESCRIPTION:
X-ALT-DESC:FMTTYPE=text/html:<!DOCTYPE HTML PUBLIC "-//W3C//DTD HTML 3.2//E
 N"><HTML></HTML>
CREATED;TZID=Europe/Berlin:20210819T110504
URL;VALUE=URI:https://kaiserslautern.armymwr.com/view-event
DTSTART;TZID=Europe/Berlin:20210924T190000
DTEND;TZID=Europe/Berlin:20210924T200000
SEQUENCE:2
END:VEVENT
BEGIN:VEVENT
UID:sabre-vobject-98845039-4071-47bc-a852-4bddd67f3678
DTSTAMP:20260426T024041Z
SUMMARY:An Evening of One Acts!
DESCRIPTION:
X-ALT-DESC:FMTTYPE=text/html:<!DOCTYPE HTML PUBLIC "-//W3C//DTD HTML 3.2//E
 N"><HTML></HTML>
CREATED;TZID=Europe/Berlin:20210819T110504
URL;VALUE=URI:https://kaiserslautern.armymwr.com/view-event
DTSTART;TZID=Europe/Berlin:20210925T190000
DTEND;TZID=Europe/Berlin:20210925T200000
SEQUENCE:3
END:VEVENT
END:VCALENDAR
