BEGIN:VCALENDAR
VERSION:2.0
PRODID:-//Sabre//Sabre VObject 4.5.8//EN
CALSCALE:GREGORIAN
BEGIN:VEVENT
UID:sabre-vobject-720cc86f-6baa-4777-b9ea-3ec1d2aaa7ef
DTSTAMP:20260424T145230Z
SUMMARY:Amsterdam Express
DESCRIPTION:Visit Amsterdam\, the &ldquo\;Venice of the North&rdquo\;!\n
X-ALT-DESC:FMTTYPE=text/html:<!DOCTYPE HTML PUBLIC "-//W3C//DTD HTML 3.2//E
 N"><HTML><p>Visit <strong>Amsterdam</strong>\, the <strong>&ldquo\;Venice 
 of the North&rdquo\;</strong>!</p>\n</HTML>
CREATED;TZID=Europe/Berlin:20211006T110323
URL;VALUE=URI:https://kaiserslautern.armymwr.com/view-event
DTSTART;TZID=Europe/Berlin:20211023T030000
DTEND;TZID=Europe/Berlin:20211023T040000
SEQUENCE:0
END:VEVENT
END:VCALENDAR
