BEGIN:VCALENDAR
VERSION:2.0
PRODID:-//Sabre//Sabre VObject 4.5.8//EN
CALSCALE:GREGORIAN
BEGIN:VEVENT
UID:sabre-vobject-45d9c96a-3e2c-4895-9216-a7616ecdee1b
DTSTAMP:20260425T152542Z
SUMMARY:Swiss Christmas Market Shopping Spree
DESCRIPTION:Shop &lsquo\;til you drop with Kaiserslautern Outdoor Recreatio
 n at some of Switzerland&rsquo\;s best Christmas Markets!\n
X-ALT-DESC:FMTTYPE=text/html:<!DOCTYPE HTML PUBLIC "-//W3C//DTD HTML 3.2//E
 N"><HTML><p><strong>Shop &lsquo\;til you drop </strong>with <strong>Kaiser
 slautern Outdoor Recreation </strong>at some of <strong>Switzerland&rsquo\
 ;s best Christmas Markets</strong>!</p>\n</HTML>
CREATED;TZID=Europe/Berlin:20211201T130145
URL;VALUE=URI:https://kaiserslautern.armymwr.com/view-event
DTSTART;TZID=Europe/Berlin:20211218T040000
DTEND;TZID=Europe/Berlin:20211219T050000
SEQUENCE:0
END:VEVENT
END:VCALENDAR
