BEGIN:VCALENDAR
VERSION:2.0
PRODID:-//Sabre//Sabre VObject 4.5.8//EN
CALSCALE:GREGORIAN
BEGIN:VEVENT
UID:sabre-vobject-b96f2d3a-a8fd-45a6-9818-58e4e230b4e0
DTSTAMP:20260425T192139Z
SUMMARY:2021 U.S .Army Entertainment One Page Play Festival and YouthFEST
DESCRIPTION:
X-ALT-DESC:FMTTYPE=text/html:<!DOCTYPE HTML PUBLIC "-//W3C//DTD HTML 3.2//E
 N"><HTML></HTML>
CREATED;TZID=Europe/Berlin:20210927T154208
URL;VALUE=URI:https://kaiserslautern.armymwr.com/view-event
DTSTART;TZID=Europe/Berlin:20211008T000000
DTEND;TZID=Europe/Berlin:20211010T235959
SEQUENCE:0
END:VEVENT
END:VCALENDAR
