BEGIN:VCALENDAR
VERSION:2.0
PRODID:-//Sabre//Sabre VObject 4.5.8//EN
CALSCALE:GREGORIAN
BEGIN:VEVENT
UID:sabre-vobject-c0b98893-95a0-4aee-b102-f4b038848793
DTSTAMP:20260425T040026Z
SUMMARY:Krakow and Auschwitz
DESCRIPTION:Explore the UNESCO world heritage city of Krakow\, shop for blu
 e-glazed Polish pottery\, and experience the horror of Auschwitz on this t
 rip\, brought to you by Kaiserslautern Outdoor Recreation.\n
X-ALT-DESC:FMTTYPE=text/html:<!DOCTYPE HTML PUBLIC "-//W3C//DTD HTML 3.2//E
 N"><HTML><p>Explore the UNESCO world heritage city of <strong>Krakow</stro
 ng>\, shop for blue-glazed <strong>Polish pottery</strong>\, and experienc
 e the horror of <strong>Auschwitz </strong>on this trip\, brought to you b
 y Kaiserslautern Outdoor Recreation.</p>\n</HTML>
CREATED;TZID=Europe/Berlin:20220204T135459
URL;VALUE=URI:https://kaiserslautern.armymwr.com/view-event
DTSTART;TZID=Europe/Berlin:20220217T183000
DTEND;TZID=Europe/Berlin:20220221T233000
SEQUENCE:0
END:VEVENT
END:VCALENDAR
