BEGIN:VCALENDAR
VERSION:2.0
PRODID:-//Sabre//Sabre VObject 4.5.8//EN
CALSCALE:GREGORIAN
BEGIN:VEVENT
UID:sabre-vobject-000b058d-ee32-41c0-9fe5-4bea2611c1f9
DTSTAMP:20260420T062234Z
SUMMARY:Latin Night at Armstrong's Club
DESCRIPTION:
X-ALT-DESC:FMTTYPE=text/html:<!DOCTYPE HTML PUBLIC "-//W3C//DTD HTML 3.2//E
 N"><HTML></HTML>
CREATED;TZID=Europe/Berlin:20220923T085058
URL;VALUE=URI:https://kaiserslautern.armymwr.com/view-event
DTSTART;TZID=Europe/Berlin:20220101T210000
DTEND;TZID=Europe/Berlin:20220101T020000
SEQUENCE:0
END:VEVENT
BEGIN:VEVENT
UID:sabre-vobject-8b7a3334-6ccf-483e-863b-8ad7e42d7f38
DTSTAMP:20260420T062234Z
SUMMARY:Latin Night at Armstrong's Club
DESCRIPTION:
X-ALT-DESC:FMTTYPE=text/html:<!DOCTYPE HTML PUBLIC "-//W3C//DTD HTML 3.2//E
 N"><HTML></HTML>
CREATED;TZID=Europe/Berlin:20220923T085058
URL;VALUE=URI:https://kaiserslautern.armymwr.com/view-event
DTSTART;TZID=Europe/Berlin:20220115T210000
DTEND;TZID=Europe/Berlin:20220115T020000
SEQUENCE:1
END:VEVENT
END:VCALENDAR
