BEGIN:VCALENDAR
VERSION:2.0
PRODID:-//Sabre//Sabre VObject 4.5.8//EN
CALSCALE:GREGORIAN
BEGIN:VEVENT
UID:sabre-vobject-233c940c-acad-4eb6-af3e-e3facc7f2a07
DTSTAMP:20260421T004428Z
SUMMARY:Hip Hop Night at Armstrong's Club
DESCRIPTION:
X-ALT-DESC:FMTTYPE=text/html:<!DOCTYPE HTML PUBLIC "-//W3C//DTD HTML 3.2//E
 N"><HTML></HTML>
CREATED;TZID=Europe/Berlin:20220324T130225
URL;VALUE=URI:https://kaiserslautern.armymwr.com/view-event
DTSTART;TZID=Europe/Berlin:20211127T210000
DTEND;TZID=Europe/Berlin:20211127T210000
SEQUENCE:0
END:VEVENT
BEGIN:VEVENT
UID:sabre-vobject-41979815-83ca-473c-81b7-c4ff09437d99
DTSTAMP:20260421T004428Z
SUMMARY:Hip Hop Night at Armstrong's Club
DESCRIPTION:
X-ALT-DESC:FMTTYPE=text/html:<!DOCTYPE HTML PUBLIC "-//W3C//DTD HTML 3.2//E
 N"><HTML></HTML>
CREATED;TZID=Europe/Berlin:20220324T130225
URL;VALUE=URI:https://kaiserslautern.armymwr.com/view-event
DTSTART;TZID=Europe/Berlin:20220122T210000
DTEND;TZID=Europe/Berlin:20220122T020000
SEQUENCE:1
END:VEVENT
END:VCALENDAR
