BEGIN:VCALENDAR
VERSION:2.0
PRODID:-//Sabre//Sabre VObject 4.5.8//EN
CALSCALE:GREGORIAN
BEGIN:VEVENT
UID:sabre-vobject-88d243b8-01fb-4fc4-b2cc-6312c05a6050
DTSTAMP:20260425T153638Z
SUMMARY:Story Time with Santa
DESCRIPTION:Christmas Activities to Enjoy\n
X-ALT-DESC:FMTTYPE=text/html:<!DOCTYPE HTML PUBLIC "-//W3C//DTD HTML 3.2//E
 N"><HTML><p>Christmas Activities to Enjoy</p>\n</HTML>
CREATED;TZID=Europe/Berlin:20211203T133500
URL;VALUE=URI:https://kaiserslautern.armymwr.com/view-event
DTSTART;TZID=Europe/Berlin:20211209T153000
DTEND;TZID=Europe/Berlin:20211209T173000
SEQUENCE:0
END:VEVENT
END:VCALENDAR
