BEGIN:VCALENDAR
VERSION:2.0
PRODID:-//Sabre//Sabre VObject 4.5.8//EN
CALSCALE:GREGORIAN
BEGIN:VEVENT
UID:sabre-vobject-171bdb81-b9fe-434e-8aeb-2a35fc3bf5eb
DTSTAMP:20260421T085851Z
SUMMARY:Ski Express
DESCRIPTION:Ski season is our favorite time of year! Enjoy a day trip to on
 e of the best ski areas in the Alps!\n
X-ALT-DESC:FMTTYPE=text/html:<!DOCTYPE HTML PUBLIC "-//W3C//DTD HTML 3.2//E
 N"><HTML><p><strong>Ski season is our favorite time of year!</strong> Enjo
 y a day trip to one of the <strong>best ski areas in the Alps</strong>!</p
 >\n</HTML>
CREATED;TZID=Europe/Berlin:20220209T094836
URL;VALUE=URI:https://kaiserslautern.armymwr.com/view-event
DTSTART;TZID=Europe/Berlin:20220115T010000
DTEND;TZID=Europe/Berlin:20220115T020000
SEQUENCE:0
END:VEVENT
BEGIN:VEVENT
UID:sabre-vobject-be144dce-37b3-4962-a219-e676b91437be
DTSTAMP:20260421T085851Z
SUMMARY:Ski Express
DESCRIPTION:Ski season is our favorite time of year! Enjoy a day trip to on
 e of the best ski areas in the Alps!\n
X-ALT-DESC:FMTTYPE=text/html:<!DOCTYPE HTML PUBLIC "-//W3C//DTD HTML 3.2//E
 N"><HTML><p><strong>Ski season is our favorite time of year!</strong> Enjo
 y a day trip to one of the <strong>best ski areas in the Alps</strong>!</p
 >\n</HTML>
CREATED;TZID=Europe/Berlin:20220209T094836
URL;VALUE=URI:https://kaiserslautern.armymwr.com/view-event
DTSTART;TZID=Europe/Berlin:20220312T010000
DTEND;TZID=Europe/Berlin:20220312T020000
SEQUENCE:1
END:VEVENT
END:VCALENDAR
