BEGIN:VCALENDAR
VERSION:2.0
PRODID:-//Sabre//Sabre VObject 4.5.8//EN
CALSCALE:GREGORIAN
BEGIN:VEVENT
UID:sabre-vobject-61d8c1d1-dea6-4097-8d35-3c0b7662be9b
DTSTAMP:20260421T182151Z
SUMMARY:Copenhagen Express
DESCRIPTION:Visit Denmark on this express trip to Copenhagen!\n
X-ALT-DESC:FMTTYPE=text/html:<!DOCTYPE HTML PUBLIC "-//W3C//DTD HTML 3.2//E
 N"><HTML><p>Visit Denmark on this express trip to Copenhagen!</p>\n</HTML>
CREATED;TZID=Europe/Berlin:20220210T110200
URL;VALUE=URI:https://kaiserslautern.armymwr.com/view-event
DTSTART;TZID=Europe/Berlin:20220304T210000
DTEND;TZID=Europe/Berlin:20220306T120000
SEQUENCE:0
END:VEVENT
END:VCALENDAR
