BEGIN:VCALENDAR
VERSION:2.0
PRODID:-//Sabre//Sabre VObject 4.5.8//EN
CALSCALE:GREGORIAN
BEGIN:VEVENT
UID:sabre-vobject-ac0d5a28-0d71-41f7-8166-f729f0d8a8b9
DTSTAMP:20260425T035936Z
SUMMARY:Valentine's Day Dinner To Go
DESCRIPTION:
X-ALT-DESC:FMTTYPE=text/html:<!DOCTYPE HTML PUBLIC "-//W3C//DTD HTML 3.2//E
 N"><HTML></HTML>
CREATED;TZID=Europe/Berlin:20220209T152642
URL;VALUE=URI:https://kaiserslautern.armymwr.com/view-event
DTSTART;TZID=Europe/Berlin:20220214T160000
DTEND;TZID=Europe/Berlin:20220214T190000
SEQUENCE:0
END:VEVENT
END:VCALENDAR
