BEGIN:VCALENDAR
VERSION:2.0
PRODID:-//Sabre//Sabre VObject 4.5.8//EN
CALSCALE:GREGORIAN
BEGIN:VEVENT
UID:sabre-vobject-1a06669b-cc32-4bcf-9cc5-cc154d527030
DTSTAMP:20260420T093055Z
SUMMARY: "Who Runs the World" Comedy Show
DESCRIPTION:
X-ALT-DESC:FMTTYPE=text/html:<!DOCTYPE HTML PUBLIC "-//W3C//DTD HTML 3.2//E
 N"><HTML></HTML>
CREATED;TZID=Europe/Berlin:20220216T112829
URL;VALUE=URI:https://kaiserslautern.armymwr.com/view-event
DTSTART;TZID=Europe/Berlin:20220318T200000
DTEND;TZID=Europe/Berlin:20220318T220000
SEQUENCE:0
END:VEVENT
END:VCALENDAR
