BEGIN:VCALENDAR
VERSION:2.0
PRODID:-//Sabre//Sabre VObject 4.5.8//EN
CALSCALE:GREGORIAN
BEGIN:VEVENT
UID:sabre-vobject-fe8aa1f8-8c8e-42ad-ab57-2213738f86f2
DTSTAMP:20260422T051529Z
SUMMARY:Performing Arts Workshop
DESCRIPTION:
X-ALT-DESC:FMTTYPE=text/html:<!DOCTYPE HTML PUBLIC "-//W3C//DTD HTML 3.2//E
 N"><HTML></HTML>
CREATED;TZID=Europe/Berlin:20220218T153657
URL;VALUE=URI:https://kaiserslautern.armymwr.com/view-event
DTSTART;TZID=Europe/Berlin:20220307T153000
DTEND;TZID=Europe/Berlin:20220307T170000
SEQUENCE:0
END:VEVENT
END:VCALENDAR
