BEGIN:VCALENDAR
VERSION:2.0
PRODID:-//Sabre//Sabre VObject 4.5.8//EN
CALSCALE:GREGORIAN
BEGIN:VEVENT
UID:sabre-vobject-2212f68a-2cf7-463a-bb66-1afade680592
DTSTAMP:20260421T002330Z
SUMMARY:All You Can Eat Wings
DESCRIPTION:
X-ALT-DESC:FMTTYPE=text/html:<!DOCTYPE HTML PUBLIC "-//W3C//DTD HTML 3.2//E
 N"><HTML></HTML>
CREATED;TZID=Europe/Berlin:20220222T164243
URL;VALUE=URI:https://kaiserslautern.armymwr.com/view-event
DTSTART;TZID=Europe/Berlin:20220316T160000
DTEND;TZID=Europe/Berlin:20220316T200000
SEQUENCE:0
END:VEVENT
END:VCALENDAR
