BEGIN:VCALENDAR
VERSION:2.0
PRODID:-//Sabre//Sabre VObject 4.5.8//EN
CALSCALE:GREGORIAN
BEGIN:VEVENT
UID:sabre-vobject-d0060ff0-1c07-4ab8-ad53-ec490c971407
DTSTAMP:20260421T004429Z
SUMMARY:The Complete Works of Shakespeare (Abridged) Auditions
DESCRIPTION:
X-ALT-DESC:FMTTYPE=text/html:<!DOCTYPE HTML PUBLIC "-//W3C//DTD HTML 3.2//E
 N"><HTML></HTML>
CREATED;TZID=Europe/Berlin:20220223T140424
URL;VALUE=URI:https://kaiserslautern.armymwr.com/view-event
DTSTART;TZID=Europe/Berlin:20220314T190000
DTEND;TZID=Europe/Berlin:20220314T210000
SEQUENCE:0
END:VEVENT
BEGIN:VEVENT
UID:sabre-vobject-a4bf2e6b-f971-4cc6-94e0-5b9b590f4bc1
DTSTAMP:20260421T004429Z
SUMMARY:The Complete Works of Shakespeare (Abridged) Auditions
DESCRIPTION:
X-ALT-DESC:FMTTYPE=text/html:<!DOCTYPE HTML PUBLIC "-//W3C//DTD HTML 3.2//E
 N"><HTML></HTML>
CREATED;TZID=Europe/Berlin:20220223T140424
URL;VALUE=URI:https://kaiserslautern.armymwr.com/view-event
DTSTART;TZID=Europe/Berlin:20220315T190000
DTEND;TZID=Europe/Berlin:20220315T210000
SEQUENCE:1
END:VEVENT
END:VCALENDAR
