BEGIN:VCALENDAR
VERSION:2.0
PRODID:-//Sabre//Sabre VObject 4.5.8//EN
CALSCALE:GREGORIAN
BEGIN:VEVENT
UID:sabre-vobject-9472799f-d2bc-4fbd-a2f2-7af888f0446e
DTSTAMP:20260424T233407Z
SUMMARY:USA Jobs Tutorial - HYBRID
DESCRIPTION:Are you looking for a government job? ACS can help you understa
 nd the process of applying for open positions available on USA Jobs.\n
X-ALT-DESC:FMTTYPE=text/html:<!DOCTYPE HTML PUBLIC "-//W3C//DTD HTML 3.2//E
 N"><HTML><p>Are you looking for a government job? ACS can help you underst
 and the process of applying for open positions available on USA Jobs.</p>\
 n</HTML>
CREATED;TZID=Europe/Berlin:20231213T152204
URL;VALUE=URI:https://kaiserslautern.armymwr.com/view-event
DTSTART;TZID=Europe/Berlin:20220614T093000
DTEND;TZID=Europe/Berlin:20220614T113000
SEQUENCE:0
END:VEVENT
BEGIN:VEVENT
UID:sabre-vobject-3fdad508-b15f-40b4-bbb1-d934f5f2be81
DTSTAMP:20260424T233407Z
SUMMARY:USA Jobs Tutorial - HYBRID
DESCRIPTION:Are you looking for a government job? ACS can help you understa
 nd the process of applying for open positions available on USA Jobs.\n
X-ALT-DESC:FMTTYPE=text/html:<!DOCTYPE HTML PUBLIC "-//W3C//DTD HTML 3.2//E
 N"><HTML><p>Are you looking for a government job? ACS can help you underst
 and the process of applying for open positions available on USA Jobs.</p>\
 n</HTML>
CREATED;TZID=Europe/Berlin:20231213T152204
URL;VALUE=URI:https://kaiserslautern.armymwr.com/view-event
DTSTART;TZID=Europe/Berlin:20220712T093000
DTEND;TZID=Europe/Berlin:20220712T113000
SEQUENCE:1
END:VEVENT
BEGIN:VEVENT
UID:sabre-vobject-c90ba810-3c5f-4412-8d4a-79f8d3fe9ca3
DTSTAMP:20260424T233407Z
SUMMARY:USA Jobs Tutorial - HYBRID
DESCRIPTION:Are you looking for a government job? ACS can help you understa
 nd the process of applying for open positions available on USA Jobs.\n
X-ALT-DESC:FMTTYPE=text/html:<!DOCTYPE HTML PUBLIC "-//W3C//DTD HTML 3.2//E
 N"><HTML><p>Are you looking for a government job? ACS can help you underst
 and the process of applying for open positions available on USA Jobs.</p>\
 n</HTML>
CREATED;TZID=Europe/Berlin:20231213T152204
URL;VALUE=URI:https://kaiserslautern.armymwr.com/view-event
DTSTART;TZID=Europe/Berlin:20220718T093000
DTEND;TZID=Europe/Berlin:20220718T113000
SEQUENCE:2
END:VEVENT
BEGIN:VEVENT
UID:sabre-vobject-2df91c68-17ad-4f18-b852-617799cec96e
DTSTAMP:20260424T233407Z
SUMMARY:USA Jobs Tutorial - HYBRID
DESCRIPTION:Are you looking for a government job? ACS can help you understa
 nd the process of applying for open positions available on USA Jobs.\n
X-ALT-DESC:FMTTYPE=text/html:<!DOCTYPE HTML PUBLIC "-//W3C//DTD HTML 3.2//E
 N"><HTML><p>Are you looking for a government job? ACS can help you underst
 and the process of applying for open positions available on USA Jobs.</p>\
 n</HTML>
CREATED;TZID=Europe/Berlin:20231213T152204
URL;VALUE=URI:https://kaiserslautern.armymwr.com/view-event
DTSTART;TZID=Europe/Berlin:20220809T093000
DTEND;TZID=Europe/Berlin:20220809T113000
SEQUENCE:3
END:VEVENT
BEGIN:VEVENT
UID:sabre-vobject-b273a021-1a7c-4c92-bfc7-c2aa99303ed1
DTSTAMP:20260424T233407Z
SUMMARY:USA Jobs Tutorial - HYBRID
DESCRIPTION:Are you looking for a government job? ACS can help you understa
 nd the process of applying for open positions available on USA Jobs.\n
X-ALT-DESC:FMTTYPE=text/html:<!DOCTYPE HTML PUBLIC "-//W3C//DTD HTML 3.2//E
 N"><HTML><p>Are you looking for a government job? ACS can help you underst
 and the process of applying for open positions available on USA Jobs.</p>\
 n</HTML>
CREATED;TZID=Europe/Berlin:20231213T152204
URL;VALUE=URI:https://kaiserslautern.armymwr.com/view-event
DTSTART;TZID=Europe/Berlin:20220906T093000
DTEND;TZID=Europe/Berlin:20220906T113000
SEQUENCE:4
END:VEVENT
BEGIN:VEVENT
UID:sabre-vobject-4940fd5c-0c57-4a2c-9293-f2230dbb3cc9
DTSTAMP:20260424T233407Z
SUMMARY:USA Jobs Tutorial - HYBRID
DESCRIPTION:Are you looking for a government job? ACS can help you understa
 nd the process of applying for open positions available on USA Jobs.\n
X-ALT-DESC:FMTTYPE=text/html:<!DOCTYPE HTML PUBLIC "-//W3C//DTD HTML 3.2//E
 N"><HTML><p>Are you looking for a government job? ACS can help you underst
 and the process of applying for open positions available on USA Jobs.</p>\
 n</HTML>
CREATED;TZID=Europe/Berlin:20231213T152204
URL;VALUE=URI:https://kaiserslautern.armymwr.com/view-event
DTSTART;TZID=Europe/Berlin:20221004T093000
DTEND;TZID=Europe/Berlin:20221004T113000
SEQUENCE:5
END:VEVENT
BEGIN:VEVENT
UID:sabre-vobject-fde6b8f0-4a2e-4f5f-88f7-39f98312428e
DTSTAMP:20260424T233407Z
SUMMARY:USA Jobs Tutorial - HYBRID
DESCRIPTION:Are you looking for a government job? ACS can help you understa
 nd the process of applying for open positions available on USA Jobs.\n
X-ALT-DESC:FMTTYPE=text/html:<!DOCTYPE HTML PUBLIC "-//W3C//DTD HTML 3.2//E
 N"><HTML><p>Are you looking for a government job? ACS can help you underst
 and the process of applying for open positions available on USA Jobs.</p>\
 n</HTML>
CREATED;TZID=Europe/Berlin:20231213T152204
URL;VALUE=URI:https://kaiserslautern.armymwr.com/view-event
DTSTART;TZID=Europe/Berlin:20221017T133000
DTEND;TZID=Europe/Berlin:20221017T143000
SEQUENCE:6
END:VEVENT
BEGIN:VEVENT
UID:sabre-vobject-064740c8-6d03-43ae-8e3b-a7174da2f599
DTSTAMP:20260424T233407Z
SUMMARY:USA Jobs Tutorial - HYBRID
DESCRIPTION:Are you looking for a government job? ACS can help you understa
 nd the process of applying for open positions available on USA Jobs.\n
X-ALT-DESC:FMTTYPE=text/html:<!DOCTYPE HTML PUBLIC "-//W3C//DTD HTML 3.2//E
 N"><HTML><p>Are you looking for a government job? ACS can help you underst
 and the process of applying for open positions available on USA Jobs.</p>\
 n</HTML>
CREATED;TZID=Europe/Berlin:20231213T152204
URL;VALUE=URI:https://kaiserslautern.armymwr.com/view-event
DTSTART;TZID=Europe/Berlin:20221101T093000
DTEND;TZID=Europe/Berlin:20221101T113000
SEQUENCE:7
END:VEVENT
BEGIN:VEVENT
UID:sabre-vobject-0ea1f7bb-2b7d-4788-8e67-05ecd05b33f1
DTSTAMP:20260424T233407Z
SUMMARY:USA Jobs Tutorial - HYBRID
DESCRIPTION:Are you looking for a government job? ACS can help you understa
 nd the process of applying for open positions available on USA Jobs.\n
X-ALT-DESC:FMTTYPE=text/html:<!DOCTYPE HTML PUBLIC "-//W3C//DTD HTML 3.2//E
 N"><HTML><p>Are you looking for a government job? ACS can help you underst
 and the process of applying for open positions available on USA Jobs.</p>\
 n</HTML>
CREATED;TZID=Europe/Berlin:20231213T152204
URL;VALUE=URI:https://kaiserslautern.armymwr.com/view-event
DTSTART;TZID=Europe/Berlin:20221206T093000
DTEND;TZID=Europe/Berlin:20221206T113000
SEQUENCE:8
END:VEVENT
BEGIN:VEVENT
UID:sabre-vobject-9e18aa78-067a-4403-9a6c-9483fc9b763a
DTSTAMP:20260424T233407Z
SUMMARY:USA Jobs Tutorial - HYBRID
DESCRIPTION:Are you looking for a government job? ACS can help you understa
 nd the process of applying for open positions available on USA Jobs.\n
X-ALT-DESC:FMTTYPE=text/html:<!DOCTYPE HTML PUBLIC "-//W3C//DTD HTML 3.2//E
 N"><HTML><p>Are you looking for a government job? ACS can help you underst
 and the process of applying for open positions available on USA Jobs.</p>\
 n</HTML>
CREATED;TZID=Europe/Berlin:20231213T152204
URL;VALUE=URI:https://kaiserslautern.armymwr.com/view-event
DTSTART;TZID=Europe/Berlin:20230103T093000
DTEND;TZID=Europe/Berlin:20230103T113000
SEQUENCE:9
END:VEVENT
BEGIN:VEVENT
UID:sabre-vobject-49e28b23-2784-4625-94af-83f4ec64d7fd
DTSTAMP:20260424T233407Z
SUMMARY:USA Jobs Tutorial - HYBRID
DESCRIPTION:Are you looking for a government job? ACS can help you understa
 nd the process of applying for open positions available on USA Jobs.\n
X-ALT-DESC:FMTTYPE=text/html:<!DOCTYPE HTML PUBLIC "-//W3C//DTD HTML 3.2//E
 N"><HTML><p>Are you looking for a government job? ACS can help you underst
 and the process of applying for open positions available on USA Jobs.</p>\
 n</HTML>
CREATED;TZID=Europe/Berlin:20231213T152204
URL;VALUE=URI:https://kaiserslautern.armymwr.com/view-event
DTSTART;TZID=Europe/Berlin:20230207T093000
DTEND;TZID=Europe/Berlin:20230207T113000
SEQUENCE:10
END:VEVENT
BEGIN:VEVENT
UID:sabre-vobject-b3b96054-6e5a-4913-a449-eec44112ab1b
DTSTAMP:20260424T233407Z
SUMMARY:USA Jobs Tutorial - HYBRID
DESCRIPTION:Are you looking for a government job? ACS can help you understa
 nd the process of applying for open positions available on USA Jobs.\n
X-ALT-DESC:FMTTYPE=text/html:<!DOCTYPE HTML PUBLIC "-//W3C//DTD HTML 3.2//E
 N"><HTML><p>Are you looking for a government job? ACS can help you underst
 and the process of applying for open positions available on USA Jobs.</p>\
 n</HTML>
CREATED;TZID=Europe/Berlin:20231213T152204
URL;VALUE=URI:https://kaiserslautern.armymwr.com/view-event
DTSTART;TZID=Europe/Berlin:20230307T093000
DTEND;TZID=Europe/Berlin:20230307T113000
SEQUENCE:11
END:VEVENT
BEGIN:VEVENT
UID:sabre-vobject-a7343bc5-ed30-4580-9e96-a8c24cd1572a
DTSTAMP:20260424T233407Z
SUMMARY:USA Jobs Tutorial - HYBRID
DESCRIPTION:Are you looking for a government job? ACS can help you understa
 nd the process of applying for open positions available on USA Jobs.\n
X-ALT-DESC:FMTTYPE=text/html:<!DOCTYPE HTML PUBLIC "-//W3C//DTD HTML 3.2//E
 N"><HTML><p>Are you looking for a government job? ACS can help you underst
 and the process of applying for open positions available on USA Jobs.</p>\
 n</HTML>
CREATED;TZID=Europe/Berlin:20231213T152204
URL;VALUE=URI:https://kaiserslautern.armymwr.com/view-event
DTSTART;TZID=Europe/Berlin:20230404T093000
DTEND;TZID=Europe/Berlin:20230404T113000
SEQUENCE:12
END:VEVENT
BEGIN:VEVENT
UID:sabre-vobject-a6dba34a-2e01-40fb-a6fa-ba7208f884c7
DTSTAMP:20260424T233407Z
SUMMARY:USA Jobs Tutorial - HYBRID
DESCRIPTION:Are you looking for a government job? ACS can help you understa
 nd the process of applying for open positions available on USA Jobs.\n
X-ALT-DESC:FMTTYPE=text/html:<!DOCTYPE HTML PUBLIC "-//W3C//DTD HTML 3.2//E
 N"><HTML><p>Are you looking for a government job? ACS can help you underst
 and the process of applying for open positions available on USA Jobs.</p>\
 n</HTML>
CREATED;TZID=Europe/Berlin:20231213T152204
URL;VALUE=URI:https://kaiserslautern.armymwr.com/view-event
DTSTART;TZID=Europe/Berlin:20230502T093000
DTEND;TZID=Europe/Berlin:20230502T113000
SEQUENCE:13
END:VEVENT
BEGIN:VEVENT
UID:sabre-vobject-e34334a8-1ab8-4170-a22d-8515ed9c1120
DTSTAMP:20260424T233407Z
SUMMARY:USA Jobs Tutorial - HYBRID
DESCRIPTION:Are you looking for a government job? ACS can help you understa
 nd the process of applying for open positions available on USA Jobs.\n
X-ALT-DESC:FMTTYPE=text/html:<!DOCTYPE HTML PUBLIC "-//W3C//DTD HTML 3.2//E
 N"><HTML><p>Are you looking for a government job? ACS can help you underst
 and the process of applying for open positions available on USA Jobs.</p>\
 n</HTML>
CREATED;TZID=Europe/Berlin:20231213T152204
URL;VALUE=URI:https://kaiserslautern.armymwr.com/view-event
DTSTART;TZID=Europe/Berlin:20230606T093000
DTEND;TZID=Europe/Berlin:20230606T113000
SEQUENCE:14
END:VEVENT
BEGIN:VEVENT
UID:sabre-vobject-7203b7be-fdf1-4105-86e6-4af52af20d51
DTSTAMP:20260424T233407Z
SUMMARY:USA Jobs Tutorial - HYBRID
DESCRIPTION:Are you looking for a government job? ACS can help you understa
 nd the process of applying for open positions available on USA Jobs.\n
X-ALT-DESC:FMTTYPE=text/html:<!DOCTYPE HTML PUBLIC "-//W3C//DTD HTML 3.2//E
 N"><HTML><p>Are you looking for a government job? ACS can help you underst
 and the process of applying for open positions available on USA Jobs.</p>\
 n</HTML>
CREATED;TZID=Europe/Berlin:20231213T152204
URL;VALUE=URI:https://kaiserslautern.armymwr.com/view-event
DTSTART;TZID=Europe/Berlin:20230705T093000
DTEND;TZID=Europe/Berlin:20230705T113000
SEQUENCE:15
END:VEVENT
BEGIN:VEVENT
UID:sabre-vobject-9218fe67-aa8c-4c82-904d-92fee7614e74
DTSTAMP:20260424T233407Z
SUMMARY:USA Jobs Tutorial - HYBRID
DESCRIPTION:Are you looking for a government job? ACS can help you understa
 nd the process of applying for open positions available on USA Jobs.\n
X-ALT-DESC:FMTTYPE=text/html:<!DOCTYPE HTML PUBLIC "-//W3C//DTD HTML 3.2//E
 N"><HTML><p>Are you looking for a government job? ACS can help you underst
 and the process of applying for open positions available on USA Jobs.</p>\
 n</HTML>
CREATED;TZID=Europe/Berlin:20231213T152204
URL;VALUE=URI:https://kaiserslautern.armymwr.com/view-event
DTSTART;TZID=Europe/Berlin:20230801T093000
DTEND;TZID=Europe/Berlin:20230801T113000
SEQUENCE:16
END:VEVENT
BEGIN:VEVENT
UID:sabre-vobject-e69d5df9-59c7-445c-822a-a23633eadeb6
DTSTAMP:20260424T233407Z
SUMMARY:USA Jobs Tutorial - HYBRID
DESCRIPTION:Are you looking for a government job? ACS can help you understa
 nd the process of applying for open positions available on USA Jobs.\n
X-ALT-DESC:FMTTYPE=text/html:<!DOCTYPE HTML PUBLIC "-//W3C//DTD HTML 3.2//E
 N"><HTML><p>Are you looking for a government job? ACS can help you underst
 and the process of applying for open positions available on USA Jobs.</p>\
 n</HTML>
CREATED;TZID=Europe/Berlin:20231213T152204
URL;VALUE=URI:https://kaiserslautern.armymwr.com/view-event
DTSTART;TZID=Europe/Berlin:20230919T093000
DTEND;TZID=Europe/Berlin:20230919T113000
SEQUENCE:17
END:VEVENT
BEGIN:VEVENT
UID:sabre-vobject-4a19ad4f-766c-4c88-8722-34646c61019d
DTSTAMP:20260424T233407Z
SUMMARY:USA Jobs Tutorial - HYBRID
DESCRIPTION:Are you looking for a government job? ACS can help you understa
 nd the process of applying for open positions available on USA Jobs.\n
X-ALT-DESC:FMTTYPE=text/html:<!DOCTYPE HTML PUBLIC "-//W3C//DTD HTML 3.2//E
 N"><HTML><p>Are you looking for a government job? ACS can help you underst
 and the process of applying for open positions available on USA Jobs.</p>\
 n</HTML>
CREATED;TZID=Europe/Berlin:20231213T152204
URL;VALUE=URI:https://kaiserslautern.armymwr.com/view-event
DTSTART;TZID=Europe/Berlin:20231003T090000
DTEND;TZID=Europe/Berlin:20231003T113000
SEQUENCE:18
END:VEVENT
BEGIN:VEVENT
UID:sabre-vobject-6ef2585c-3f79-4a71-ab6d-80579c31077b
DTSTAMP:20260424T233407Z
SUMMARY:USA Jobs Tutorial - HYBRID
DESCRIPTION:Are you looking for a government job? ACS can help you understa
 nd the process of applying for open positions available on USA Jobs.\n
X-ALT-DESC:FMTTYPE=text/html:<!DOCTYPE HTML PUBLIC "-//W3C//DTD HTML 3.2//E
 N"><HTML><p>Are you looking for a government job? ACS can help you underst
 and the process of applying for open positions available on USA Jobs.</p>\
 n</HTML>
CREATED;TZID=Europe/Berlin:20231213T152204
URL;VALUE=URI:https://kaiserslautern.armymwr.com/view-event
DTSTART;TZID=Europe/Berlin:20231107T090000
DTEND;TZID=Europe/Berlin:20231107T113000
SEQUENCE:19
END:VEVENT
BEGIN:VEVENT
UID:sabre-vobject-0c255b61-eb77-45c9-abed-6ab3f3b28295
DTSTAMP:20260424T233407Z
SUMMARY:USA Jobs Tutorial - HYBRID
DESCRIPTION:Are you looking for a government job? ACS can help you understa
 nd the process of applying for open positions available on USA Jobs.\n
X-ALT-DESC:FMTTYPE=text/html:<!DOCTYPE HTML PUBLIC "-//W3C//DTD HTML 3.2//E
 N"><HTML><p>Are you looking for a government job? ACS can help you underst
 and the process of applying for open positions available on USA Jobs.</p>\
 n</HTML>
CREATED;TZID=Europe/Berlin:20231213T152204
URL;VALUE=URI:https://kaiserslautern.armymwr.com/view-event
DTSTART;TZID=Europe/Berlin:20240102T090000
DTEND;TZID=Europe/Berlin:20240102T113000
SEQUENCE:20
END:VEVENT
END:VCALENDAR
