BEGIN:VCALENDAR
VERSION:2.0
PRODID:-//Sabre//Sabre VObject 4.5.8//EN
CALSCALE:GREGORIAN
BEGIN:VEVENT
UID:sabre-vobject-72d56b57-9331-4c45-b9c8-661ad1a28981
DTSTAMP:20260426T044318Z
SUMMARY:Know Your Credit Score HYBRID
DESCRIPTION:Learn all about credit with this course offered In-Person and O
 nline!\n
X-ALT-DESC:FMTTYPE=text/html:<!DOCTYPE HTML PUBLIC "-//W3C//DTD HTML 3.2//E
 N"><HTML><p>Learn all about credit with this course offered In-Person and 
 Online!</p>\n</HTML>
CREATED;TZID=Europe/Berlin:20221020T103704
URL;VALUE=URI:https://kaiserslautern.armymwr.com/view-event
DTSTART;TZID=Europe/Berlin:20220608T090000
DTEND;TZID=Europe/Berlin:20220608T103000
SEQUENCE:0
END:VEVENT
BEGIN:VEVENT
UID:sabre-vobject-b3750901-29b8-44e5-a4b6-4f5ab49194ad
DTSTAMP:20260426T044318Z
SUMMARY:Know Your Credit Score HYBRID
DESCRIPTION:Learn all about credit with this course offered In-Person and O
 nline!\n
X-ALT-DESC:FMTTYPE=text/html:<!DOCTYPE HTML PUBLIC "-//W3C//DTD HTML 3.2//E
 N"><HTML><p>Learn all about credit with this course offered In-Person and 
 Online!</p>\n</HTML>
CREATED;TZID=Europe/Berlin:20221020T103704
URL;VALUE=URI:https://kaiserslautern.armymwr.com/view-event
DTSTART;TZID=Europe/Berlin:20220727T090000
DTEND;TZID=Europe/Berlin:20220727T103000
SEQUENCE:1
END:VEVENT
BEGIN:VEVENT
UID:sabre-vobject-e4e50ed6-0101-4859-9d49-e421e225810d
DTSTAMP:20260426T044318Z
SUMMARY:Know Your Credit Score HYBRID
DESCRIPTION:Learn all about credit with this course offered In-Person and O
 nline!\n
X-ALT-DESC:FMTTYPE=text/html:<!DOCTYPE HTML PUBLIC "-//W3C//DTD HTML 3.2//E
 N"><HTML><p>Learn all about credit with this course offered In-Person and 
 Online!</p>\n</HTML>
CREATED;TZID=Europe/Berlin:20221020T103704
URL;VALUE=URI:https://kaiserslautern.armymwr.com/view-event
DTSTART;TZID=Europe/Berlin:20221109T090000
DTEND;TZID=Europe/Berlin:20221109T103000
SEQUENCE:2
END:VEVENT
END:VCALENDAR
