BEGIN:VCALENDAR
VERSION:2.0
PRODID:-//Sabre//Sabre VObject 4.5.8//EN
CALSCALE:GREGORIAN
BEGIN:VEVENT
UID:sabre-vobject-32a6ba21-51dd-4cd9-b6e4-40acf7a02187
DTSTAMP:20260424T204253Z
SUMMARY:SFRG Command Family Readiness Representative Training (HYBRID)
DESCRIPTION:Learn about the roles of the CFRR.&nbsp\;\n
X-ALT-DESC:FMTTYPE=text/html:<!DOCTYPE HTML PUBLIC "-//W3C//DTD HTML 3.2//E
 N"><HTML><p>Learn about the roles of the CFRR.&nbsp\;</p>\n</HTML>
CREATED;TZID=Europe/Berlin:20231213T153316
URL;VALUE=URI:https://kaiserslautern.armymwr.com/view-event
DTSTART;TZID=Europe/Berlin:20220609T100000
DTEND;TZID=Europe/Berlin:20220609T120000
SEQUENCE:0
END:VEVENT
BEGIN:VEVENT
UID:sabre-vobject-e619a7fb-59c3-4432-8f2d-f6d807947354
DTSTAMP:20260424T204253Z
SUMMARY:SFRG Command Family Readiness Representative Training (HYBRID)
DESCRIPTION:Learn about the roles of the CFRR.&nbsp\;\n
X-ALT-DESC:FMTTYPE=text/html:<!DOCTYPE HTML PUBLIC "-//W3C//DTD HTML 3.2//E
 N"><HTML><p>Learn about the roles of the CFRR.&nbsp\;</p>\n</HTML>
CREATED;TZID=Europe/Berlin:20231213T153316
URL;VALUE=URI:https://kaiserslautern.armymwr.com/view-event
DTSTART;TZID=Europe/Berlin:20221201T100000
DTEND;TZID=Europe/Berlin:20221201T120000
SEQUENCE:1
END:VEVENT
BEGIN:VEVENT
UID:sabre-vobject-9bbda9cc-2777-41d2-b341-65c1be9d1ae9
DTSTAMP:20260424T204253Z
SUMMARY:SFRG Command Family Readiness Representative Training (HYBRID)
DESCRIPTION:Learn about the roles of the CFRR.&nbsp\;\n
X-ALT-DESC:FMTTYPE=text/html:<!DOCTYPE HTML PUBLIC "-//W3C//DTD HTML 3.2//E
 N"><HTML><p>Learn about the roles of the CFRR.&nbsp\;</p>\n</HTML>
CREATED;TZID=Europe/Berlin:20231213T153316
URL;VALUE=URI:https://kaiserslautern.armymwr.com/view-event
DTSTART;TZID=Europe/Berlin:20230105T100000
DTEND;TZID=Europe/Berlin:20230105T120000
SEQUENCE:2
END:VEVENT
BEGIN:VEVENT
UID:sabre-vobject-5a20f67a-69a5-4cb7-8fb4-49bc046308c1
DTSTAMP:20260424T204253Z
SUMMARY:SFRG Command Family Readiness Representative Training (HYBRID)
DESCRIPTION:Learn about the roles of the CFRR.&nbsp\;\n
X-ALT-DESC:FMTTYPE=text/html:<!DOCTYPE HTML PUBLIC "-//W3C//DTD HTML 3.2//E
 N"><HTML><p>Learn about the roles of the CFRR.&nbsp\;</p>\n</HTML>
CREATED;TZID=Europe/Berlin:20231213T153316
URL;VALUE=URI:https://kaiserslautern.armymwr.com/view-event
DTSTART;TZID=Europe/Berlin:20230202T100000
DTEND;TZID=Europe/Berlin:20230202T120000
SEQUENCE:3
END:VEVENT
BEGIN:VEVENT
UID:sabre-vobject-396c2660-1c46-49f9-904c-20f724fbb673
DTSTAMP:20260424T204253Z
SUMMARY:SFRG Command Family Readiness Representative Training (HYBRID)
DESCRIPTION:Learn about the roles of the CFRR.&nbsp\;\n
X-ALT-DESC:FMTTYPE=text/html:<!DOCTYPE HTML PUBLIC "-//W3C//DTD HTML 3.2//E
 N"><HTML><p>Learn about the roles of the CFRR.&nbsp\;</p>\n</HTML>
CREATED;TZID=Europe/Berlin:20231213T153316
URL;VALUE=URI:https://kaiserslautern.armymwr.com/view-event
DTSTART;TZID=Europe/Berlin:20230302T100000
DTEND;TZID=Europe/Berlin:20230302T120000
SEQUENCE:4
END:VEVENT
BEGIN:VEVENT
UID:sabre-vobject-edce7496-5b5e-4629-9d99-3b53eaa5b578
DTSTAMP:20260424T204253Z
SUMMARY:SFRG Command Family Readiness Representative Training (HYBRID)
DESCRIPTION:Learn about the roles of the CFRR.&nbsp\;\n
X-ALT-DESC:FMTTYPE=text/html:<!DOCTYPE HTML PUBLIC "-//W3C//DTD HTML 3.2//E
 N"><HTML><p>Learn about the roles of the CFRR.&nbsp\;</p>\n</HTML>
CREATED;TZID=Europe/Berlin:20231213T153316
URL;VALUE=URI:https://kaiserslautern.armymwr.com/view-event
DTSTART;TZID=Europe/Berlin:20230406T100000
DTEND;TZID=Europe/Berlin:20230406T120000
SEQUENCE:5
END:VEVENT
BEGIN:VEVENT
UID:sabre-vobject-c97c8906-4c55-4729-90e4-9cdc5fea3094
DTSTAMP:20260424T204253Z
SUMMARY:SFRG Command Family Readiness Representative Training (HYBRID)
DESCRIPTION:Learn about the roles of the CFRR.&nbsp\;\n
X-ALT-DESC:FMTTYPE=text/html:<!DOCTYPE HTML PUBLIC "-//W3C//DTD HTML 3.2//E
 N"><HTML><p>Learn about the roles of the CFRR.&nbsp\;</p>\n</HTML>
CREATED;TZID=Europe/Berlin:20231213T153316
URL;VALUE=URI:https://kaiserslautern.armymwr.com/view-event
DTSTART;TZID=Europe/Berlin:20230601T100000
DTEND;TZID=Europe/Berlin:20230601T120000
SEQUENCE:6
END:VEVENT
BEGIN:VEVENT
UID:sabre-vobject-e55222bd-954d-4f1c-ab0d-6906753d11dc
DTSTAMP:20260424T204253Z
SUMMARY:SFRG Command Family Readiness Representative Training (HYBRID)
DESCRIPTION:Learn about the roles of the CFRR.&nbsp\;\n
X-ALT-DESC:FMTTYPE=text/html:<!DOCTYPE HTML PUBLIC "-//W3C//DTD HTML 3.2//E
 N"><HTML><p>Learn about the roles of the CFRR.&nbsp\;</p>\n</HTML>
CREATED;TZID=Europe/Berlin:20231213T153316
URL;VALUE=URI:https://kaiserslautern.armymwr.com/view-event
DTSTART;TZID=Europe/Berlin:20230706T100000
DTEND;TZID=Europe/Berlin:20230706T120000
SEQUENCE:7
END:VEVENT
BEGIN:VEVENT
UID:sabre-vobject-a04d39fc-8ff9-46bc-845b-f4579808e1e9
DTSTAMP:20260424T204253Z
SUMMARY:SFRG Command Family Readiness Representative Training (HYBRID)
DESCRIPTION:Learn about the roles of the CFRR.&nbsp\;\n
X-ALT-DESC:FMTTYPE=text/html:<!DOCTYPE HTML PUBLIC "-//W3C//DTD HTML 3.2//E
 N"><HTML><p>Learn about the roles of the CFRR.&nbsp\;</p>\n</HTML>
CREATED;TZID=Europe/Berlin:20231213T153316
URL;VALUE=URI:https://kaiserslautern.armymwr.com/view-event
DTSTART;TZID=Europe/Berlin:20230803T100000
DTEND;TZID=Europe/Berlin:20230803T120000
SEQUENCE:8
END:VEVENT
BEGIN:VEVENT
UID:sabre-vobject-75c70f54-8a1b-4900-9dcd-6cad192d4e94
DTSTAMP:20260424T204253Z
SUMMARY:SFRG Command Family Readiness Representative Training (HYBRID)
DESCRIPTION:Learn about the roles of the CFRR.&nbsp\;\n
X-ALT-DESC:FMTTYPE=text/html:<!DOCTYPE HTML PUBLIC "-//W3C//DTD HTML 3.2//E
 N"><HTML><p>Learn about the roles of the CFRR.&nbsp\;</p>\n</HTML>
CREATED;TZID=Europe/Berlin:20231213T153316
URL;VALUE=URI:https://kaiserslautern.armymwr.com/view-event
DTSTART;TZID=Europe/Berlin:20230907T100000
DTEND;TZID=Europe/Berlin:20230907T120000
SEQUENCE:9
END:VEVENT
BEGIN:VEVENT
UID:sabre-vobject-7b104add-62a3-4c32-81c7-d04de96abaa4
DTSTAMP:20260424T204253Z
SUMMARY:SFRG Command Family Readiness Representative Training (HYBRID)
DESCRIPTION:Learn about the roles of the CFRR.&nbsp\;\n
X-ALT-DESC:FMTTYPE=text/html:<!DOCTYPE HTML PUBLIC "-//W3C//DTD HTML 3.2//E
 N"><HTML><p>Learn about the roles of the CFRR.&nbsp\;</p>\n</HTML>
CREATED;TZID=Europe/Berlin:20231213T153316
URL;VALUE=URI:https://kaiserslautern.armymwr.com/view-event
DTSTART;TZID=Europe/Berlin:20231005T100000
DTEND;TZID=Europe/Berlin:20231005T120000
SEQUENCE:10
END:VEVENT
BEGIN:VEVENT
UID:sabre-vobject-990574bb-e486-4519-9006-d0b368672e60
DTSTAMP:20260424T204253Z
SUMMARY:SFRG Command Family Readiness Representative Training (HYBRID)
DESCRIPTION:Learn about the roles of the CFRR.&nbsp\;\n
X-ALT-DESC:FMTTYPE=text/html:<!DOCTYPE HTML PUBLIC "-//W3C//DTD HTML 3.2//E
 N"><HTML><p>Learn about the roles of the CFRR.&nbsp\;</p>\n</HTML>
CREATED;TZID=Europe/Berlin:20231213T153316
URL;VALUE=URI:https://kaiserslautern.armymwr.com/view-event
DTSTART;TZID=Europe/Berlin:20231102T100000
DTEND;TZID=Europe/Berlin:20231102T120000
SEQUENCE:11
END:VEVENT
BEGIN:VEVENT
UID:sabre-vobject-c976d007-c7ad-496d-b0c8-2fe3c2ee04cf
DTSTAMP:20260424T204253Z
SUMMARY:SFRG Command Family Readiness Representative Training (HYBRID)
DESCRIPTION:Learn about the roles of the CFRR.&nbsp\;\n
X-ALT-DESC:FMTTYPE=text/html:<!DOCTYPE HTML PUBLIC "-//W3C//DTD HTML 3.2//E
 N"><HTML><p>Learn about the roles of the CFRR.&nbsp\;</p>\n</HTML>
CREATED;TZID=Europe/Berlin:20231213T153316
URL;VALUE=URI:https://kaiserslautern.armymwr.com/view-event
DTSTART;TZID=Europe/Berlin:20231207T100000
DTEND;TZID=Europe/Berlin:20231207T120000
SEQUENCE:12
END:VEVENT
BEGIN:VEVENT
UID:sabre-vobject-2abf6527-59e9-4094-8ebb-a8c5bb2da266
DTSTAMP:20260424T204253Z
SUMMARY:SFRG Command Family Readiness Representative Training (HYBRID)
DESCRIPTION:Learn about the roles of the CFRR.&nbsp\;\n
X-ALT-DESC:FMTTYPE=text/html:<!DOCTYPE HTML PUBLIC "-//W3C//DTD HTML 3.2//E
 N"><HTML><p>Learn about the roles of the CFRR.&nbsp\;</p>\n</HTML>
CREATED;TZID=Europe/Berlin:20231213T153316
URL;VALUE=URI:https://kaiserslautern.armymwr.com/view-event
DTSTART;TZID=Europe/Berlin:20240104T100000
DTEND;TZID=Europe/Berlin:20240104T120000
SEQUENCE:13
END:VEVENT
END:VCALENDAR
