BEGIN:VCALENDAR
VERSION:2.0
PRODID:-//Sabre//Sabre VObject 4.5.8//EN
CALSCALE:GREGORIAN
BEGIN:VEVENT
UID:sabre-vobject-65cea8ac-b475-43b3-9677-eb2ce9a66198
DTSTAMP:20260425T184833Z
SUMMARY:Financial Options of Continuation Pay - Hybrid
DESCRIPTION:Learn how you can maximize your continuation pay benefit of BRS
 .\n
X-ALT-DESC:FMTTYPE=text/html:<!DOCTYPE HTML PUBLIC "-//W3C//DTD HTML 3.2//E
 N"><HTML><p>Learn how you can maximize your continuation pay benefit of BR
 S.</p>\n</HTML>
CREATED;TZID=Europe/Berlin:20230111T145439
URL;VALUE=URI:https://kaiserslautern.armymwr.com/view-event
DTSTART;TZID=Europe/Berlin:20220615T090000
DTEND;TZID=Europe/Berlin:20220615T103000
SEQUENCE:0
END:VEVENT
BEGIN:VEVENT
UID:sabre-vobject-3726968b-cb23-42e6-893b-1e738c3fcf78
DTSTAMP:20260425T184833Z
SUMMARY:Financial Options of Continuation Pay - Hybrid
DESCRIPTION:Learn how you can maximize your continuation pay benefit of BRS
 .\n
X-ALT-DESC:FMTTYPE=text/html:<!DOCTYPE HTML PUBLIC "-//W3C//DTD HTML 3.2//E
 N"><HTML><p>Learn how you can maximize your continuation pay benefit of BR
 S.</p>\n</HTML>
CREATED;TZID=Europe/Berlin:20230111T145439
URL;VALUE=URI:https://kaiserslautern.armymwr.com/view-event
DTSTART;TZID=Europe/Berlin:20221208T090000
DTEND;TZID=Europe/Berlin:20221208T103000
SEQUENCE:1
END:VEVENT
BEGIN:VEVENT
UID:sabre-vobject-b4741ac1-abd7-404b-9576-b5613048bff0
DTSTAMP:20260425T184833Z
SUMMARY:Financial Options of Continuation Pay - Hybrid
DESCRIPTION:Learn how you can maximize your continuation pay benefit of BRS
 .\n
X-ALT-DESC:FMTTYPE=text/html:<!DOCTYPE HTML PUBLIC "-//W3C//DTD HTML 3.2//E
 N"><HTML><p>Learn how you can maximize your continuation pay benefit of BR
 S.</p>\n</HTML>
CREATED;TZID=Europe/Berlin:20230111T145439
URL;VALUE=URI:https://kaiserslautern.armymwr.com/view-event
DTSTART;TZID=Europe/Berlin:20230223T090000
DTEND;TZID=Europe/Berlin:20230223T103000
SEQUENCE:2
END:VEVENT
END:VCALENDAR
