BEGIN:VCALENDAR
VERSION:2.0
PRODID:-//Sabre//Sabre VObject 4.5.8//EN
CALSCALE:GREGORIAN
BEGIN:VEVENT
UID:sabre-vobject-45e30c69-c9eb-4f48-b476-4bdec699e575
DTSTAMP:20260424T112021Z
SUMMARY:Better Resume Writing - HYBRID
DESCRIPTION:Are you looking for a civilian or contracting? Let ACS help you
  in your career search!\n
X-ALT-DESC:FMTTYPE=text/html:<!DOCTYPE HTML PUBLIC "-//W3C//DTD HTML 3.2//E
 N"><HTML><p>Are you looking for a civilian or contracting? Let ACS help yo
 u in your career search!</p>\n</HTML>
CREATED;TZID=Europe/Berlin:20231213T102359
URL;VALUE=URI:https://kaiserslautern.armymwr.com/view-event
DTSTART;TZID=Europe/Berlin:20220621T093000
DTEND;TZID=Europe/Berlin:20220621T110000
SEQUENCE:0
END:VEVENT
BEGIN:VEVENT
UID:sabre-vobject-ab39441c-5db7-4b0c-b78f-ddea5797e2e3
DTSTAMP:20260424T112021Z
SUMMARY:Better Resume Writing - HYBRID
DESCRIPTION:Are you looking for a civilian or contracting? Let ACS help you
  in your career search!\n
X-ALT-DESC:FMTTYPE=text/html:<!DOCTYPE HTML PUBLIC "-//W3C//DTD HTML 3.2//E
 N"><HTML><p>Are you looking for a civilian or contracting? Let ACS help yo
 u in your career search!</p>\n</HTML>
CREATED;TZID=Europe/Berlin:20231213T102359
URL;VALUE=URI:https://kaiserslautern.armymwr.com/view-event
DTSTART;TZID=Europe/Berlin:20220719T093000
DTEND;TZID=Europe/Berlin:20220719T110000
SEQUENCE:1
END:VEVENT
BEGIN:VEVENT
UID:sabre-vobject-ffe21a3f-46eb-4d2e-a5b1-e2a0e12390b3
DTSTAMP:20260424T112021Z
SUMMARY:Better Resume Writing - HYBRID
DESCRIPTION:Are you looking for a civilian or contracting? Let ACS help you
  in your career search!\n
X-ALT-DESC:FMTTYPE=text/html:<!DOCTYPE HTML PUBLIC "-//W3C//DTD HTML 3.2//E
 N"><HTML><p>Are you looking for a civilian or contracting? Let ACS help yo
 u in your career search!</p>\n</HTML>
CREATED;TZID=Europe/Berlin:20231213T102359
URL;VALUE=URI:https://kaiserslautern.armymwr.com/view-event
DTSTART;TZID=Europe/Berlin:20220823T093000
DTEND;TZID=Europe/Berlin:20220823T110000
SEQUENCE:2
END:VEVENT
BEGIN:VEVENT
UID:sabre-vobject-4c9796b3-5f0d-4e12-b000-b8387e390aee
DTSTAMP:20260424T112021Z
SUMMARY:Better Resume Writing - HYBRID
DESCRIPTION:Are you looking for a civilian or contracting? Let ACS help you
  in your career search!\n
X-ALT-DESC:FMTTYPE=text/html:<!DOCTYPE HTML PUBLIC "-//W3C//DTD HTML 3.2//E
 N"><HTML><p>Are you looking for a civilian or contracting? Let ACS help yo
 u in your career search!</p>\n</HTML>
CREATED;TZID=Europe/Berlin:20231213T102359
URL;VALUE=URI:https://kaiserslautern.armymwr.com/view-event
DTSTART;TZID=Europe/Berlin:20220920T093000
DTEND;TZID=Europe/Berlin:20220920T103000
SEQUENCE:3
END:VEVENT
BEGIN:VEVENT
UID:sabre-vobject-3775dc07-66e9-41a2-8e15-e207ef1faed4
DTSTAMP:20260424T112021Z
SUMMARY:Better Resume Writing - HYBRID
DESCRIPTION:Are you looking for a civilian or contracting? Let ACS help you
  in your career search!\n
X-ALT-DESC:FMTTYPE=text/html:<!DOCTYPE HTML PUBLIC "-//W3C//DTD HTML 3.2//E
 N"><HTML><p>Are you looking for a civilian or contracting? Let ACS help yo
 u in your career search!</p>\n</HTML>
CREATED;TZID=Europe/Berlin:20231213T102359
URL;VALUE=URI:https://kaiserslautern.armymwr.com/view-event
DTSTART;TZID=Europe/Berlin:20221018T093000
DTEND;TZID=Europe/Berlin:20221018T110000
SEQUENCE:4
END:VEVENT
BEGIN:VEVENT
UID:sabre-vobject-c4a30c73-4a66-4e28-b1f9-b3a2516b4a5c
DTSTAMP:20260424T112021Z
SUMMARY:Better Resume Writing - HYBRID
DESCRIPTION:Are you looking for a civilian or contracting? Let ACS help you
  in your career search!\n
X-ALT-DESC:FMTTYPE=text/html:<!DOCTYPE HTML PUBLIC "-//W3C//DTD HTML 3.2//E
 N"><HTML><p>Are you looking for a civilian or contracting? Let ACS help yo
 u in your career search!</p>\n</HTML>
CREATED;TZID=Europe/Berlin:20231213T102359
URL;VALUE=URI:https://kaiserslautern.armymwr.com/view-event
DTSTART;TZID=Europe/Berlin:20221115T093000
DTEND;TZID=Europe/Berlin:20221115T110000
SEQUENCE:5
END:VEVENT
BEGIN:VEVENT
UID:sabre-vobject-99110bb0-7622-4316-b15b-fdea7d0b334d
DTSTAMP:20260424T112021Z
SUMMARY:Better Resume Writing - HYBRID
DESCRIPTION:Are you looking for a civilian or contracting? Let ACS help you
  in your career search!\n
X-ALT-DESC:FMTTYPE=text/html:<!DOCTYPE HTML PUBLIC "-//W3C//DTD HTML 3.2//E
 N"><HTML><p>Are you looking for a civilian or contracting? Let ACS help yo
 u in your career search!</p>\n</HTML>
CREATED;TZID=Europe/Berlin:20231213T102359
URL;VALUE=URI:https://kaiserslautern.armymwr.com/view-event
DTSTART;TZID=Europe/Berlin:20221220T093000
DTEND;TZID=Europe/Berlin:20221220T110000
SEQUENCE:6
END:VEVENT
BEGIN:VEVENT
UID:sabre-vobject-5d64aaee-c721-4ca1-b0b2-635abc843325
DTSTAMP:20260424T112021Z
SUMMARY:Better Resume Writing - HYBRID
DESCRIPTION:Are you looking for a civilian or contracting? Let ACS help you
  in your career search!\n
X-ALT-DESC:FMTTYPE=text/html:<!DOCTYPE HTML PUBLIC "-//W3C//DTD HTML 3.2//E
 N"><HTML><p>Are you looking for a civilian or contracting? Let ACS help yo
 u in your career search!</p>\n</HTML>
CREATED;TZID=Europe/Berlin:20231213T102359
URL;VALUE=URI:https://kaiserslautern.armymwr.com/view-event
DTSTART;TZID=Europe/Berlin:20230117T093000
DTEND;TZID=Europe/Berlin:20230117T110000
SEQUENCE:7
END:VEVENT
BEGIN:VEVENT
UID:sabre-vobject-1c896a55-1054-48e7-8081-3d063042efb5
DTSTAMP:20260424T112021Z
SUMMARY:Better Resume Writing - HYBRID
DESCRIPTION:Are you looking for a civilian or contracting? Let ACS help you
  in your career search!\n
X-ALT-DESC:FMTTYPE=text/html:<!DOCTYPE HTML PUBLIC "-//W3C//DTD HTML 3.2//E
 N"><HTML><p>Are you looking for a civilian or contracting? Let ACS help yo
 u in your career search!</p>\n</HTML>
CREATED;TZID=Europe/Berlin:20231213T102359
URL;VALUE=URI:https://kaiserslautern.armymwr.com/view-event
DTSTART;TZID=Europe/Berlin:20230228T093000
DTEND;TZID=Europe/Berlin:20230228T110000
SEQUENCE:8
END:VEVENT
BEGIN:VEVENT
UID:sabre-vobject-942bc9d6-ffd6-4e4a-a6f8-3ccf4bed45fb
DTSTAMP:20260424T112021Z
SUMMARY:Better Resume Writing - HYBRID
DESCRIPTION:Are you looking for a civilian or contracting? Let ACS help you
  in your career search!\n
X-ALT-DESC:FMTTYPE=text/html:<!DOCTYPE HTML PUBLIC "-//W3C//DTD HTML 3.2//E
 N"><HTML><p>Are you looking for a civilian or contracting? Let ACS help yo
 u in your career search!</p>\n</HTML>
CREATED;TZID=Europe/Berlin:20231213T102359
URL;VALUE=URI:https://kaiserslautern.armymwr.com/view-event
DTSTART;TZID=Europe/Berlin:20230309T093000
DTEND;TZID=Europe/Berlin:20230309T103000
SEQUENCE:9
END:VEVENT
BEGIN:VEVENT
UID:sabre-vobject-1fae94d0-5b41-4552-b0ed-790e522521df
DTSTAMP:20260424T112021Z
SUMMARY:Better Resume Writing - HYBRID
DESCRIPTION:Are you looking for a civilian or contracting? Let ACS help you
  in your career search!\n
X-ALT-DESC:FMTTYPE=text/html:<!DOCTYPE HTML PUBLIC "-//W3C//DTD HTML 3.2//E
 N"><HTML><p>Are you looking for a civilian or contracting? Let ACS help yo
 u in your career search!</p>\n</HTML>
CREATED;TZID=Europe/Berlin:20231213T102359
URL;VALUE=URI:https://kaiserslautern.armymwr.com/view-event
DTSTART;TZID=Europe/Berlin:20230418T093000
DTEND;TZID=Europe/Berlin:20230418T103000
SEQUENCE:10
END:VEVENT
BEGIN:VEVENT
UID:sabre-vobject-5aebc660-72e3-4184-8815-be9ecfff5cbc
DTSTAMP:20260424T112021Z
SUMMARY:Better Resume Writing - HYBRID
DESCRIPTION:Are you looking for a civilian or contracting? Let ACS help you
  in your career search!\n
X-ALT-DESC:FMTTYPE=text/html:<!DOCTYPE HTML PUBLIC "-//W3C//DTD HTML 3.2//E
 N"><HTML><p>Are you looking for a civilian or contracting? Let ACS help yo
 u in your career search!</p>\n</HTML>
CREATED;TZID=Europe/Berlin:20231213T102359
URL;VALUE=URI:https://kaiserslautern.armymwr.com/view-event
DTSTART;TZID=Europe/Berlin:20230523T093000
DTEND;TZID=Europe/Berlin:20230523T103000
SEQUENCE:11
END:VEVENT
BEGIN:VEVENT
UID:sabre-vobject-896038b3-8a52-463d-8c2a-a2c4efd3aef2
DTSTAMP:20260424T112021Z
SUMMARY:Better Resume Writing - HYBRID
DESCRIPTION:Are you looking for a civilian or contracting? Let ACS help you
  in your career search!\n
X-ALT-DESC:FMTTYPE=text/html:<!DOCTYPE HTML PUBLIC "-//W3C//DTD HTML 3.2//E
 N"><HTML><p>Are you looking for a civilian or contracting? Let ACS help yo
 u in your career search!</p>\n</HTML>
CREATED;TZID=Europe/Berlin:20231213T102359
URL;VALUE=URI:https://kaiserslautern.armymwr.com/view-event
DTSTART;TZID=Europe/Berlin:20230620T093000
DTEND;TZID=Europe/Berlin:20230620T103000
SEQUENCE:12
END:VEVENT
BEGIN:VEVENT
UID:sabre-vobject-1c0b45db-f019-4f5d-b8fd-8fae03b3c2d2
DTSTAMP:20260424T112021Z
SUMMARY:Better Resume Writing - HYBRID
DESCRIPTION:Are you looking for a civilian or contracting? Let ACS help you
  in your career search!\n
X-ALT-DESC:FMTTYPE=text/html:<!DOCTYPE HTML PUBLIC "-//W3C//DTD HTML 3.2//E
 N"><HTML><p>Are you looking for a civilian or contracting? Let ACS help yo
 u in your career search!</p>\n</HTML>
CREATED;TZID=Europe/Berlin:20231213T102359
URL;VALUE=URI:https://kaiserslautern.armymwr.com/view-event
DTSTART;TZID=Europe/Berlin:20230718T093000
DTEND;TZID=Europe/Berlin:20230718T103000
SEQUENCE:13
END:VEVENT
BEGIN:VEVENT
UID:sabre-vobject-cb6df062-2c28-4399-b7d0-9dab7cbbe013
DTSTAMP:20260424T112021Z
SUMMARY:Better Resume Writing - HYBRID
DESCRIPTION:Are you looking for a civilian or contracting? Let ACS help you
  in your career search!\n
X-ALT-DESC:FMTTYPE=text/html:<!DOCTYPE HTML PUBLIC "-//W3C//DTD HTML 3.2//E
 N"><HTML><p>Are you looking for a civilian or contracting? Let ACS help yo
 u in your career search!</p>\n</HTML>
CREATED;TZID=Europe/Berlin:20231213T102359
URL;VALUE=URI:https://kaiserslautern.armymwr.com/view-event
DTSTART;TZID=Europe/Berlin:20230815T093000
DTEND;TZID=Europe/Berlin:20230815T103000
SEQUENCE:14
END:VEVENT
BEGIN:VEVENT
UID:sabre-vobject-8e582c9f-1c70-4db0-8b3a-c13c14350c55
DTSTAMP:20260424T112021Z
SUMMARY:Better Resume Writing - HYBRID
DESCRIPTION:Are you looking for a civilian or contracting? Let ACS help you
  in your career search!\n
X-ALT-DESC:FMTTYPE=text/html:<!DOCTYPE HTML PUBLIC "-//W3C//DTD HTML 3.2//E
 N"><HTML><p>Are you looking for a civilian or contracting? Let ACS help yo
 u in your career search!</p>\n</HTML>
CREATED;TZID=Europe/Berlin:20231213T102359
URL;VALUE=URI:https://kaiserslautern.armymwr.com/view-event
DTSTART;TZID=Europe/Berlin:20230905T093000
DTEND;TZID=Europe/Berlin:20230905T103000
SEQUENCE:15
END:VEVENT
BEGIN:VEVENT
UID:sabre-vobject-91dfccf0-5bcd-44d9-8bea-b3b3463b40ad
DTSTAMP:20260424T112021Z
SUMMARY:Better Resume Writing - HYBRID
DESCRIPTION:Are you looking for a civilian or contracting? Let ACS help you
  in your career search!\n
X-ALT-DESC:FMTTYPE=text/html:<!DOCTYPE HTML PUBLIC "-//W3C//DTD HTML 3.2//E
 N"><HTML><p>Are you looking for a civilian or contracting? Let ACS help yo
 u in your career search!</p>\n</HTML>
CREATED;TZID=Europe/Berlin:20231213T102359
URL;VALUE=URI:https://kaiserslautern.armymwr.com/view-event
DTSTART;TZID=Europe/Berlin:20231017T093000
DTEND;TZID=Europe/Berlin:20231017T103000
SEQUENCE:16
END:VEVENT
BEGIN:VEVENT
UID:sabre-vobject-82427ca9-b981-4f89-9c60-e3774dce7daf
DTSTAMP:20260424T112021Z
SUMMARY:Better Resume Writing - HYBRID
DESCRIPTION:Are you looking for a civilian or contracting? Let ACS help you
  in your career search!\n
X-ALT-DESC:FMTTYPE=text/html:<!DOCTYPE HTML PUBLIC "-//W3C//DTD HTML 3.2//E
 N"><HTML><p>Are you looking for a civilian or contracting? Let ACS help yo
 u in your career search!</p>\n</HTML>
CREATED;TZID=Europe/Berlin:20231213T102359
URL;VALUE=URI:https://kaiserslautern.armymwr.com/view-event
DTSTART;TZID=Europe/Berlin:20231121T093000
DTEND;TZID=Europe/Berlin:20231121T103000
SEQUENCE:17
END:VEVENT
BEGIN:VEVENT
UID:sabre-vobject-9b673c3e-47e2-421b-9b4e-d157e8b2587d
DTSTAMP:20260424T112021Z
SUMMARY:Better Resume Writing - HYBRID
DESCRIPTION:Are you looking for a civilian or contracting? Let ACS help you
  in your career search!\n
X-ALT-DESC:FMTTYPE=text/html:<!DOCTYPE HTML PUBLIC "-//W3C//DTD HTML 3.2//E
 N"><HTML><p>Are you looking for a civilian or contracting? Let ACS help yo
 u in your career search!</p>\n</HTML>
CREATED;TZID=Europe/Berlin:20231213T102359
URL;VALUE=URI:https://kaiserslautern.armymwr.com/view-event
DTSTART;TZID=Europe/Berlin:20231219T093000
DTEND;TZID=Europe/Berlin:20231219T120000
SEQUENCE:18
END:VEVENT
BEGIN:VEVENT
UID:sabre-vobject-d84b6b96-e7f6-4ce8-833a-9c350efede4f
DTSTAMP:20260424T112021Z
SUMMARY:Better Resume Writing - HYBRID
DESCRIPTION:Are you looking for a civilian or contracting? Let ACS help you
  in your career search!\n
X-ALT-DESC:FMTTYPE=text/html:<!DOCTYPE HTML PUBLIC "-//W3C//DTD HTML 3.2//E
 N"><HTML><p>Are you looking for a civilian or contracting? Let ACS help yo
 u in your career search!</p>\n</HTML>
CREATED;TZID=Europe/Berlin:20231213T102359
URL;VALUE=URI:https://kaiserslautern.armymwr.com/view-event
DTSTART;TZID=Europe/Berlin:20240116T093000
DTEND;TZID=Europe/Berlin:20240116T120000
SEQUENCE:19
END:VEVENT
END:VCALENDAR
