BEGIN:VCALENDAR
VERSION:2.0
PRODID:-//Sabre//Sabre VObject 4.5.8//EN
CALSCALE:GREGORIAN
BEGIN:VEVENT
UID:sabre-vobject-d395f8da-0baa-4e06-8c41-891d639368af
DTSTAMP:20260425T005957Z
SUMMARY:Sponsorship Training LIVE STREAM
DESCRIPTION:This course will help you fulfill the role as a sponsor for inc
 oming personnel.\n
X-ALT-DESC:FMTTYPE=text/html:<!DOCTYPE HTML PUBLIC "-//W3C//DTD HTML 3.2//E
 N"><HTML><p>This course will help you fulfill the role as a sponsor for in
 coming personnel.</p>\n</HTML>
CREATED;TZID=Europe/Berlin:20231019T095312
URL;VALUE=URI:https://kaiserslautern.armymwr.com/view-event
DTSTART;TZID=Europe/Berlin:20220622T083000
DTEND;TZID=Europe/Berlin:20220622T100000
SEQUENCE:0
END:VEVENT
BEGIN:VEVENT
UID:sabre-vobject-c2e9b746-779b-4f50-aaa8-be585f22f5d4
DTSTAMP:20260425T005957Z
SUMMARY:Sponsorship Training LIVE STREAM
DESCRIPTION:This course will help you fulfill the role as a sponsor for inc
 oming personnel.\n
X-ALT-DESC:FMTTYPE=text/html:<!DOCTYPE HTML PUBLIC "-//W3C//DTD HTML 3.2//E
 N"><HTML><p>This course will help you fulfill the role as a sponsor for in
 coming personnel.</p>\n</HTML>
CREATED;TZID=Europe/Berlin:20231019T095312
URL;VALUE=URI:https://kaiserslautern.armymwr.com/view-event
DTSTART;TZID=Europe/Berlin:20220720T083000
DTEND;TZID=Europe/Berlin:20220720T100000
SEQUENCE:1
END:VEVENT
BEGIN:VEVENT
UID:sabre-vobject-6c7a5757-1d4b-4cae-ab90-3f75639c6756
DTSTAMP:20260425T005957Z
SUMMARY:Sponsorship Training LIVE STREAM
DESCRIPTION:This course will help you fulfill the role as a sponsor for inc
 oming personnel.\n
X-ALT-DESC:FMTTYPE=text/html:<!DOCTYPE HTML PUBLIC "-//W3C//DTD HTML 3.2//E
 N"><HTML><p>This course will help you fulfill the role as a sponsor for in
 coming personnel.</p>\n</HTML>
CREATED;TZID=Europe/Berlin:20231019T095312
URL;VALUE=URI:https://kaiserslautern.armymwr.com/view-event
DTSTART;TZID=Europe/Berlin:20220824T083000
DTEND;TZID=Europe/Berlin:20220824T100000
SEQUENCE:2
END:VEVENT
BEGIN:VEVENT
UID:sabre-vobject-1f9657ee-99d6-41d3-a7f1-5713436b0059
DTSTAMP:20260425T005957Z
SUMMARY:Sponsorship Training LIVE STREAM
DESCRIPTION:This course will help you fulfill the role as a sponsor for inc
 oming personnel.\n
X-ALT-DESC:FMTTYPE=text/html:<!DOCTYPE HTML PUBLIC "-//W3C//DTD HTML 3.2//E
 N"><HTML><p>This course will help you fulfill the role as a sponsor for in
 coming personnel.</p>\n</HTML>
CREATED;TZID=Europe/Berlin:20231019T095312
URL;VALUE=URI:https://kaiserslautern.armymwr.com/view-event
DTSTART;TZID=Europe/Berlin:20220921T083000
DTEND;TZID=Europe/Berlin:20220921T100000
SEQUENCE:3
END:VEVENT
BEGIN:VEVENT
UID:sabre-vobject-fba9970d-94bc-4c7d-82fb-1d32e9a22dac
DTSTAMP:20260425T005957Z
SUMMARY:Sponsorship Training LIVE STREAM
DESCRIPTION:This course will help you fulfill the role as a sponsor for inc
 oming personnel.\n
X-ALT-DESC:FMTTYPE=text/html:<!DOCTYPE HTML PUBLIC "-//W3C//DTD HTML 3.2//E
 N"><HTML><p>This course will help you fulfill the role as a sponsor for in
 coming personnel.</p>\n</HTML>
CREATED;TZID=Europe/Berlin:20231019T095312
URL;VALUE=URI:https://kaiserslautern.armymwr.com/view-event
DTSTART;TZID=Europe/Berlin:20221005T083000
DTEND;TZID=Europe/Berlin:20221005T100000
SEQUENCE:4
END:VEVENT
BEGIN:VEVENT
UID:sabre-vobject-ee180257-dbe6-4e9e-8274-a8ded68b1632
DTSTAMP:20260425T005957Z
SUMMARY:Sponsorship Training LIVE STREAM
DESCRIPTION:This course will help you fulfill the role as a sponsor for inc
 oming personnel.\n
X-ALT-DESC:FMTTYPE=text/html:<!DOCTYPE HTML PUBLIC "-//W3C//DTD HTML 3.2//E
 N"><HTML><p>This course will help you fulfill the role as a sponsor for in
 coming personnel.</p>\n</HTML>
CREATED;TZID=Europe/Berlin:20231019T095312
URL;VALUE=URI:https://kaiserslautern.armymwr.com/view-event
DTSTART;TZID=Europe/Berlin:20221102T083000
DTEND;TZID=Europe/Berlin:20221102T100000
SEQUENCE:5
END:VEVENT
BEGIN:VEVENT
UID:sabre-vobject-ae7bff7a-a4a9-4923-a425-56369723d181
DTSTAMP:20260425T005957Z
SUMMARY:Sponsorship Training LIVE STREAM
DESCRIPTION:This course will help you fulfill the role as a sponsor for inc
 oming personnel.\n
X-ALT-DESC:FMTTYPE=text/html:<!DOCTYPE HTML PUBLIC "-//W3C//DTD HTML 3.2//E
 N"><HTML><p>This course will help you fulfill the role as a sponsor for in
 coming personnel.</p>\n</HTML>
CREATED;TZID=Europe/Berlin:20231019T095312
URL;VALUE=URI:https://kaiserslautern.armymwr.com/view-event
DTSTART;TZID=Europe/Berlin:20221207T083000
DTEND;TZID=Europe/Berlin:20221207T100000
SEQUENCE:6
END:VEVENT
BEGIN:VEVENT
UID:sabre-vobject-a50406d1-8c4f-48d0-923c-4ed613f22f44
DTSTAMP:20260425T005957Z
SUMMARY:Sponsorship Training LIVE STREAM
DESCRIPTION:This course will help you fulfill the role as a sponsor for inc
 oming personnel.\n
X-ALT-DESC:FMTTYPE=text/html:<!DOCTYPE HTML PUBLIC "-//W3C//DTD HTML 3.2//E
 N"><HTML><p>This course will help you fulfill the role as a sponsor for in
 coming personnel.</p>\n</HTML>
CREATED;TZID=Europe/Berlin:20231019T095312
URL;VALUE=URI:https://kaiserslautern.armymwr.com/view-event
DTSTART;TZID=Europe/Berlin:20230104T093000
DTEND;TZID=Europe/Berlin:20230104T110000
SEQUENCE:7
END:VEVENT
BEGIN:VEVENT
UID:sabre-vobject-3077f4cf-6e65-4084-ac41-4b3bd8c8875b
DTSTAMP:20260425T005957Z
SUMMARY:Sponsorship Training LIVE STREAM
DESCRIPTION:This course will help you fulfill the role as a sponsor for inc
 oming personnel.\n
X-ALT-DESC:FMTTYPE=text/html:<!DOCTYPE HTML PUBLIC "-//W3C//DTD HTML 3.2//E
 N"><HTML><p>This course will help you fulfill the role as a sponsor for in
 coming personnel.</p>\n</HTML>
CREATED;TZID=Europe/Berlin:20231019T095312
URL;VALUE=URI:https://kaiserslautern.armymwr.com/view-event
DTSTART;TZID=Europe/Berlin:20230201T093000
DTEND;TZID=Europe/Berlin:20230201T110000
SEQUENCE:8
END:VEVENT
BEGIN:VEVENT
UID:sabre-vobject-8b4d41d7-7a5e-4891-a269-8d3bc4be7eac
DTSTAMP:20260425T005957Z
SUMMARY:Sponsorship Training LIVE STREAM
DESCRIPTION:This course will help you fulfill the role as a sponsor for inc
 oming personnel.\n
X-ALT-DESC:FMTTYPE=text/html:<!DOCTYPE HTML PUBLIC "-//W3C//DTD HTML 3.2//E
 N"><HTML><p>This course will help you fulfill the role as a sponsor for in
 coming personnel.</p>\n</HTML>
CREATED;TZID=Europe/Berlin:20231019T095312
URL;VALUE=URI:https://kaiserslautern.armymwr.com/view-event
DTSTART;TZID=Europe/Berlin:20230301T093000
DTEND;TZID=Europe/Berlin:20230301T110000
SEQUENCE:9
END:VEVENT
BEGIN:VEVENT
UID:sabre-vobject-38182fb4-a964-4464-af50-5048fc4f0148
DTSTAMP:20260425T005957Z
SUMMARY:Sponsorship Training LIVE STREAM
DESCRIPTION:This course will help you fulfill the role as a sponsor for inc
 oming personnel.\n
X-ALT-DESC:FMTTYPE=text/html:<!DOCTYPE HTML PUBLIC "-//W3C//DTD HTML 3.2//E
 N"><HTML><p>This course will help you fulfill the role as a sponsor for in
 coming personnel.</p>\n</HTML>
CREATED;TZID=Europe/Berlin:20231019T095312
URL;VALUE=URI:https://kaiserslautern.armymwr.com/view-event
DTSTART;TZID=Europe/Berlin:20230405T093000
DTEND;TZID=Europe/Berlin:20230405T110000
SEQUENCE:10
END:VEVENT
BEGIN:VEVENT
UID:sabre-vobject-8e2e7778-0124-4c41-a63a-10d0b3e9964f
DTSTAMP:20260425T005957Z
SUMMARY:Sponsorship Training LIVE STREAM
DESCRIPTION:This course will help you fulfill the role as a sponsor for inc
 oming personnel.\n
X-ALT-DESC:FMTTYPE=text/html:<!DOCTYPE HTML PUBLIC "-//W3C//DTD HTML 3.2//E
 N"><HTML><p>This course will help you fulfill the role as a sponsor for in
 coming personnel.</p>\n</HTML>
CREATED;TZID=Europe/Berlin:20231019T095312
URL;VALUE=URI:https://kaiserslautern.armymwr.com/view-event
DTSTART;TZID=Europe/Berlin:20230503T093000
DTEND;TZID=Europe/Berlin:20230503T110000
SEQUENCE:11
END:VEVENT
BEGIN:VEVENT
UID:sabre-vobject-ea4e9c8c-39ab-4e3f-bad3-e95e01d07aad
DTSTAMP:20260425T005957Z
SUMMARY:Sponsorship Training LIVE STREAM
DESCRIPTION:This course will help you fulfill the role as a sponsor for inc
 oming personnel.\n
X-ALT-DESC:FMTTYPE=text/html:<!DOCTYPE HTML PUBLIC "-//W3C//DTD HTML 3.2//E
 N"><HTML><p>This course will help you fulfill the role as a sponsor for in
 coming personnel.</p>\n</HTML>
CREATED;TZID=Europe/Berlin:20231019T095312
URL;VALUE=URI:https://kaiserslautern.armymwr.com/view-event
DTSTART;TZID=Europe/Berlin:20230607T093000
DTEND;TZID=Europe/Berlin:20230607T110000
SEQUENCE:12
END:VEVENT
BEGIN:VEVENT
UID:sabre-vobject-b8f9ff89-76e6-4900-966a-7da1914ff3f1
DTSTAMP:20260425T005957Z
SUMMARY:Sponsorship Training LIVE STREAM
DESCRIPTION:This course will help you fulfill the role as a sponsor for inc
 oming personnel.\n
X-ALT-DESC:FMTTYPE=text/html:<!DOCTYPE HTML PUBLIC "-//W3C//DTD HTML 3.2//E
 N"><HTML><p>This course will help you fulfill the role as a sponsor for in
 coming personnel.</p>\n</HTML>
CREATED;TZID=Europe/Berlin:20231019T095312
URL;VALUE=URI:https://kaiserslautern.armymwr.com/view-event
DTSTART;TZID=Europe/Berlin:20230712T093000
DTEND;TZID=Europe/Berlin:20230712T110000
SEQUENCE:13
END:VEVENT
BEGIN:VEVENT
UID:sabre-vobject-b0456e3a-df9e-4a0b-bf4f-7c1ca43225d8
DTSTAMP:20260425T005957Z
SUMMARY:Sponsorship Training LIVE STREAM
DESCRIPTION:This course will help you fulfill the role as a sponsor for inc
 oming personnel.\n
X-ALT-DESC:FMTTYPE=text/html:<!DOCTYPE HTML PUBLIC "-//W3C//DTD HTML 3.2//E
 N"><HTML><p>This course will help you fulfill the role as a sponsor for in
 coming personnel.</p>\n</HTML>
CREATED;TZID=Europe/Berlin:20231019T095312
URL;VALUE=URI:https://kaiserslautern.armymwr.com/view-event
DTSTART;TZID=Europe/Berlin:20230809T093000
DTEND;TZID=Europe/Berlin:20230809T103000
SEQUENCE:14
END:VEVENT
BEGIN:VEVENT
UID:sabre-vobject-d7b96f90-b2f6-4763-960b-8ef2804bc903
DTSTAMP:20260425T005957Z
SUMMARY:Sponsorship Training LIVE STREAM
DESCRIPTION:This course will help you fulfill the role as a sponsor for inc
 oming personnel.\n
X-ALT-DESC:FMTTYPE=text/html:<!DOCTYPE HTML PUBLIC "-//W3C//DTD HTML 3.2//E
 N"><HTML><p>This course will help you fulfill the role as a sponsor for in
 coming personnel.</p>\n</HTML>
CREATED;TZID=Europe/Berlin:20231019T095312
URL;VALUE=URI:https://kaiserslautern.armymwr.com/view-event
DTSTART;TZID=Europe/Berlin:20230913T093000
DTEND;TZID=Europe/Berlin:20230913T103000
SEQUENCE:15
END:VEVENT
BEGIN:VEVENT
UID:sabre-vobject-4f4a199e-05b3-4f74-86c0-c36cf0add164
DTSTAMP:20260425T005957Z
SUMMARY:Sponsorship Training LIVE STREAM
DESCRIPTION:This course will help you fulfill the role as a sponsor for inc
 oming personnel.\n
X-ALT-DESC:FMTTYPE=text/html:<!DOCTYPE HTML PUBLIC "-//W3C//DTD HTML 3.2//E
 N"><HTML><p>This course will help you fulfill the role as a sponsor for in
 coming personnel.</p>\n</HTML>
CREATED;TZID=Europe/Berlin:20231019T095312
URL;VALUE=URI:https://kaiserslautern.armymwr.com/view-event
DTSTART;TZID=Europe/Berlin:20231011T093000
DTEND;TZID=Europe/Berlin:20231011T103000
SEQUENCE:16
END:VEVENT
BEGIN:VEVENT
UID:sabre-vobject-0b1cf938-de5c-4ec5-80f8-9d4a38fc43c0
DTSTAMP:20260425T005957Z
SUMMARY:Sponsorship Training LIVE STREAM
DESCRIPTION:This course will help you fulfill the role as a sponsor for inc
 oming personnel.\n
X-ALT-DESC:FMTTYPE=text/html:<!DOCTYPE HTML PUBLIC "-//W3C//DTD HTML 3.2//E
 N"><HTML><p>This course will help you fulfill the role as a sponsor for in
 coming personnel.</p>\n</HTML>
CREATED;TZID=Europe/Berlin:20231019T095312
URL;VALUE=URI:https://kaiserslautern.armymwr.com/view-event
DTSTART;TZID=Europe/Berlin:20231108T093000
DTEND;TZID=Europe/Berlin:20231108T103000
SEQUENCE:17
END:VEVENT
END:VCALENDAR
