BEGIN:VCALENDAR
VERSION:2.0
PRODID:-//Sabre//Sabre VObject 4.5.8//EN
CALSCALE:GREGORIAN
BEGIN:VEVENT
UID:sabre-vobject-4cfde337-36ae-4f62-b002-a3c27c530099
DTSTAMP:20260425T040051Z
SUMMARY:Spouse Sponsorship Training - LIVE STREAM
DESCRIPTION:This course will help you fulfill the role as a sponsor for inc
 oming spouses.\n
X-ALT-DESC:FMTTYPE=text/html:<!DOCTYPE HTML PUBLIC "-//W3C//DTD HTML 3.2//E
 N"><HTML><p>This course will help you fulfill the role as a sponsor for in
 coming spouses.</p>\n</HTML>
CREATED;TZID=Europe/Berlin:20231213T105349
URL;VALUE=URI:https://kaiserslautern.armymwr.com/view-event
DTSTART;TZID=Europe/Berlin:20220622T100000
DTEND;TZID=Europe/Berlin:20220622T113000
SEQUENCE:0
END:VEVENT
BEGIN:VEVENT
UID:sabre-vobject-93ec6364-bdd6-41bb-992e-7c8f50ddfa5b
DTSTAMP:20260425T040051Z
SUMMARY:Spouse Sponsorship Training - LIVE STREAM
DESCRIPTION:This course will help you fulfill the role as a sponsor for inc
 oming spouses.\n
X-ALT-DESC:FMTTYPE=text/html:<!DOCTYPE HTML PUBLIC "-//W3C//DTD HTML 3.2//E
 N"><HTML><p>This course will help you fulfill the role as a sponsor for in
 coming spouses.</p>\n</HTML>
CREATED;TZID=Europe/Berlin:20231213T105349
URL;VALUE=URI:https://kaiserslautern.armymwr.com/view-event
DTSTART;TZID=Europe/Berlin:20220720T100000
DTEND;TZID=Europe/Berlin:20220720T113000
SEQUENCE:1
END:VEVENT
BEGIN:VEVENT
UID:sabre-vobject-e01707e3-f821-4757-8154-1e8413bc8625
DTSTAMP:20260425T040051Z
SUMMARY:Spouse Sponsorship Training - LIVE STREAM
DESCRIPTION:This course will help you fulfill the role as a sponsor for inc
 oming spouses.\n
X-ALT-DESC:FMTTYPE=text/html:<!DOCTYPE HTML PUBLIC "-//W3C//DTD HTML 3.2//E
 N"><HTML><p>This course will help you fulfill the role as a sponsor for in
 coming spouses.</p>\n</HTML>
CREATED;TZID=Europe/Berlin:20231213T105349
URL;VALUE=URI:https://kaiserslautern.armymwr.com/view-event
DTSTART;TZID=Europe/Berlin:20220824T100000
DTEND;TZID=Europe/Berlin:20220824T113000
SEQUENCE:2
END:VEVENT
BEGIN:VEVENT
UID:sabre-vobject-8d8e05ce-ce23-4b38-bc30-71f0f9ab04e9
DTSTAMP:20260425T040051Z
SUMMARY:Spouse Sponsorship Training - LIVE STREAM
DESCRIPTION:This course will help you fulfill the role as a sponsor for inc
 oming spouses.\n
X-ALT-DESC:FMTTYPE=text/html:<!DOCTYPE HTML PUBLIC "-//W3C//DTD HTML 3.2//E
 N"><HTML><p>This course will help you fulfill the role as a sponsor for in
 coming spouses.</p>\n</HTML>
CREATED;TZID=Europe/Berlin:20231213T105349
URL;VALUE=URI:https://kaiserslautern.armymwr.com/view-event
DTSTART;TZID=Europe/Berlin:20220921T100000
DTEND;TZID=Europe/Berlin:20220921T113000
SEQUENCE:3
END:VEVENT
BEGIN:VEVENT
UID:sabre-vobject-a4f2b1d4-0c76-4af1-b765-496eb9c50dd4
DTSTAMP:20260425T040051Z
SUMMARY:Spouse Sponsorship Training - LIVE STREAM
DESCRIPTION:This course will help you fulfill the role as a sponsor for inc
 oming spouses.\n
X-ALT-DESC:FMTTYPE=text/html:<!DOCTYPE HTML PUBLIC "-//W3C//DTD HTML 3.2//E
 N"><HTML><p>This course will help you fulfill the role as a sponsor for in
 coming spouses.</p>\n</HTML>
CREATED;TZID=Europe/Berlin:20231213T105349
URL;VALUE=URI:https://kaiserslautern.armymwr.com/view-event
DTSTART;TZID=Europe/Berlin:20221005T100000
DTEND;TZID=Europe/Berlin:20221005T113000
SEQUENCE:4
END:VEVENT
BEGIN:VEVENT
UID:sabre-vobject-d5c0180c-6854-4688-a31a-0dfd9802ad47
DTSTAMP:20260425T040051Z
SUMMARY:Spouse Sponsorship Training - LIVE STREAM
DESCRIPTION:This course will help you fulfill the role as a sponsor for inc
 oming spouses.\n
X-ALT-DESC:FMTTYPE=text/html:<!DOCTYPE HTML PUBLIC "-//W3C//DTD HTML 3.2//E
 N"><HTML><p>This course will help you fulfill the role as a sponsor for in
 coming spouses.</p>\n</HTML>
CREATED;TZID=Europe/Berlin:20231213T105349
URL;VALUE=URI:https://kaiserslautern.armymwr.com/view-event
DTSTART;TZID=Europe/Berlin:20221102T100000
DTEND;TZID=Europe/Berlin:20221102T113000
SEQUENCE:5
END:VEVENT
BEGIN:VEVENT
UID:sabre-vobject-804e1f61-fa19-42cf-a38b-abd6c096dc29
DTSTAMP:20260425T040051Z
SUMMARY:Spouse Sponsorship Training - LIVE STREAM
DESCRIPTION:This course will help you fulfill the role as a sponsor for inc
 oming spouses.\n
X-ALT-DESC:FMTTYPE=text/html:<!DOCTYPE HTML PUBLIC "-//W3C//DTD HTML 3.2//E
 N"><HTML><p>This course will help you fulfill the role as a sponsor for in
 coming spouses.</p>\n</HTML>
CREATED;TZID=Europe/Berlin:20231213T105349
URL;VALUE=URI:https://kaiserslautern.armymwr.com/view-event
DTSTART;TZID=Europe/Berlin:20221207T103000
DTEND;TZID=Europe/Berlin:20221207T000000
SEQUENCE:6
END:VEVENT
BEGIN:VEVENT
UID:sabre-vobject-c889caff-b8ea-4986-b2ce-f1c2be05a984
DTSTAMP:20260425T040051Z
SUMMARY:Spouse Sponsorship Training - LIVE STREAM
DESCRIPTION:This course will help you fulfill the role as a sponsor for inc
 oming spouses.\n
X-ALT-DESC:FMTTYPE=text/html:<!DOCTYPE HTML PUBLIC "-//W3C//DTD HTML 3.2//E
 N"><HTML><p>This course will help you fulfill the role as a sponsor for in
 coming spouses.</p>\n</HTML>
CREATED;TZID=Europe/Berlin:20231213T105349
URL;VALUE=URI:https://kaiserslautern.armymwr.com/view-event
DTSTART;TZID=Europe/Berlin:20230104T130000
DTEND;TZID=Europe/Berlin:20230104T143000
SEQUENCE:7
END:VEVENT
BEGIN:VEVENT
UID:sabre-vobject-439ae330-743f-49b7-808a-a434a7510d85
DTSTAMP:20260425T040051Z
SUMMARY:Spouse Sponsorship Training - LIVE STREAM
DESCRIPTION:This course will help you fulfill the role as a sponsor for inc
 oming spouses.\n
X-ALT-DESC:FMTTYPE=text/html:<!DOCTYPE HTML PUBLIC "-//W3C//DTD HTML 3.2//E
 N"><HTML><p>This course will help you fulfill the role as a sponsor for in
 coming spouses.</p>\n</HTML>
CREATED;TZID=Europe/Berlin:20231213T105349
URL;VALUE=URI:https://kaiserslautern.armymwr.com/view-event
DTSTART;TZID=Europe/Berlin:20230201T130000
DTEND;TZID=Europe/Berlin:20230201T143000
SEQUENCE:8
END:VEVENT
BEGIN:VEVENT
UID:sabre-vobject-eb0c2b10-7dac-46d4-af7d-5568b8623eb7
DTSTAMP:20260425T040051Z
SUMMARY:Spouse Sponsorship Training - LIVE STREAM
DESCRIPTION:This course will help you fulfill the role as a sponsor for inc
 oming spouses.\n
X-ALT-DESC:FMTTYPE=text/html:<!DOCTYPE HTML PUBLIC "-//W3C//DTD HTML 3.2//E
 N"><HTML><p>This course will help you fulfill the role as a sponsor for in
 coming spouses.</p>\n</HTML>
CREATED;TZID=Europe/Berlin:20231213T105349
URL;VALUE=URI:https://kaiserslautern.armymwr.com/view-event
DTSTART;TZID=Europe/Berlin:20230301T130000
DTEND;TZID=Europe/Berlin:20230301T143000
SEQUENCE:9
END:VEVENT
BEGIN:VEVENT
UID:sabre-vobject-46896593-e6f8-4e07-b86f-ccfaaffe41ef
DTSTAMP:20260425T040051Z
SUMMARY:Spouse Sponsorship Training - LIVE STREAM
DESCRIPTION:This course will help you fulfill the role as a sponsor for inc
 oming spouses.\n
X-ALT-DESC:FMTTYPE=text/html:<!DOCTYPE HTML PUBLIC "-//W3C//DTD HTML 3.2//E
 N"><HTML><p>This course will help you fulfill the role as a sponsor for in
 coming spouses.</p>\n</HTML>
CREATED;TZID=Europe/Berlin:20231213T105349
URL;VALUE=URI:https://kaiserslautern.armymwr.com/view-event
DTSTART;TZID=Europe/Berlin:20230411T093000
DTEND;TZID=Europe/Berlin:20230411T110000
SEQUENCE:10
END:VEVENT
BEGIN:VEVENT
UID:sabre-vobject-a26e404f-c4af-4cbe-9a0f-cce2dc26cc19
DTSTAMP:20260425T040051Z
SUMMARY:Spouse Sponsorship Training - LIVE STREAM
DESCRIPTION:This course will help you fulfill the role as a sponsor for inc
 oming spouses.\n
X-ALT-DESC:FMTTYPE=text/html:<!DOCTYPE HTML PUBLIC "-//W3C//DTD HTML 3.2//E
 N"><HTML><p>This course will help you fulfill the role as a sponsor for in
 coming spouses.</p>\n</HTML>
CREATED;TZID=Europe/Berlin:20231213T105349
URL;VALUE=URI:https://kaiserslautern.armymwr.com/view-event
DTSTART;TZID=Europe/Berlin:20230509T093000
DTEND;TZID=Europe/Berlin:20230509T110000
SEQUENCE:11
END:VEVENT
BEGIN:VEVENT
UID:sabre-vobject-825c8cab-ba11-4d85-be5b-5933ab14d61c
DTSTAMP:20260425T040051Z
SUMMARY:Spouse Sponsorship Training - LIVE STREAM
DESCRIPTION:This course will help you fulfill the role as a sponsor for inc
 oming spouses.\n
X-ALT-DESC:FMTTYPE=text/html:<!DOCTYPE HTML PUBLIC "-//W3C//DTD HTML 3.2//E
 N"><HTML><p>This course will help you fulfill the role as a sponsor for in
 coming spouses.</p>\n</HTML>
CREATED;TZID=Europe/Berlin:20231213T105349
URL;VALUE=URI:https://kaiserslautern.armymwr.com/view-event
DTSTART;TZID=Europe/Berlin:20230613T093000
DTEND;TZID=Europe/Berlin:20230613T110000
SEQUENCE:12
END:VEVENT
BEGIN:VEVENT
UID:sabre-vobject-85e3b324-4805-4fbb-9c46-14bef9b4fedf
DTSTAMP:20260425T040051Z
SUMMARY:Spouse Sponsorship Training - LIVE STREAM
DESCRIPTION:This course will help you fulfill the role as a sponsor for inc
 oming spouses.\n
X-ALT-DESC:FMTTYPE=text/html:<!DOCTYPE HTML PUBLIC "-//W3C//DTD HTML 3.2//E
 N"><HTML><p>This course will help you fulfill the role as a sponsor for in
 coming spouses.</p>\n</HTML>
CREATED;TZID=Europe/Berlin:20231213T105349
URL;VALUE=URI:https://kaiserslautern.armymwr.com/view-event
DTSTART;TZID=Europe/Berlin:20230711T093000
DTEND;TZID=Europe/Berlin:20230711T110000
SEQUENCE:13
END:VEVENT
BEGIN:VEVENT
UID:sabre-vobject-634debc8-9c02-4c59-8fbe-39399b997f3d
DTSTAMP:20260425T040051Z
SUMMARY:Spouse Sponsorship Training - LIVE STREAM
DESCRIPTION:This course will help you fulfill the role as a sponsor for inc
 oming spouses.\n
X-ALT-DESC:FMTTYPE=text/html:<!DOCTYPE HTML PUBLIC "-//W3C//DTD HTML 3.2//E
 N"><HTML><p>This course will help you fulfill the role as a sponsor for in
 coming spouses.</p>\n</HTML>
CREATED;TZID=Europe/Berlin:20231213T105349
URL;VALUE=URI:https://kaiserslautern.armymwr.com/view-event
DTSTART;TZID=Europe/Berlin:20230816T093000
DTEND;TZID=Europe/Berlin:20230816T110000
SEQUENCE:14
END:VEVENT
BEGIN:VEVENT
UID:sabre-vobject-8d04eef5-90b4-4a2a-af55-6f876aeccc8d
DTSTAMP:20260425T040051Z
SUMMARY:Spouse Sponsorship Training - LIVE STREAM
DESCRIPTION:This course will help you fulfill the role as a sponsor for inc
 oming spouses.\n
X-ALT-DESC:FMTTYPE=text/html:<!DOCTYPE HTML PUBLIC "-//W3C//DTD HTML 3.2//E
 N"><HTML><p>This course will help you fulfill the role as a sponsor for in
 coming spouses.</p>\n</HTML>
CREATED;TZID=Europe/Berlin:20231213T105349
URL;VALUE=URI:https://kaiserslautern.armymwr.com/view-event
DTSTART;TZID=Europe/Berlin:20230920T093000
DTEND;TZID=Europe/Berlin:20230920T110000
SEQUENCE:15
END:VEVENT
BEGIN:VEVENT
UID:sabre-vobject-dd48b7c2-9b60-421b-b9cc-c7208fd97c2c
DTSTAMP:20260425T040051Z
SUMMARY:Spouse Sponsorship Training - LIVE STREAM
DESCRIPTION:This course will help you fulfill the role as a sponsor for inc
 oming spouses.\n
X-ALT-DESC:FMTTYPE=text/html:<!DOCTYPE HTML PUBLIC "-//W3C//DTD HTML 3.2//E
 N"><HTML><p>This course will help you fulfill the role as a sponsor for in
 coming spouses.</p>\n</HTML>
CREATED;TZID=Europe/Berlin:20231213T105349
URL;VALUE=URI:https://kaiserslautern.armymwr.com/view-event
DTSTART;TZID=Europe/Berlin:20231018T093000
DTEND;TZID=Europe/Berlin:20231018T110000
SEQUENCE:16
END:VEVENT
BEGIN:VEVENT
UID:sabre-vobject-a3caf552-3c24-466d-8f04-eb49718cd966
DTSTAMP:20260425T040051Z
SUMMARY:Spouse Sponsorship Training - LIVE STREAM
DESCRIPTION:This course will help you fulfill the role as a sponsor for inc
 oming spouses.\n
X-ALT-DESC:FMTTYPE=text/html:<!DOCTYPE HTML PUBLIC "-//W3C//DTD HTML 3.2//E
 N"><HTML><p>This course will help you fulfill the role as a sponsor for in
 coming spouses.</p>\n</HTML>
CREATED;TZID=Europe/Berlin:20231213T105349
URL;VALUE=URI:https://kaiserslautern.armymwr.com/view-event
DTSTART;TZID=Europe/Berlin:20231115T093000
DTEND;TZID=Europe/Berlin:20231115T110000
SEQUENCE:17
END:VEVENT
BEGIN:VEVENT
UID:sabre-vobject-b8666fbb-695e-4fb0-b8e6-de6c938c3ed8
DTSTAMP:20260425T040051Z
SUMMARY:Spouse Sponsorship Training - LIVE STREAM
DESCRIPTION:This course will help you fulfill the role as a sponsor for inc
 oming spouses.\n
X-ALT-DESC:FMTTYPE=text/html:<!DOCTYPE HTML PUBLIC "-//W3C//DTD HTML 3.2//E
 N"><HTML><p>This course will help you fulfill the role as a sponsor for in
 coming spouses.</p>\n</HTML>
CREATED;TZID=Europe/Berlin:20231213T105349
URL;VALUE=URI:https://kaiserslautern.armymwr.com/view-event
DTSTART;TZID=Europe/Berlin:20231220T093000
DTEND;TZID=Europe/Berlin:20231220T110000
SEQUENCE:18
END:VEVENT
BEGIN:VEVENT
UID:sabre-vobject-c21b069b-221b-4874-82b2-b7d64692eb75
DTSTAMP:20260425T040051Z
SUMMARY:Spouse Sponsorship Training - LIVE STREAM
DESCRIPTION:This course will help you fulfill the role as a sponsor for inc
 oming spouses.\n
X-ALT-DESC:FMTTYPE=text/html:<!DOCTYPE HTML PUBLIC "-//W3C//DTD HTML 3.2//E
 N"><HTML><p>This course will help you fulfill the role as a sponsor for in
 coming spouses.</p>\n</HTML>
CREATED;TZID=Europe/Berlin:20231213T105349
URL;VALUE=URI:https://kaiserslautern.armymwr.com/view-event
DTSTART;TZID=Europe/Berlin:20240131T093000
DTEND;TZID=Europe/Berlin:20240131T110000
SEQUENCE:19
END:VEVENT
END:VCALENDAR
