BEGIN:VCALENDAR
VERSION:2.0
PRODID:-//Sabre//Sabre VObject 4.5.8//EN
CALSCALE:GREGORIAN
BEGIN:VEVENT
UID:sabre-vobject-02601099-6842-4b7a-a57e-5fbeb0df1c72
DTSTAMP:20260425T040049Z
SUMMARY:Interview Skills - HYBRID
DESCRIPTION:Learn the secrets to a perfect interview!\n
X-ALT-DESC:FMTTYPE=text/html:<!DOCTYPE HTML PUBLIC "-//W3C//DTD HTML 3.2//E
 N"><HTML><p>Learn the secrets to a perfect interview!</p>\n</HTML>
CREATED;TZID=Europe/Berlin:20231213T154441
URL;VALUE=URI:https://kaiserslautern.armymwr.com/view-event
DTSTART;TZID=Europe/Berlin:20220628T093000
DTEND;TZID=Europe/Berlin:20220628T110000
SEQUENCE:0
END:VEVENT
BEGIN:VEVENT
UID:sabre-vobject-c5f3cfbe-4729-48fb-9984-49221d99f475
DTSTAMP:20260425T040049Z
SUMMARY:Interview Skills - HYBRID
DESCRIPTION:Learn the secrets to a perfect interview!\n
X-ALT-DESC:FMTTYPE=text/html:<!DOCTYPE HTML PUBLIC "-//W3C//DTD HTML 3.2//E
 N"><HTML><p>Learn the secrets to a perfect interview!</p>\n</HTML>
CREATED;TZID=Europe/Berlin:20231213T154441
URL;VALUE=URI:https://kaiserslautern.armymwr.com/view-event
DTSTART;TZID=Europe/Berlin:20220719T093000
DTEND;TZID=Europe/Berlin:20220719T110000
SEQUENCE:1
END:VEVENT
BEGIN:VEVENT
UID:sabre-vobject-ec4066c8-8156-4f8b-a5a1-3b37cf22c618
DTSTAMP:20260425T040049Z
SUMMARY:Interview Skills - HYBRID
DESCRIPTION:Learn the secrets to a perfect interview!\n
X-ALT-DESC:FMTTYPE=text/html:<!DOCTYPE HTML PUBLIC "-//W3C//DTD HTML 3.2//E
 N"><HTML><p>Learn the secrets to a perfect interview!</p>\n</HTML>
CREATED;TZID=Europe/Berlin:20231213T154441
URL;VALUE=URI:https://kaiserslautern.armymwr.com/view-event
DTSTART;TZID=Europe/Berlin:20220913T093000
DTEND;TZID=Europe/Berlin:20220913T110000
SEQUENCE:2
END:VEVENT
BEGIN:VEVENT
UID:sabre-vobject-e4273eae-e0b2-4a63-b567-850d49622a7b
DTSTAMP:20260425T040049Z
SUMMARY:Interview Skills - HYBRID
DESCRIPTION:Learn the secrets to a perfect interview!\n
X-ALT-DESC:FMTTYPE=text/html:<!DOCTYPE HTML PUBLIC "-//W3C//DTD HTML 3.2//E
 N"><HTML><p>Learn the secrets to a perfect interview!</p>\n</HTML>
CREATED;TZID=Europe/Berlin:20231213T154441
URL;VALUE=URI:https://kaiserslautern.armymwr.com/view-event
DTSTART;TZID=Europe/Berlin:20221011T093000
DTEND;TZID=Europe/Berlin:20221011T110000
SEQUENCE:3
END:VEVENT
BEGIN:VEVENT
UID:sabre-vobject-0acd3c63-cc06-4d9b-8c3c-455f1f647e16
DTSTAMP:20260425T040049Z
SUMMARY:Interview Skills - HYBRID
DESCRIPTION:Learn the secrets to a perfect interview!\n
X-ALT-DESC:FMTTYPE=text/html:<!DOCTYPE HTML PUBLIC "-//W3C//DTD HTML 3.2//E
 N"><HTML><p>Learn the secrets to a perfect interview!</p>\n</HTML>
CREATED;TZID=Europe/Berlin:20231213T154441
URL;VALUE=URI:https://kaiserslautern.armymwr.com/view-event
DTSTART;TZID=Europe/Berlin:20221213T093000
DTEND;TZID=Europe/Berlin:20221213T110000
SEQUENCE:4
END:VEVENT
BEGIN:VEVENT
UID:sabre-vobject-b7f8cc5d-5ec5-4b99-8709-48458a64eff7
DTSTAMP:20260425T040049Z
SUMMARY:Interview Skills - HYBRID
DESCRIPTION:Learn the secrets to a perfect interview!\n
X-ALT-DESC:FMTTYPE=text/html:<!DOCTYPE HTML PUBLIC "-//W3C//DTD HTML 3.2//E
 N"><HTML><p>Learn the secrets to a perfect interview!</p>\n</HTML>
CREATED;TZID=Europe/Berlin:20231213T154441
URL;VALUE=URI:https://kaiserslautern.armymwr.com/view-event
DTSTART;TZID=Europe/Berlin:20230110T093000
DTEND;TZID=Europe/Berlin:20230110T110000
SEQUENCE:5
END:VEVENT
BEGIN:VEVENT
UID:sabre-vobject-cec28f94-9dd8-40c5-8385-0bd4dee3e20f
DTSTAMP:20260425T040049Z
SUMMARY:Interview Skills - HYBRID
DESCRIPTION:Learn the secrets to a perfect interview!\n
X-ALT-DESC:FMTTYPE=text/html:<!DOCTYPE HTML PUBLIC "-//W3C//DTD HTML 3.2//E
 N"><HTML><p>Learn the secrets to a perfect interview!</p>\n</HTML>
CREATED;TZID=Europe/Berlin:20231213T154441
URL;VALUE=URI:https://kaiserslautern.armymwr.com/view-event
DTSTART;TZID=Europe/Berlin:20230214T093000
DTEND;TZID=Europe/Berlin:20230214T110000
SEQUENCE:6
END:VEVENT
BEGIN:VEVENT
UID:sabre-vobject-8831be10-fe98-417a-a5ee-8a9a14405e89
DTSTAMP:20260425T040049Z
SUMMARY:Interview Skills - HYBRID
DESCRIPTION:Learn the secrets to a perfect interview!\n
X-ALT-DESC:FMTTYPE=text/html:<!DOCTYPE HTML PUBLIC "-//W3C//DTD HTML 3.2//E
 N"><HTML><p>Learn the secrets to a perfect interview!</p>\n</HTML>
CREATED;TZID=Europe/Berlin:20231213T154441
URL;VALUE=URI:https://kaiserslautern.armymwr.com/view-event
DTSTART;TZID=Europe/Berlin:20230314T093000
DTEND;TZID=Europe/Berlin:20230314T110000
SEQUENCE:7
END:VEVENT
BEGIN:VEVENT
UID:sabre-vobject-cb713a83-0b92-47ff-841e-d24d10cbd7ba
DTSTAMP:20260425T040049Z
SUMMARY:Interview Skills - HYBRID
DESCRIPTION:Learn the secrets to a perfect interview!\n
X-ALT-DESC:FMTTYPE=text/html:<!DOCTYPE HTML PUBLIC "-//W3C//DTD HTML 3.2//E
 N"><HTML><p>Learn the secrets to a perfect interview!</p>\n</HTML>
CREATED;TZID=Europe/Berlin:20231213T154441
URL;VALUE=URI:https://kaiserslautern.armymwr.com/view-event
DTSTART;TZID=Europe/Berlin:20230509T093000
DTEND;TZID=Europe/Berlin:20230509T110000
SEQUENCE:8
END:VEVENT
BEGIN:VEVENT
UID:sabre-vobject-a08c97d3-dca4-4cb8-890d-2a9e1350112e
DTSTAMP:20260425T040049Z
SUMMARY:Interview Skills - HYBRID
DESCRIPTION:Learn the secrets to a perfect interview!\n
X-ALT-DESC:FMTTYPE=text/html:<!DOCTYPE HTML PUBLIC "-//W3C//DTD HTML 3.2//E
 N"><HTML><p>Learn the secrets to a perfect interview!</p>\n</HTML>
CREATED;TZID=Europe/Berlin:20231213T154441
URL;VALUE=URI:https://kaiserslautern.armymwr.com/view-event
DTSTART;TZID=Europe/Berlin:20230613T093000
DTEND;TZID=Europe/Berlin:20230613T110000
SEQUENCE:9
END:VEVENT
BEGIN:VEVENT
UID:sabre-vobject-91bd2ee9-1f08-4247-843e-1bb5dbaae9d2
DTSTAMP:20260425T040049Z
SUMMARY:Interview Skills - HYBRID
DESCRIPTION:Learn the secrets to a perfect interview!\n
X-ALT-DESC:FMTTYPE=text/html:<!DOCTYPE HTML PUBLIC "-//W3C//DTD HTML 3.2//E
 N"><HTML><p>Learn the secrets to a perfect interview!</p>\n</HTML>
CREATED;TZID=Europe/Berlin:20231213T154441
URL;VALUE=URI:https://kaiserslautern.armymwr.com/view-event
DTSTART;TZID=Europe/Berlin:20230808T093000
DTEND;TZID=Europe/Berlin:20230808T110000
SEQUENCE:10
END:VEVENT
BEGIN:VEVENT
UID:sabre-vobject-c45e8101-9461-40c3-99b6-8547ca5adaf6
DTSTAMP:20260425T040049Z
SUMMARY:Interview Skills - HYBRID
DESCRIPTION:Learn the secrets to a perfect interview!\n
X-ALT-DESC:FMTTYPE=text/html:<!DOCTYPE HTML PUBLIC "-//W3C//DTD HTML 3.2//E
 N"><HTML><p>Learn the secrets to a perfect interview!</p>\n</HTML>
CREATED;TZID=Europe/Berlin:20231213T154441
URL;VALUE=URI:https://kaiserslautern.armymwr.com/view-event
DTSTART;TZID=Europe/Berlin:20230912T093000
DTEND;TZID=Europe/Berlin:20230912T110000
SEQUENCE:11
END:VEVENT
BEGIN:VEVENT
UID:sabre-vobject-9d246cdb-9a1d-4ab6-ba60-751d4815ef01
DTSTAMP:20260425T040049Z
SUMMARY:Interview Skills - HYBRID
DESCRIPTION:Learn the secrets to a perfect interview!\n
X-ALT-DESC:FMTTYPE=text/html:<!DOCTYPE HTML PUBLIC "-//W3C//DTD HTML 3.2//E
 N"><HTML><p>Learn the secrets to a perfect interview!</p>\n</HTML>
CREATED;TZID=Europe/Berlin:20231213T154441
URL;VALUE=URI:https://kaiserslautern.armymwr.com/view-event
DTSTART;TZID=Europe/Berlin:20231031T093000
DTEND;TZID=Europe/Berlin:20231031T110000
SEQUENCE:12
END:VEVENT
BEGIN:VEVENT
UID:sabre-vobject-ab6082e4-4277-4929-b159-90f630b56a9f
DTSTAMP:20260425T040049Z
SUMMARY:Interview Skills - HYBRID
DESCRIPTION:Learn the secrets to a perfect interview!\n
X-ALT-DESC:FMTTYPE=text/html:<!DOCTYPE HTML PUBLIC "-//W3C//DTD HTML 3.2//E
 N"><HTML><p>Learn the secrets to a perfect interview!</p>\n</HTML>
CREATED;TZID=Europe/Berlin:20231213T154441
URL;VALUE=URI:https://kaiserslautern.armymwr.com/view-event
DTSTART;TZID=Europe/Berlin:20231128T093000
DTEND;TZID=Europe/Berlin:20231128T110000
SEQUENCE:13
END:VEVENT
BEGIN:VEVENT
UID:sabre-vobject-38031dcb-6918-4e7d-9e54-d68a7c7e252b
DTSTAMP:20260425T040049Z
SUMMARY:Interview Skills - HYBRID
DESCRIPTION:Learn the secrets to a perfect interview!\n
X-ALT-DESC:FMTTYPE=text/html:<!DOCTYPE HTML PUBLIC "-//W3C//DTD HTML 3.2//E
 N"><HTML><p>Learn the secrets to a perfect interview!</p>\n</HTML>
CREATED;TZID=Europe/Berlin:20231213T154441
URL;VALUE=URI:https://kaiserslautern.armymwr.com/view-event
DTSTART;TZID=Europe/Berlin:20240109T093000
DTEND;TZID=Europe/Berlin:20240109T110000
SEQUENCE:14
END:VEVENT
END:VCALENDAR
