BEGIN:VCALENDAR
VERSION:2.0
PRODID:-//Sabre//Sabre VObject 4.5.8//EN
CALSCALE:GREGORIAN
BEGIN:VEVENT
UID:sabre-vobject-cd0c81d8-5eda-4ff7-8bb1-b479a8172569
DTSTAMP:20260424T223048Z
SUMMARY:Local Employment & Volunteering HYBRID
DESCRIPTION:Learn how to build a career locally\n
X-ALT-DESC:FMTTYPE=text/html:<!DOCTYPE HTML PUBLIC "-//W3C//DTD HTML 3.2//E
 N"><HTML><p>Learn how to build a career locally</p>\n</HTML>
CREATED;TZID=Europe/Berlin:20231213T111434
URL;VALUE=URI:https://kaiserslautern.armymwr.com/view-event
DTSTART;TZID=Europe/Berlin:20220719T093000
DTEND;TZID=Europe/Berlin:20220719T110000
SEQUENCE:0
END:VEVENT
BEGIN:VEVENT
UID:sabre-vobject-f8319822-467c-4859-9505-a8cb2b629242
DTSTAMP:20260424T223048Z
SUMMARY:Local Employment & Volunteering HYBRID
DESCRIPTION:Learn how to build a career locally\n
X-ALT-DESC:FMTTYPE=text/html:<!DOCTYPE HTML PUBLIC "-//W3C//DTD HTML 3.2//E
 N"><HTML><p>Learn how to build a career locally</p>\n</HTML>
CREATED;TZID=Europe/Berlin:20231213T111434
URL;VALUE=URI:https://kaiserslautern.armymwr.com/view-event
DTSTART;TZID=Europe/Berlin:20220816T093000
DTEND;TZID=Europe/Berlin:20220816T110000
SEQUENCE:1
END:VEVENT
BEGIN:VEVENT
UID:sabre-vobject-cd4299a0-f174-42df-b538-f16c66441c69
DTSTAMP:20260424T223048Z
SUMMARY:Local Employment & Volunteering HYBRID
DESCRIPTION:Learn how to build a career locally\n
X-ALT-DESC:FMTTYPE=text/html:<!DOCTYPE HTML PUBLIC "-//W3C//DTD HTML 3.2//E
 N"><HTML><p>Learn how to build a career locally</p>\n</HTML>
CREATED;TZID=Europe/Berlin:20231213T111434
URL;VALUE=URI:https://kaiserslautern.armymwr.com/view-event
DTSTART;TZID=Europe/Berlin:20220928T093000
DTEND;TZID=Europe/Berlin:20220928T110000
SEQUENCE:2
END:VEVENT
BEGIN:VEVENT
UID:sabre-vobject-c2db07e8-937b-4358-8c5f-f88d957d391f
DTSTAMP:20260424T223048Z
SUMMARY:Local Employment & Volunteering HYBRID
DESCRIPTION:Learn how to build a career locally\n
X-ALT-DESC:FMTTYPE=text/html:<!DOCTYPE HTML PUBLIC "-//W3C//DTD HTML 3.2//E
 N"><HTML><p>Learn how to build a career locally</p>\n</HTML>
CREATED;TZID=Europe/Berlin:20231213T111434
URL;VALUE=URI:https://kaiserslautern.armymwr.com/view-event
DTSTART;TZID=Europe/Berlin:20221122T093000
DTEND;TZID=Europe/Berlin:20221122T110000
SEQUENCE:3
END:VEVENT
BEGIN:VEVENT
UID:sabre-vobject-ad9f0ea9-6ff9-46ea-86ae-858999e4bb2e
DTSTAMP:20260424T223048Z
SUMMARY:Local Employment & Volunteering HYBRID
DESCRIPTION:Learn how to build a career locally\n
X-ALT-DESC:FMTTYPE=text/html:<!DOCTYPE HTML PUBLIC "-//W3C//DTD HTML 3.2//E
 N"><HTML><p>Learn how to build a career locally</p>\n</HTML>
CREATED;TZID=Europe/Berlin:20231213T111434
URL;VALUE=URI:https://kaiserslautern.armymwr.com/view-event
DTSTART;TZID=Europe/Berlin:20221227T093000
DTEND;TZID=Europe/Berlin:20221227T110000
SEQUENCE:4
END:VEVENT
BEGIN:VEVENT
UID:sabre-vobject-3012453e-3fd6-4867-8730-8234cd7422f3
DTSTAMP:20260424T223048Z
SUMMARY:Local Employment & Volunteering HYBRID
DESCRIPTION:Learn how to build a career locally\n
X-ALT-DESC:FMTTYPE=text/html:<!DOCTYPE HTML PUBLIC "-//W3C//DTD HTML 3.2//E
 N"><HTML><p>Learn how to build a career locally</p>\n</HTML>
CREATED;TZID=Europe/Berlin:20231213T111434
URL;VALUE=URI:https://kaiserslautern.armymwr.com/view-event
DTSTART;TZID=Europe/Berlin:20230124T093000
DTEND;TZID=Europe/Berlin:20230124T110000
SEQUENCE:5
END:VEVENT
BEGIN:VEVENT
UID:sabre-vobject-0c86a8e3-a767-4495-b991-683c05791dc4
DTSTAMP:20260424T223048Z
SUMMARY:Local Employment & Volunteering HYBRID
DESCRIPTION:Learn how to build a career locally\n
X-ALT-DESC:FMTTYPE=text/html:<!DOCTYPE HTML PUBLIC "-//W3C//DTD HTML 3.2//E
 N"><HTML><p>Learn how to build a career locally</p>\n</HTML>
CREATED;TZID=Europe/Berlin:20231213T111434
URL;VALUE=URI:https://kaiserslautern.armymwr.com/view-event
DTSTART;TZID=Europe/Berlin:20230411T093000
DTEND;TZID=Europe/Berlin:20230411T110000
SEQUENCE:6
END:VEVENT
BEGIN:VEVENT
UID:sabre-vobject-6757b824-1c27-4aee-80b8-c8be7ee03a5d
DTSTAMP:20260424T223048Z
SUMMARY:Local Employment & Volunteering HYBRID
DESCRIPTION:Learn how to build a career locally\n
X-ALT-DESC:FMTTYPE=text/html:<!DOCTYPE HTML PUBLIC "-//W3C//DTD HTML 3.2//E
 N"><HTML><p>Learn how to build a career locally</p>\n</HTML>
CREATED;TZID=Europe/Berlin:20231213T111434
URL;VALUE=URI:https://kaiserslautern.armymwr.com/view-event
DTSTART;TZID=Europe/Berlin:20230627T093000
DTEND;TZID=Europe/Berlin:20230627T110000
SEQUENCE:7
END:VEVENT
BEGIN:VEVENT
UID:sabre-vobject-679406c9-f48d-480a-8bfb-d3eb8117165a
DTSTAMP:20260424T223048Z
SUMMARY:Local Employment & Volunteering HYBRID
DESCRIPTION:Learn how to build a career locally\n
X-ALT-DESC:FMTTYPE=text/html:<!DOCTYPE HTML PUBLIC "-//W3C//DTD HTML 3.2//E
 N"><HTML><p>Learn how to build a career locally</p>\n</HTML>
CREATED;TZID=Europe/Berlin:20231213T111434
URL;VALUE=URI:https://kaiserslautern.armymwr.com/view-event
DTSTART;TZID=Europe/Berlin:20230711T093000
DTEND;TZID=Europe/Berlin:20230711T110000
SEQUENCE:8
END:VEVENT
BEGIN:VEVENT
UID:sabre-vobject-efb462df-3c25-491e-b28f-ba48237ba749
DTSTAMP:20260424T223048Z
SUMMARY:Local Employment & Volunteering HYBRID
DESCRIPTION:Learn how to build a career locally\n
X-ALT-DESC:FMTTYPE=text/html:<!DOCTYPE HTML PUBLIC "-//W3C//DTD HTML 3.2//E
 N"><HTML><p>Learn how to build a career locally</p>\n</HTML>
CREATED;TZID=Europe/Berlin:20231213T111434
URL;VALUE=URI:https://kaiserslautern.armymwr.com/view-event
DTSTART;TZID=Europe/Berlin:20230926T093000
DTEND;TZID=Europe/Berlin:20230926T110000
SEQUENCE:9
END:VEVENT
BEGIN:VEVENT
UID:sabre-vobject-03c5b875-7538-437b-8c27-0e7ea2bad9d6
DTSTAMP:20260424T223048Z
SUMMARY:Local Employment & Volunteering HYBRID
DESCRIPTION:Learn how to build a career locally\n
X-ALT-DESC:FMTTYPE=text/html:<!DOCTYPE HTML PUBLIC "-//W3C//DTD HTML 3.2//E
 N"><HTML><p>Learn how to build a career locally</p>\n</HTML>
CREATED;TZID=Europe/Berlin:20231213T111434
URL;VALUE=URI:https://kaiserslautern.armymwr.com/view-event
DTSTART;TZID=Europe/Berlin:20231010T093000
DTEND;TZID=Europe/Berlin:20231010T110000
SEQUENCE:10
END:VEVENT
BEGIN:VEVENT
UID:sabre-vobject-9d8d3328-73e9-49dd-a353-31581858a4c7
DTSTAMP:20260424T223048Z
SUMMARY:Local Employment & Volunteering HYBRID
DESCRIPTION:Learn how to build a career locally\n
X-ALT-DESC:FMTTYPE=text/html:<!DOCTYPE HTML PUBLIC "-//W3C//DTD HTML 3.2//E
 N"><HTML><p>Learn how to build a career locally</p>\n</HTML>
CREATED;TZID=Europe/Berlin:20231213T111434
URL;VALUE=URI:https://kaiserslautern.armymwr.com/view-event
DTSTART;TZID=Europe/Berlin:20231226T093000
DTEND;TZID=Europe/Berlin:20231226T113000
SEQUENCE:11
END:VEVENT
BEGIN:VEVENT
UID:sabre-vobject-213fc3e9-a22d-40f5-b9f4-2d86770b8593
DTSTAMP:20260424T223048Z
SUMMARY:Local Employment & Volunteering HYBRID
DESCRIPTION:Learn how to build a career locally\n
X-ALT-DESC:FMTTYPE=text/html:<!DOCTYPE HTML PUBLIC "-//W3C//DTD HTML 3.2//E
 N"><HTML><p>Learn how to build a career locally</p>\n</HTML>
CREATED;TZID=Europe/Berlin:20231213T111434
URL;VALUE=URI:https://kaiserslautern.armymwr.com/view-event
DTSTART;TZID=Europe/Berlin:20240123T093000
DTEND;TZID=Europe/Berlin:20240123T113000
SEQUENCE:12
END:VEVENT
END:VCALENDAR
