BEGIN:VCALENDAR
VERSION:2.0
PRODID:-//Sabre//Sabre VObject 4.5.8//EN
CALSCALE:GREGORIAN
BEGIN:VEVENT
UID:sabre-vobject-e3cbe9ad-4f78-44fd-85bf-a26aa9aaa626
DTSTAMP:20260424T190825Z
SUMMARY:Gridiron Challenge
DESCRIPTION:Check out the end of season prizes!\n
X-ALT-DESC:FMTTYPE=text/html:<!DOCTYPE HTML PUBLIC "-//W3C//DTD HTML 3.2//E
 N"><HTML><p>Check out the end of season prizes!</p>\n</HTML>
CREATED;TZID=Europe/Berlin:20221220T100402
URL;VALUE=URI:https://kaiserslautern.armymwr.com/view-event
DTSTART;TZID=Europe/Berlin:20220907T180000
DTEND;TZID=Europe/Berlin:20220907T200000
SEQUENCE:0
END:VEVENT
BEGIN:VEVENT
UID:sabre-vobject-868cf99c-6280-4348-ad87-391102b612a5
DTSTAMP:20260424T190825Z
SUMMARY:Gridiron Challenge
DESCRIPTION:Check out the end of season prizes!\n
X-ALT-DESC:FMTTYPE=text/html:<!DOCTYPE HTML PUBLIC "-//W3C//DTD HTML 3.2//E
 N"><HTML><p>Check out the end of season prizes!</p>\n</HTML>
CREATED;TZID=Europe/Berlin:20221220T100402
URL;VALUE=URI:https://kaiserslautern.armymwr.com/view-event
DTSTART;TZID=Europe/Berlin:20220914T180000
DTEND;TZID=Europe/Berlin:20220914T200000
SEQUENCE:1
END:VEVENT
BEGIN:VEVENT
UID:sabre-vobject-21f7b6c3-6ac1-427a-b15e-9b965f0d310e
DTSTAMP:20260424T190825Z
SUMMARY:Gridiron Challenge
DESCRIPTION:Check out the end of season prizes!\n
X-ALT-DESC:FMTTYPE=text/html:<!DOCTYPE HTML PUBLIC "-//W3C//DTD HTML 3.2//E
 N"><HTML><p>Check out the end of season prizes!</p>\n</HTML>
CREATED;TZID=Europe/Berlin:20221220T100402
URL;VALUE=URI:https://kaiserslautern.armymwr.com/view-event
DTSTART;TZID=Europe/Berlin:20220921T180000
DTEND;TZID=Europe/Berlin:20220921T200000
SEQUENCE:2
END:VEVENT
BEGIN:VEVENT
UID:sabre-vobject-95ee4724-bbac-4696-a105-bb3ce0cfbe11
DTSTAMP:20260424T190825Z
SUMMARY:Gridiron Challenge
DESCRIPTION:Check out the end of season prizes!\n
X-ALT-DESC:FMTTYPE=text/html:<!DOCTYPE HTML PUBLIC "-//W3C//DTD HTML 3.2//E
 N"><HTML><p>Check out the end of season prizes!</p>\n</HTML>
CREATED;TZID=Europe/Berlin:20221220T100402
URL;VALUE=URI:https://kaiserslautern.armymwr.com/view-event
DTSTART;TZID=Europe/Berlin:20220928T180000
DTEND;TZID=Europe/Berlin:20220928T200000
SEQUENCE:3
END:VEVENT
BEGIN:VEVENT
UID:sabre-vobject-db5ff008-55e8-4894-84e3-5a77d93c4ee4
DTSTAMP:20260424T190825Z
SUMMARY:Gridiron Challenge
DESCRIPTION:Check out the end of season prizes!\n
X-ALT-DESC:FMTTYPE=text/html:<!DOCTYPE HTML PUBLIC "-//W3C//DTD HTML 3.2//E
 N"><HTML><p>Check out the end of season prizes!</p>\n</HTML>
CREATED;TZID=Europe/Berlin:20221220T100402
URL;VALUE=URI:https://kaiserslautern.armymwr.com/view-event
DTSTART;TZID=Europe/Berlin:20221005T180000
DTEND;TZID=Europe/Berlin:20221005T200000
SEQUENCE:4
END:VEVENT
BEGIN:VEVENT
UID:sabre-vobject-fb0fd6a4-3a8d-4141-a19c-2690e6200255
DTSTAMP:20260424T190825Z
SUMMARY:Gridiron Challenge
DESCRIPTION:Check out the end of season prizes!\n
X-ALT-DESC:FMTTYPE=text/html:<!DOCTYPE HTML PUBLIC "-//W3C//DTD HTML 3.2//E
 N"><HTML><p>Check out the end of season prizes!</p>\n</HTML>
CREATED;TZID=Europe/Berlin:20221220T100402
URL;VALUE=URI:https://kaiserslautern.armymwr.com/view-event
DTSTART;TZID=Europe/Berlin:20221012T180000
DTEND;TZID=Europe/Berlin:20221012T200000
SEQUENCE:5
END:VEVENT
BEGIN:VEVENT
UID:sabre-vobject-d51afd5c-ddfd-47df-b370-feefb03d85d6
DTSTAMP:20260424T190825Z
SUMMARY:Gridiron Challenge
DESCRIPTION:Check out the end of season prizes!\n
X-ALT-DESC:FMTTYPE=text/html:<!DOCTYPE HTML PUBLIC "-//W3C//DTD HTML 3.2//E
 N"><HTML><p>Check out the end of season prizes!</p>\n</HTML>
CREATED;TZID=Europe/Berlin:20221220T100402
URL;VALUE=URI:https://kaiserslautern.armymwr.com/view-event
DTSTART;TZID=Europe/Berlin:20221019T180000
DTEND;TZID=Europe/Berlin:20221019T200000
SEQUENCE:6
END:VEVENT
BEGIN:VEVENT
UID:sabre-vobject-602de2d9-9e03-46da-bc40-841858f71ea0
DTSTAMP:20260424T190825Z
SUMMARY:Gridiron Challenge
DESCRIPTION:Check out the end of season prizes!\n
X-ALT-DESC:FMTTYPE=text/html:<!DOCTYPE HTML PUBLIC "-//W3C//DTD HTML 3.2//E
 N"><HTML><p>Check out the end of season prizes!</p>\n</HTML>
CREATED;TZID=Europe/Berlin:20221220T100402
URL;VALUE=URI:https://kaiserslautern.armymwr.com/view-event
DTSTART;TZID=Europe/Berlin:20221026T180000
DTEND;TZID=Europe/Berlin:20221026T200000
SEQUENCE:7
END:VEVENT
BEGIN:VEVENT
UID:sabre-vobject-a18d3bd3-92e7-439b-a0be-0dd8cc9a5ce2
DTSTAMP:20260424T190825Z
SUMMARY:Gridiron Challenge
DESCRIPTION:Check out the end of season prizes!\n
X-ALT-DESC:FMTTYPE=text/html:<!DOCTYPE HTML PUBLIC "-//W3C//DTD HTML 3.2//E
 N"><HTML><p>Check out the end of season prizes!</p>\n</HTML>
CREATED;TZID=Europe/Berlin:20221220T100402
URL;VALUE=URI:https://kaiserslautern.armymwr.com/view-event
DTSTART;TZID=Europe/Berlin:20221102T180000
DTEND;TZID=Europe/Berlin:20221102T200000
SEQUENCE:8
END:VEVENT
BEGIN:VEVENT
UID:sabre-vobject-d3fc9653-3fc1-462c-92ea-35f4a73cc36a
DTSTAMP:20260424T190825Z
SUMMARY:Gridiron Challenge
DESCRIPTION:Check out the end of season prizes!\n
X-ALT-DESC:FMTTYPE=text/html:<!DOCTYPE HTML PUBLIC "-//W3C//DTD HTML 3.2//E
 N"><HTML><p>Check out the end of season prizes!</p>\n</HTML>
CREATED;TZID=Europe/Berlin:20221220T100402
URL;VALUE=URI:https://kaiserslautern.armymwr.com/view-event
DTSTART;TZID=Europe/Berlin:20221109T180000
DTEND;TZID=Europe/Berlin:20221109T200000
SEQUENCE:9
END:VEVENT
BEGIN:VEVENT
UID:sabre-vobject-55064cef-b09f-434a-a7b4-92b57b39fcd9
DTSTAMP:20260424T190825Z
SUMMARY:Gridiron Challenge
DESCRIPTION:Check out the end of season prizes!\n
X-ALT-DESC:FMTTYPE=text/html:<!DOCTYPE HTML PUBLIC "-//W3C//DTD HTML 3.2//E
 N"><HTML><p>Check out the end of season prizes!</p>\n</HTML>
CREATED;TZID=Europe/Berlin:20221220T100402
URL;VALUE=URI:https://kaiserslautern.armymwr.com/view-event
DTSTART;TZID=Europe/Berlin:20221116T180000
DTEND;TZID=Europe/Berlin:20221116T200000
SEQUENCE:10
END:VEVENT
BEGIN:VEVENT
UID:sabre-vobject-b30a8b95-564f-4a76-b266-ec17ecd5ac26
DTSTAMP:20260424T190825Z
SUMMARY:Gridiron Challenge
DESCRIPTION:Check out the end of season prizes!\n
X-ALT-DESC:FMTTYPE=text/html:<!DOCTYPE HTML PUBLIC "-//W3C//DTD HTML 3.2//E
 N"><HTML><p>Check out the end of season prizes!</p>\n</HTML>
CREATED;TZID=Europe/Berlin:20221220T100402
URL;VALUE=URI:https://kaiserslautern.armymwr.com/view-event
DTSTART;TZID=Europe/Berlin:20221123T180000
DTEND;TZID=Europe/Berlin:20221123T200000
SEQUENCE:11
END:VEVENT
BEGIN:VEVENT
UID:sabre-vobject-9cdd5982-f0f3-4bd7-bc05-54bf2133907c
DTSTAMP:20260424T190825Z
SUMMARY:Gridiron Challenge
DESCRIPTION:Check out the end of season prizes!\n
X-ALT-DESC:FMTTYPE=text/html:<!DOCTYPE HTML PUBLIC "-//W3C//DTD HTML 3.2//E
 N"><HTML><p>Check out the end of season prizes!</p>\n</HTML>
CREATED;TZID=Europe/Berlin:20221220T100402
URL;VALUE=URI:https://kaiserslautern.armymwr.com/view-event
DTSTART;TZID=Europe/Berlin:20221130T180000
DTEND;TZID=Europe/Berlin:20221130T200000
SEQUENCE:12
END:VEVENT
BEGIN:VEVENT
UID:sabre-vobject-96105347-e33d-4ba6-84a9-4ec93e52d067
DTSTAMP:20260424T190825Z
SUMMARY:Gridiron Challenge
DESCRIPTION:Check out the end of season prizes!\n
X-ALT-DESC:FMTTYPE=text/html:<!DOCTYPE HTML PUBLIC "-//W3C//DTD HTML 3.2//E
 N"><HTML><p>Check out the end of season prizes!</p>\n</HTML>
CREATED;TZID=Europe/Berlin:20221220T100402
URL;VALUE=URI:https://kaiserslautern.armymwr.com/view-event
DTSTART;TZID=Europe/Berlin:20221207T180000
DTEND;TZID=Europe/Berlin:20221207T200000
SEQUENCE:13
END:VEVENT
BEGIN:VEVENT
UID:sabre-vobject-bf165241-6605-4158-8e77-1fd03e484ec3
DTSTAMP:20260424T190825Z
SUMMARY:Gridiron Challenge
DESCRIPTION:Check out the end of season prizes!\n
X-ALT-DESC:FMTTYPE=text/html:<!DOCTYPE HTML PUBLIC "-//W3C//DTD HTML 3.2//E
 N"><HTML><p>Check out the end of season prizes!</p>\n</HTML>
CREATED;TZID=Europe/Berlin:20221220T100402
URL;VALUE=URI:https://kaiserslautern.armymwr.com/view-event
DTSTART;TZID=Europe/Berlin:20221214T180000
DTEND;TZID=Europe/Berlin:20221214T200000
SEQUENCE:14
END:VEVENT
BEGIN:VEVENT
UID:sabre-vobject-982c613a-0aa2-48d5-a5bc-e41a8fce980e
DTSTAMP:20260424T190825Z
SUMMARY:Gridiron Challenge
DESCRIPTION:Check out the end of season prizes!\n
X-ALT-DESC:FMTTYPE=text/html:<!DOCTYPE HTML PUBLIC "-//W3C//DTD HTML 3.2//E
 N"><HTML><p>Check out the end of season prizes!</p>\n</HTML>
CREATED;TZID=Europe/Berlin:20221220T100402
URL;VALUE=URI:https://kaiserslautern.armymwr.com/view-event
DTSTART;TZID=Europe/Berlin:20221221T180000
DTEND;TZID=Europe/Berlin:20221221T200000
SEQUENCE:15
END:VEVENT
BEGIN:VEVENT
UID:sabre-vobject-cc2be2f1-e17a-40cd-ad51-1e039f5e599c
DTSTAMP:20260424T190825Z
SUMMARY:Gridiron Challenge
DESCRIPTION:Check out the end of season prizes!\n
X-ALT-DESC:FMTTYPE=text/html:<!DOCTYPE HTML PUBLIC "-//W3C//DTD HTML 3.2//E
 N"><HTML><p>Check out the end of season prizes!</p>\n</HTML>
CREATED;TZID=Europe/Berlin:20221220T100402
URL;VALUE=URI:https://kaiserslautern.armymwr.com/view-event
DTSTART;TZID=Europe/Berlin:20221228T180000
DTEND;TZID=Europe/Berlin:20221228T200000
SEQUENCE:16
END:VEVENT
BEGIN:VEVENT
UID:sabre-vobject-c6535693-049d-46a3-9f28-8f846c7840a0
DTSTAMP:20260424T190825Z
SUMMARY:Gridiron Challenge
DESCRIPTION:Check out the end of season prizes!\n
X-ALT-DESC:FMTTYPE=text/html:<!DOCTYPE HTML PUBLIC "-//W3C//DTD HTML 3.2//E
 N"><HTML><p>Check out the end of season prizes!</p>\n</HTML>
CREATED;TZID=Europe/Berlin:20221220T100402
URL;VALUE=URI:https://kaiserslautern.armymwr.com/view-event
DTSTART;TZID=Europe/Berlin:20230104T180000
DTEND;TZID=Europe/Berlin:20230104T200000
SEQUENCE:17
END:VEVENT
BEGIN:VEVENT
UID:sabre-vobject-b69b9e6e-4bf0-4072-852c-c5ff8b3c2031
DTSTAMP:20260424T190825Z
SUMMARY:Gridiron Challenge
DESCRIPTION:Check out the end of season prizes!\n
X-ALT-DESC:FMTTYPE=text/html:<!DOCTYPE HTML PUBLIC "-//W3C//DTD HTML 3.2//E
 N"><HTML><p>Check out the end of season prizes!</p>\n</HTML>
CREATED;TZID=Europe/Berlin:20221220T100402
URL;VALUE=URI:https://kaiserslautern.armymwr.com/view-event
DTSTART;TZID=Europe/Berlin:20230111T180000
DTEND;TZID=Europe/Berlin:20230111T200000
SEQUENCE:18
END:VEVENT
BEGIN:VEVENT
UID:sabre-vobject-89b44a31-1151-427c-9689-132fa1d6a14f
DTSTAMP:20260424T190825Z
SUMMARY:Gridiron Challenge
DESCRIPTION:Check out the end of season prizes!\n
X-ALT-DESC:FMTTYPE=text/html:<!DOCTYPE HTML PUBLIC "-//W3C//DTD HTML 3.2//E
 N"><HTML><p>Check out the end of season prizes!</p>\n</HTML>
CREATED;TZID=Europe/Berlin:20221220T100402
URL;VALUE=URI:https://kaiserslautern.armymwr.com/view-event
DTSTART;TZID=Europe/Berlin:20230118T180000
DTEND;TZID=Europe/Berlin:20230118T200000
SEQUENCE:19
END:VEVENT
END:VCALENDAR
