BEGIN:VCALENDAR
VERSION:2.0
PRODID:-//Sabre//Sabre VObject 4.5.8//EN
CALSCALE:GREGORIAN
BEGIN:VEVENT
UID:sabre-vobject-5617fb3a-0055-4c7a-b453-960104238349
DTSTAMP:20260424T205038Z
SUMMARY:LEGO Free Build Hour
DESCRIPTION:
X-ALT-DESC:FMTTYPE=text/html:<!DOCTYPE HTML PUBLIC "-//W3C//DTD HTML 3.2//E
 N"><HTML></HTML>
CREATED;TZID=Europe/Berlin:20230628T124804
URL;VALUE=URI:https://kaiserslautern.armymwr.com/view-event
DTSTART;TZID=Europe/Berlin:20221014T000000
DTEND;TZID=Europe/Berlin:20221014T235959
SEQUENCE:0
END:VEVENT
END:VCALENDAR
