BEGIN:VCALENDAR
VERSION:2.0
PRODID:-//Sabre//Sabre VObject 4.5.8//EN
CALSCALE:GREGORIAN
BEGIN:VEVENT
UID:sabre-vobject-82e6d76a-d425-43a7-8ccc-2b9698221a97
DTSTAMP:20260426T014641Z
SUMMARY:Armstrong’s Club Thanksgiving Buffet
DESCRIPTION:
X-ALT-DESC:FMTTYPE=text/html:<!DOCTYPE HTML PUBLIC "-//W3C//DTD HTML 3.2//E
 N"><HTML></HTML>
CREATED;TZID=Europe/Berlin:20221115T141605
URL;VALUE=URI:https://kaiserslautern.armymwr.com/view-event
DTSTART;TZID=Europe/Berlin:20221124T110000
DTEND;TZID=Europe/Berlin:20221124T150000
SEQUENCE:0
END:VEVENT
END:VCALENDAR
