BEGIN:VCALENDAR
VERSION:2.0
PRODID:-//Sabre//Sabre VObject 4.5.8//EN
CALSCALE:GREGORIAN
BEGIN:VEVENT
UID:sabre-vobject-b4f1ce5d-2fc0-4cb5-afb6-1a2d7ca6baef
DTSTAMP:20260426T000100Z
SUMMARY:Arcadia Auditions
DESCRIPTION:
X-ALT-DESC:FMTTYPE=text/html:<!DOCTYPE HTML PUBLIC "-//W3C//DTD HTML 3.2//E
 N"><HTML></HTML>
CREATED;TZID=Europe/Berlin:20221123T111310
URL;VALUE=URI:https://kaiserslautern.armymwr.com/view-event
DTSTART;TZID=Europe/Berlin:20221205T190000
DTEND;TZID=Europe/Berlin:20221205T200000
SEQUENCE:0
END:VEVENT
BEGIN:VEVENT
UID:sabre-vobject-7bd04598-cc5f-482f-96e4-e6b8fee091fc
DTSTAMP:20260426T000100Z
SUMMARY:Arcadia Auditions
DESCRIPTION:
X-ALT-DESC:FMTTYPE=text/html:<!DOCTYPE HTML PUBLIC "-//W3C//DTD HTML 3.2//E
 N"><HTML></HTML>
CREATED;TZID=Europe/Berlin:20221123T111310
URL;VALUE=URI:https://kaiserslautern.armymwr.com/view-event
DTSTART;TZID=Europe/Berlin:20221206T190000
DTEND;TZID=Europe/Berlin:20221206T200000
SEQUENCE:1
END:VEVENT
END:VCALENDAR
