BEGIN:VCALENDAR
VERSION:2.0
PRODID:-//Sabre//Sabre VObject 4.5.8//EN
CALSCALE:GREGORIAN
BEGIN:VEVENT
UID:sabre-vobject-e9fc1a98-5550-4485-90ed-fa0cca17d96b
DTSTAMP:20260424T094230Z
SUMMARY:Saar River Overnight Bike Ride
DESCRIPTION:Bicycle 110 km from France to Konz through the Saar valley\, on
 e of the most attractive regions in Germany.\n
X-ALT-DESC:FMTTYPE=text/html:<!DOCTYPE HTML PUBLIC "-//W3C//DTD HTML 3.2//E
 N"><HTML><p><strong>Bicycle 110 km</strong> from France to Konz through th
 e <strong>Saar valley</strong>\, one of the most attractive regions in Ger
 many.</p>\n</HTML>
CREATED;TZID=Europe/Berlin:20250306T134714
URL;VALUE=URI:https://kaiserslautern.armymwr.com/view-event
DTSTART;TZID=Europe/Berlin:20250510T080000
DTEND;TZID=Europe/Berlin:20250511T180000
SEQUENCE:0
END:VEVENT
END:VCALENDAR
