BEGIN:VCALENDAR
VERSION:2.0
PRODID:-//Sabre//Sabre VObject 4.5.8//EN
CALSCALE:GREGORIAN
BEGIN:VEVENT
UID:sabre-vobject-a49b1122-5568-4df2-85f9-a40d78bc0f83
DTSTAMP:20260419T165736Z
SUMMARY:Smooth Move Workshop - ONLINE
DESCRIPTION:Are you getting ready to PCS? Let ACS help you get ready for th
 e transition!&nbsp\;\n
X-ALT-DESC:FMTTYPE=text/html:<!DOCTYPE HTML PUBLIC "-//W3C//DTD HTML 3.2//E
 N"><HTML><p>Are you getting ready to PCS? Let ACS help you get ready for t
 he transition!&nbsp\;</p>\n</HTML>
CREATED;TZID=Europe/Berlin:20260318T093541
URL;VALUE=URI:https://kaiserslautern.armymwr.com/view-event
DTSTART;TZID=Europe/Berlin:20240626T093000
DTEND;TZID=Europe/Berlin:20240626T110000
SEQUENCE:0
END:VEVENT
BEGIN:VEVENT
UID:sabre-vobject-6a78e5b7-b2db-4b2a-ac3a-f8a3a4553331
DTSTAMP:20260419T165736Z
SUMMARY:Smooth Move Workshop - ONLINE
DESCRIPTION:Are you getting ready to PCS? Let ACS help you get ready for th
 e transition!&nbsp\;\n
X-ALT-DESC:FMTTYPE=text/html:<!DOCTYPE HTML PUBLIC "-//W3C//DTD HTML 3.2//E
 N"><HTML><p>Are you getting ready to PCS? Let ACS help you get ready for t
 he transition!&nbsp\;</p>\n</HTML>
CREATED;TZID=Europe/Berlin:20260318T093541
URL;VALUE=URI:https://kaiserslautern.armymwr.com/view-event
DTSTART;TZID=Europe/Berlin:20240828T093000
DTEND;TZID=Europe/Berlin:20240828T110000
SEQUENCE:1
END:VEVENT
BEGIN:VEVENT
UID:sabre-vobject-488b20e5-35b6-474d-b9dc-6e12562eabcc
DTSTAMP:20260419T165736Z
SUMMARY:Smooth Move Workshop - ONLINE
DESCRIPTION:Are you getting ready to PCS? Let ACS help you get ready for th
 e transition!&nbsp\;\n
X-ALT-DESC:FMTTYPE=text/html:<!DOCTYPE HTML PUBLIC "-//W3C//DTD HTML 3.2//E
 N"><HTML><p>Are you getting ready to PCS? Let ACS help you get ready for t
 he transition!&nbsp\;</p>\n</HTML>
CREATED;TZID=Europe/Berlin:20260318T093541
URL;VALUE=URI:https://kaiserslautern.armymwr.com/view-event
DTSTART;TZID=Europe/Berlin:20240925T093000
DTEND;TZID=Europe/Berlin:20240925T110000
SEQUENCE:2
END:VEVENT
BEGIN:VEVENT
UID:sabre-vobject-4231a8e5-a6fe-4ad9-95bb-d5e8a8621c4e
DTSTAMP:20260419T165736Z
SUMMARY:Smooth Move Workshop - ONLINE
DESCRIPTION:Are you getting ready to PCS? Let ACS help you get ready for th
 e transition!&nbsp\;\n
X-ALT-DESC:FMTTYPE=text/html:<!DOCTYPE HTML PUBLIC "-//W3C//DTD HTML 3.2//E
 N"><HTML><p>Are you getting ready to PCS? Let ACS help you get ready for t
 he transition!&nbsp\;</p>\n</HTML>
CREATED;TZID=Europe/Berlin:20260318T093541
URL;VALUE=URI:https://kaiserslautern.armymwr.com/view-event
DTSTART;TZID=Europe/Berlin:20241023T093000
DTEND;TZID=Europe/Berlin:20241023T110000
SEQUENCE:3
END:VEVENT
BEGIN:VEVENT
UID:sabre-vobject-ab706053-4ef9-47bf-a596-281485a13a05
DTSTAMP:20260419T165736Z
SUMMARY:Smooth Move Workshop - ONLINE
DESCRIPTION:Are you getting ready to PCS? Let ACS help you get ready for th
 e transition!&nbsp\;\n
X-ALT-DESC:FMTTYPE=text/html:<!DOCTYPE HTML PUBLIC "-//W3C//DTD HTML 3.2//E
 N"><HTML><p>Are you getting ready to PCS? Let ACS help you get ready for t
 he transition!&nbsp\;</p>\n</HTML>
CREATED;TZID=Europe/Berlin:20260318T093541
URL;VALUE=URI:https://kaiserslautern.armymwr.com/view-event
DTSTART;TZID=Europe/Berlin:20241127T093000
DTEND;TZID=Europe/Berlin:20241127T110000
SEQUENCE:4
END:VEVENT
BEGIN:VEVENT
UID:sabre-vobject-636b51d5-f4f0-41d3-98de-9e46f35754e4
DTSTAMP:20260419T165736Z
SUMMARY:Smooth Move Workshop - ONLINE
DESCRIPTION:Are you getting ready to PCS? Let ACS help you get ready for th
 e transition!&nbsp\;\n
X-ALT-DESC:FMTTYPE=text/html:<!DOCTYPE HTML PUBLIC "-//W3C//DTD HTML 3.2//E
 N"><HTML><p>Are you getting ready to PCS? Let ACS help you get ready for t
 he transition!&nbsp\;</p>\n</HTML>
CREATED;TZID=Europe/Berlin:20260318T093541
URL;VALUE=URI:https://kaiserslautern.armymwr.com/view-event
DTSTART;TZID=Europe/Berlin:20241218T093000
DTEND;TZID=Europe/Berlin:20241218T110000
SEQUENCE:5
END:VEVENT
BEGIN:VEVENT
UID:sabre-vobject-f95d943f-ac71-41f9-ae61-b002df583272
DTSTAMP:20260419T165736Z
SUMMARY:Smooth Move Workshop - ONLINE
DESCRIPTION:Are you getting ready to PCS? Let ACS help you get ready for th
 e transition!&nbsp\;\n
X-ALT-DESC:FMTTYPE=text/html:<!DOCTYPE HTML PUBLIC "-//W3C//DTD HTML 3.2//E
 N"><HTML><p>Are you getting ready to PCS? Let ACS help you get ready for t
 he transition!&nbsp\;</p>\n</HTML>
CREATED;TZID=Europe/Berlin:20260318T093541
URL;VALUE=URI:https://kaiserslautern.armymwr.com/view-event
DTSTART;TZID=Europe/Berlin:20250129T093000
DTEND;TZID=Europe/Berlin:20250129T110000
SEQUENCE:6
END:VEVENT
BEGIN:VEVENT
UID:sabre-vobject-7c50763b-bdaf-42d6-94d9-888e50f63b52
DTSTAMP:20260419T165736Z
SUMMARY:Smooth Move Workshop - ONLINE
DESCRIPTION:Are you getting ready to PCS? Let ACS help you get ready for th
 e transition!&nbsp\;\n
X-ALT-DESC:FMTTYPE=text/html:<!DOCTYPE HTML PUBLIC "-//W3C//DTD HTML 3.2//E
 N"><HTML><p>Are you getting ready to PCS? Let ACS help you get ready for t
 he transition!&nbsp\;</p>\n</HTML>
CREATED;TZID=Europe/Berlin:20260318T093541
URL;VALUE=URI:https://kaiserslautern.armymwr.com/view-event
DTSTART;TZID=Europe/Berlin:20250226T093000
DTEND;TZID=Europe/Berlin:20250226T110000
SEQUENCE:7
END:VEVENT
BEGIN:VEVENT
UID:sabre-vobject-d1f6cfc3-8fa2-4ab3-9602-adf52ff259f7
DTSTAMP:20260419T165736Z
SUMMARY:Smooth Move Workshop - ONLINE
DESCRIPTION:Are you getting ready to PCS? Let ACS help you get ready for th
 e transition!&nbsp\;\n
X-ALT-DESC:FMTTYPE=text/html:<!DOCTYPE HTML PUBLIC "-//W3C//DTD HTML 3.2//E
 N"><HTML><p>Are you getting ready to PCS? Let ACS help you get ready for t
 he transition!&nbsp\;</p>\n</HTML>
CREATED;TZID=Europe/Berlin:20260318T093541
URL;VALUE=URI:https://kaiserslautern.armymwr.com/view-event
DTSTART;TZID=Europe/Berlin:20250326T093000
DTEND;TZID=Europe/Berlin:20250326T110000
SEQUENCE:8
END:VEVENT
BEGIN:VEVENT
UID:sabre-vobject-4ad35410-ac76-4656-8e9a-022f3b998e17
DTSTAMP:20260419T165736Z
SUMMARY:Smooth Move Workshop - ONLINE
DESCRIPTION:Are you getting ready to PCS? Let ACS help you get ready for th
 e transition!&nbsp\;\n
X-ALT-DESC:FMTTYPE=text/html:<!DOCTYPE HTML PUBLIC "-//W3C//DTD HTML 3.2//E
 N"><HTML><p>Are you getting ready to PCS? Let ACS help you get ready for t
 he transition!&nbsp\;</p>\n</HTML>
CREATED;TZID=Europe/Berlin:20260318T093541
URL;VALUE=URI:https://kaiserslautern.armymwr.com/view-event
DTSTART;TZID=Europe/Berlin:20250430T093000
DTEND;TZID=Europe/Berlin:20250430T110000
SEQUENCE:9
END:VEVENT
BEGIN:VEVENT
UID:sabre-vobject-647cb07e-90ba-4f50-89ca-784b76850149
DTSTAMP:20260419T165736Z
SUMMARY:Smooth Move Workshop - ONLINE
DESCRIPTION:Are you getting ready to PCS? Let ACS help you get ready for th
 e transition!&nbsp\;\n
X-ALT-DESC:FMTTYPE=text/html:<!DOCTYPE HTML PUBLIC "-//W3C//DTD HTML 3.2//E
 N"><HTML><p>Are you getting ready to PCS? Let ACS help you get ready for t
 he transition!&nbsp\;</p>\n</HTML>
CREATED;TZID=Europe/Berlin:20260318T093541
URL;VALUE=URI:https://kaiserslautern.armymwr.com/view-event
DTSTART;TZID=Europe/Berlin:20250521T093000
DTEND;TZID=Europe/Berlin:20250521T110000
SEQUENCE:10
END:VEVENT
BEGIN:VEVENT
UID:sabre-vobject-905ad74b-2bf3-45ca-8345-130b9b63daaa
DTSTAMP:20260419T165736Z
SUMMARY:Smooth Move Workshop - ONLINE
DESCRIPTION:Are you getting ready to PCS? Let ACS help you get ready for th
 e transition!&nbsp\;\n
X-ALT-DESC:FMTTYPE=text/html:<!DOCTYPE HTML PUBLIC "-//W3C//DTD HTML 3.2//E
 N"><HTML><p>Are you getting ready to PCS? Let ACS help you get ready for t
 he transition!&nbsp\;</p>\n</HTML>
CREATED;TZID=Europe/Berlin:20260318T093541
URL;VALUE=URI:https://kaiserslautern.armymwr.com/view-event
DTSTART;TZID=Europe/Berlin:20250625T093000
DTEND;TZID=Europe/Berlin:20250625T110000
SEQUENCE:11
END:VEVENT
BEGIN:VEVENT
UID:sabre-vobject-7f42c9be-a66b-4ee3-812c-bab479f7b3ce
DTSTAMP:20260419T165736Z
SUMMARY:Smooth Move Workshop - ONLINE
DESCRIPTION:Are you getting ready to PCS? Let ACS help you get ready for th
 e transition!&nbsp\;\n
X-ALT-DESC:FMTTYPE=text/html:<!DOCTYPE HTML PUBLIC "-//W3C//DTD HTML 3.2//E
 N"><HTML><p>Are you getting ready to PCS? Let ACS help you get ready for t
 he transition!&nbsp\;</p>\n</HTML>
CREATED;TZID=Europe/Berlin:20260318T093541
URL;VALUE=URI:https://kaiserslautern.armymwr.com/view-event
DTSTART;TZID=Europe/Berlin:20250625T133000
DTEND;TZID=Europe/Berlin:20250625T143000
SEQUENCE:12
END:VEVENT
BEGIN:VEVENT
UID:sabre-vobject-7234725f-2ef8-4a86-9a8d-fa48a16c56d6
DTSTAMP:20260419T165736Z
SUMMARY:Smooth Move Workshop - ONLINE
DESCRIPTION:Are you getting ready to PCS? Let ACS help you get ready for th
 e transition!&nbsp\;\n
X-ALT-DESC:FMTTYPE=text/html:<!DOCTYPE HTML PUBLIC "-//W3C//DTD HTML 3.2//E
 N"><HTML><p>Are you getting ready to PCS? Let ACS help you get ready for t
 he transition!&nbsp\;</p>\n</HTML>
CREATED;TZID=Europe/Berlin:20260318T093541
URL;VALUE=URI:https://kaiserslautern.armymwr.com/view-event
DTSTART;TZID=Europe/Berlin:20250724T093000
DTEND;TZID=Europe/Berlin:20250724T110000
SEQUENCE:13
END:VEVENT
BEGIN:VEVENT
UID:sabre-vobject-5182317e-8bf9-4611-9504-2cb0fe5f3824
DTSTAMP:20260419T165736Z
SUMMARY:Smooth Move Workshop - ONLINE
DESCRIPTION:Are you getting ready to PCS? Let ACS help you get ready for th
 e transition!&nbsp\;\n
X-ALT-DESC:FMTTYPE=text/html:<!DOCTYPE HTML PUBLIC "-//W3C//DTD HTML 3.2//E
 N"><HTML><p>Are you getting ready to PCS? Let ACS help you get ready for t
 he transition!&nbsp\;</p>\n</HTML>
CREATED;TZID=Europe/Berlin:20260318T093541
URL;VALUE=URI:https://kaiserslautern.armymwr.com/view-event
DTSTART;TZID=Europe/Berlin:20250826T093000
DTEND;TZID=Europe/Berlin:20250826T110000
SEQUENCE:14
END:VEVENT
BEGIN:VEVENT
UID:sabre-vobject-5686aef1-3373-4c30-81eb-e48d7b8a9649
DTSTAMP:20260419T165736Z
SUMMARY:Smooth Move Workshop - ONLINE
DESCRIPTION:Are you getting ready to PCS? Let ACS help you get ready for th
 e transition!&nbsp\;\n
X-ALT-DESC:FMTTYPE=text/html:<!DOCTYPE HTML PUBLIC "-//W3C//DTD HTML 3.2//E
 N"><HTML><p>Are you getting ready to PCS? Let ACS help you get ready for t
 he transition!&nbsp\;</p>\n</HTML>
CREATED;TZID=Europe/Berlin:20260318T093541
URL;VALUE=URI:https://kaiserslautern.armymwr.com/view-event
DTSTART;TZID=Europe/Berlin:20250924T093000
DTEND;TZID=Europe/Berlin:20250924T110000
SEQUENCE:15
END:VEVENT
BEGIN:VEVENT
UID:sabre-vobject-95dfd21e-e26d-48ec-a6e6-9b13ebc87fe7
DTSTAMP:20260419T165736Z
SUMMARY:Smooth Move Workshop - ONLINE
DESCRIPTION:Are you getting ready to PCS? Let ACS help you get ready for th
 e transition!&nbsp\;\n
X-ALT-DESC:FMTTYPE=text/html:<!DOCTYPE HTML PUBLIC "-//W3C//DTD HTML 3.2//E
 N"><HTML><p>Are you getting ready to PCS? Let ACS help you get ready for t
 he transition!&nbsp\;</p>\n</HTML>
CREATED;TZID=Europe/Berlin:20260318T093541
URL;VALUE=URI:https://kaiserslautern.armymwr.com/view-event
DTSTART;TZID=Europe/Berlin:20251029T093000
DTEND;TZID=Europe/Berlin:20251029T110000
SEQUENCE:16
END:VEVENT
BEGIN:VEVENT
UID:sabre-vobject-8ccf0be9-b399-49e4-b24e-9f21cc89ef5a
DTSTAMP:20260419T165736Z
SUMMARY:Smooth Move Workshop - ONLINE
DESCRIPTION:Are you getting ready to PCS? Let ACS help you get ready for th
 e transition!&nbsp\;\n
X-ALT-DESC:FMTTYPE=text/html:<!DOCTYPE HTML PUBLIC "-//W3C//DTD HTML 3.2//E
 N"><HTML><p>Are you getting ready to PCS? Let ACS help you get ready for t
 he transition!&nbsp\;</p>\n</HTML>
CREATED;TZID=Europe/Berlin:20260318T093541
URL;VALUE=URI:https://kaiserslautern.armymwr.com/view-event
DTSTART;TZID=Europe/Berlin:20251217T093000
DTEND;TZID=Europe/Berlin:20251217T110000
SEQUENCE:17
END:VEVENT
BEGIN:VEVENT
UID:sabre-vobject-69a9623e-85b0-4568-abf7-0ecc85607041
DTSTAMP:20260419T165736Z
SUMMARY:Smooth Move Workshop - ONLINE
DESCRIPTION:Are you getting ready to PCS? Let ACS help you get ready for th
 e transition!&nbsp\;\n
X-ALT-DESC:FMTTYPE=text/html:<!DOCTYPE HTML PUBLIC "-//W3C//DTD HTML 3.2//E
 N"><HTML><p>Are you getting ready to PCS? Let ACS help you get ready for t
 he transition!&nbsp\;</p>\n</HTML>
CREATED;TZID=Europe/Berlin:20260318T093541
URL;VALUE=URI:https://kaiserslautern.armymwr.com/view-event
DTSTART;TZID=Europe/Berlin:20260422T100000
DTEND;TZID=Europe/Berlin:20260422T110000
SEQUENCE:18
END:VEVENT
END:VCALENDAR
