BEGIN:VCALENDAR
VERSION:2.0
PRODID:-//Sabre//Sabre VObject 4.5.8//EN
CALSCALE:GREGORIAN
BEGIN:VEVENT
UID:sabre-vobject-f2b41f78-c6e8-487b-9a2e-ab96badca3ce
DTSTAMP:20260426T030012Z
SUMMARY:Brown Bag Lunch
DESCRIPTION:Training sessions on domestic abuse preventative measures.\n
X-ALT-DESC:FMTTYPE=text/html:<!DOCTYPE HTML PUBLIC "-//W3C//DTD HTML 3.2//E
 N"><HTML><p>Training sessions on domestic abuse preventative measures.</p>
 \n</HTML>
CREATED;TZID=Europe/Berlin:20250912T095942
URL;VALUE=URI:https://kaiserslautern.armymwr.com/view-event
DTSTART;TZID=Europe/Berlin:20240626T120000
DTEND;TZID=Europe/Berlin:20240626T130000
SEQUENCE:0
END:VEVENT
BEGIN:VEVENT
UID:sabre-vobject-ce865e7f-6eeb-4397-bdf3-bbb7f004eec4
DTSTAMP:20260426T030012Z
SUMMARY:Brown Bag Lunch
DESCRIPTION:Training sessions on domestic abuse preventative measures.\n
X-ALT-DESC:FMTTYPE=text/html:<!DOCTYPE HTML PUBLIC "-//W3C//DTD HTML 3.2//E
 N"><HTML><p>Training sessions on domestic abuse preventative measures.</p>
 \n</HTML>
CREATED;TZID=Europe/Berlin:20250912T095942
URL;VALUE=URI:https://kaiserslautern.armymwr.com/view-event
DTSTART;TZID=Europe/Berlin:20240821T120000
DTEND;TZID=Europe/Berlin:20240821T130000
SEQUENCE:1
END:VEVENT
BEGIN:VEVENT
UID:sabre-vobject-ee3d63a1-6e37-4004-b4d8-4a8de6652712
DTSTAMP:20260426T030012Z
SUMMARY:Brown Bag Lunch
DESCRIPTION:Training sessions on domestic abuse preventative measures.\n
X-ALT-DESC:FMTTYPE=text/html:<!DOCTYPE HTML PUBLIC "-//W3C//DTD HTML 3.2//E
 N"><HTML><p>Training sessions on domestic abuse preventative measures.</p>
 \n</HTML>
CREATED;TZID=Europe/Berlin:20250912T095942
URL;VALUE=URI:https://kaiserslautern.armymwr.com/view-event
DTSTART;TZID=Europe/Berlin:20240918T120000
DTEND;TZID=Europe/Berlin:20240918T130000
SEQUENCE:2
END:VEVENT
BEGIN:VEVENT
UID:sabre-vobject-f16ff8ff-281d-4c04-8522-8d24292a663e
DTSTAMP:20260426T030012Z
SUMMARY:Brown Bag Lunch
DESCRIPTION:Training sessions on domestic abuse preventative measures.\n
X-ALT-DESC:FMTTYPE=text/html:<!DOCTYPE HTML PUBLIC "-//W3C//DTD HTML 3.2//E
 N"><HTML><p>Training sessions on domestic abuse preventative measures.</p>
 \n</HTML>
CREATED;TZID=Europe/Berlin:20250912T095942
URL;VALUE=URI:https://kaiserslautern.armymwr.com/view-event
DTSTART;TZID=Europe/Berlin:20241016T120000
DTEND;TZID=Europe/Berlin:20241016T130000
SEQUENCE:3
END:VEVENT
BEGIN:VEVENT
UID:sabre-vobject-e0044834-048d-4bd8-a7a7-ed0928cd4b88
DTSTAMP:20260426T030012Z
SUMMARY:Brown Bag Lunch
DESCRIPTION:Training sessions on domestic abuse preventative measures.\n
X-ALT-DESC:FMTTYPE=text/html:<!DOCTYPE HTML PUBLIC "-//W3C//DTD HTML 3.2//E
 N"><HTML><p>Training sessions on domestic abuse preventative measures.</p>
 \n</HTML>
CREATED;TZID=Europe/Berlin:20250912T095942
URL;VALUE=URI:https://kaiserslautern.armymwr.com/view-event
DTSTART;TZID=Europe/Berlin:20241121T120000
DTEND;TZID=Europe/Berlin:20241121T130000
SEQUENCE:4
END:VEVENT
BEGIN:VEVENT
UID:sabre-vobject-b21d291a-8b2f-40d3-835a-fbe6f48421a2
DTSTAMP:20260426T030012Z
SUMMARY:Brown Bag Lunch
DESCRIPTION:Training sessions on domestic abuse preventative measures.\n
X-ALT-DESC:FMTTYPE=text/html:<!DOCTYPE HTML PUBLIC "-//W3C//DTD HTML 3.2//E
 N"><HTML><p>Training sessions on domestic abuse preventative measures.</p>
 \n</HTML>
CREATED;TZID=Europe/Berlin:20250912T095942
URL;VALUE=URI:https://kaiserslautern.armymwr.com/view-event
DTSTART;TZID=Europe/Berlin:20241211T120000
DTEND;TZID=Europe/Berlin:20241211T130000
SEQUENCE:5
END:VEVENT
BEGIN:VEVENT
UID:sabre-vobject-40650aec-96f9-4eb1-b512-2fc982999e41
DTSTAMP:20260426T030012Z
SUMMARY:Brown Bag Lunch
DESCRIPTION:Training sessions on domestic abuse preventative measures.\n
X-ALT-DESC:FMTTYPE=text/html:<!DOCTYPE HTML PUBLIC "-//W3C//DTD HTML 3.2//E
 N"><HTML><p>Training sessions on domestic abuse preventative measures.</p>
 \n</HTML>
CREATED;TZID=Europe/Berlin:20250912T095942
URL;VALUE=URI:https://kaiserslautern.armymwr.com/view-event
DTSTART;TZID=Europe/Berlin:20250115T120000
DTEND;TZID=Europe/Berlin:20250115T130000
SEQUENCE:6
END:VEVENT
BEGIN:VEVENT
UID:sabre-vobject-ef352fe8-0dec-4d1f-975d-21ec26418a9d
DTSTAMP:20260426T030012Z
SUMMARY:Brown Bag Lunch
DESCRIPTION:Training sessions on domestic abuse preventative measures.\n
X-ALT-DESC:FMTTYPE=text/html:<!DOCTYPE HTML PUBLIC "-//W3C//DTD HTML 3.2//E
 N"><HTML><p>Training sessions on domestic abuse preventative measures.</p>
 \n</HTML>
CREATED;TZID=Europe/Berlin:20250912T095942
URL;VALUE=URI:https://kaiserslautern.armymwr.com/view-event
DTSTART;TZID=Europe/Berlin:20250212T120000
DTEND;TZID=Europe/Berlin:20250212T130000
SEQUENCE:7
END:VEVENT
BEGIN:VEVENT
UID:sabre-vobject-37dfd413-8009-4cd8-8ff7-60d5f1324f64
DTSTAMP:20260426T030012Z
SUMMARY:Brown Bag Lunch
DESCRIPTION:Training sessions on domestic abuse preventative measures.\n
X-ALT-DESC:FMTTYPE=text/html:<!DOCTYPE HTML PUBLIC "-//W3C//DTD HTML 3.2//E
 N"><HTML><p>Training sessions on domestic abuse preventative measures.</p>
 \n</HTML>
CREATED;TZID=Europe/Berlin:20250912T095942
URL;VALUE=URI:https://kaiserslautern.armymwr.com/view-event
DTSTART;TZID=Europe/Berlin:20250312T120000
DTEND;TZID=Europe/Berlin:20250312T130000
SEQUENCE:8
END:VEVENT
BEGIN:VEVENT
UID:sabre-vobject-ef289c17-95d5-4016-aa1b-8a9f3870062f
DTSTAMP:20260426T030012Z
SUMMARY:Brown Bag Lunch
DESCRIPTION:Training sessions on domestic abuse preventative measures.\n
X-ALT-DESC:FMTTYPE=text/html:<!DOCTYPE HTML PUBLIC "-//W3C//DTD HTML 3.2//E
 N"><HTML><p>Training sessions on domestic abuse preventative measures.</p>
 \n</HTML>
CREATED;TZID=Europe/Berlin:20250912T095942
URL;VALUE=URI:https://kaiserslautern.armymwr.com/view-event
DTSTART;TZID=Europe/Berlin:20250618T120000
DTEND;TZID=Europe/Berlin:20250618T130000
SEQUENCE:9
END:VEVENT
BEGIN:VEVENT
UID:sabre-vobject-3ed76b5f-62bf-41c5-acc3-c7ec741174d7
DTSTAMP:20260426T030012Z
SUMMARY:Brown Bag Lunch
DESCRIPTION:Training sessions on domestic abuse preventative measures.\n
X-ALT-DESC:FMTTYPE=text/html:<!DOCTYPE HTML PUBLIC "-//W3C//DTD HTML 3.2//E
 N"><HTML><p>Training sessions on domestic abuse preventative measures.</p>
 \n</HTML>
CREATED;TZID=Europe/Berlin:20250912T095942
URL;VALUE=URI:https://kaiserslautern.armymwr.com/view-event
DTSTART;TZID=Europe/Berlin:20250917T120000
DTEND;TZID=Europe/Berlin:20250917T130000
SEQUENCE:10
END:VEVENT
BEGIN:VEVENT
UID:sabre-vobject-638c4f22-edc6-4f21-8bf6-87fd3e2baff8
DTSTAMP:20260426T030012Z
SUMMARY:Brown Bag Lunch
DESCRIPTION:Training sessions on domestic abuse preventative measures.\n
X-ALT-DESC:FMTTYPE=text/html:<!DOCTYPE HTML PUBLIC "-//W3C//DTD HTML 3.2//E
 N"><HTML><p>Training sessions on domestic abuse preventative measures.</p>
 \n</HTML>
CREATED;TZID=Europe/Berlin:20250912T095942
URL;VALUE=URI:https://kaiserslautern.armymwr.com/view-event
DTSTART;TZID=Europe/Berlin:20251015T120000
DTEND;TZID=Europe/Berlin:20251015T130000
SEQUENCE:11
END:VEVENT
END:VCALENDAR
