BEGIN:VCALENDAR
VERSION:2.0
PRODID:-//Sabre//Sabre VObject 4.5.8//EN
CALSCALE:GREGORIAN
BEGIN:VEVENT
UID:sabre-vobject-e7013632-6442-4848-9c34-f2fb3a0c98dc
DTSTAMP:20260426T000107Z
SUMMARY:Finding Light After Darkness 
DESCRIPTION:Looking for comfort and support? Join the ACS Family Advocacy P
 rogram as they help others cope with domestic violence relationships both 
 past and present.\n
X-ALT-DESC:FMTTYPE=text/html:<!DOCTYPE HTML PUBLIC "-//W3C//DTD HTML 3.2//E
 N"><HTML><p>Looking for comfort and support? Join the ACS Family Advocacy 
 Program as they help others cope with domestic violence relationships both
  past and present.</p>\n</HTML>
CREATED;TZID=Europe/Berlin:20241217T105335
URL;VALUE=URI:https://kaiserslautern.armymwr.com/view-event
DTSTART;TZID=Europe/Berlin:20240627T113000
DTEND;TZID=Europe/Berlin:20240627T123000
SEQUENCE:0
END:VEVENT
BEGIN:VEVENT
UID:sabre-vobject-565865a8-6e80-473c-b238-5d4555e4f27c
DTSTAMP:20260426T000107Z
SUMMARY:Finding Light After Darkness 
DESCRIPTION:Looking for comfort and support? Join the ACS Family Advocacy P
 rogram as they help others cope with domestic violence relationships both 
 past and present.\n
X-ALT-DESC:FMTTYPE=text/html:<!DOCTYPE HTML PUBLIC "-//W3C//DTD HTML 3.2//E
 N"><HTML><p>Looking for comfort and support? Join the ACS Family Advocacy 
 Program as they help others cope with domestic violence relationships both
  past and present.</p>\n</HTML>
CREATED;TZID=Europe/Berlin:20241217T105335
URL;VALUE=URI:https://kaiserslautern.armymwr.com/view-event
DTSTART;TZID=Europe/Berlin:20240828T113000
DTEND;TZID=Europe/Berlin:20240828T123000
SEQUENCE:1
END:VEVENT
BEGIN:VEVENT
UID:sabre-vobject-84caee7f-4465-4cda-8248-8cc2050ba701
DTSTAMP:20260426T000107Z
SUMMARY:Finding Light After Darkness 
DESCRIPTION:Looking for comfort and support? Join the ACS Family Advocacy P
 rogram as they help others cope with domestic violence relationships both 
 past and present.\n
X-ALT-DESC:FMTTYPE=text/html:<!DOCTYPE HTML PUBLIC "-//W3C//DTD HTML 3.2//E
 N"><HTML><p>Looking for comfort and support? Join the ACS Family Advocacy 
 Program as they help others cope with domestic violence relationships both
  past and present.</p>\n</HTML>
CREATED;TZID=Europe/Berlin:20241217T105335
URL;VALUE=URI:https://kaiserslautern.armymwr.com/view-event
DTSTART;TZID=Europe/Berlin:20240925T113000
DTEND;TZID=Europe/Berlin:20240925T123000
SEQUENCE:2
END:VEVENT
BEGIN:VEVENT
UID:sabre-vobject-6591d67a-594e-4784-9acf-542114a450be
DTSTAMP:20260426T000107Z
SUMMARY:Finding Light After Darkness 
DESCRIPTION:Looking for comfort and support? Join the ACS Family Advocacy P
 rogram as they help others cope with domestic violence relationships both 
 past and present.\n
X-ALT-DESC:FMTTYPE=text/html:<!DOCTYPE HTML PUBLIC "-//W3C//DTD HTML 3.2//E
 N"><HTML><p>Looking for comfort and support? Join the ACS Family Advocacy 
 Program as they help others cope with domestic violence relationships both
  past and present.</p>\n</HTML>
CREATED;TZID=Europe/Berlin:20241217T105335
URL;VALUE=URI:https://kaiserslautern.armymwr.com/view-event
DTSTART;TZID=Europe/Berlin:20241023T113000
DTEND;TZID=Europe/Berlin:20241023T123000
SEQUENCE:3
END:VEVENT
BEGIN:VEVENT
UID:sabre-vobject-9a4c74e7-c308-4737-b1b3-cef0ed50c2b3
DTSTAMP:20260426T000107Z
SUMMARY:Finding Light After Darkness 
DESCRIPTION:Looking for comfort and support? Join the ACS Family Advocacy P
 rogram as they help others cope with domestic violence relationships both 
 past and present.\n
X-ALT-DESC:FMTTYPE=text/html:<!DOCTYPE HTML PUBLIC "-//W3C//DTD HTML 3.2//E
 N"><HTML><p>Looking for comfort and support? Join the ACS Family Advocacy 
 Program as they help others cope with domestic violence relationships both
  past and present.</p>\n</HTML>
CREATED;TZID=Europe/Berlin:20241217T105335
URL;VALUE=URI:https://kaiserslautern.armymwr.com/view-event
DTSTART;TZID=Europe/Berlin:20241127T113000
DTEND;TZID=Europe/Berlin:20241127T123000
SEQUENCE:4
END:VEVENT
BEGIN:VEVENT
UID:sabre-vobject-0315e034-a3bc-4b53-970e-34ddc25aafcc
DTSTAMP:20260426T000107Z
SUMMARY:Finding Light After Darkness 
DESCRIPTION:Looking for comfort and support? Join the ACS Family Advocacy P
 rogram as they help others cope with domestic violence relationships both 
 past and present.\n
X-ALT-DESC:FMTTYPE=text/html:<!DOCTYPE HTML PUBLIC "-//W3C//DTD HTML 3.2//E
 N"><HTML><p>Looking for comfort and support? Join the ACS Family Advocacy 
 Program as they help others cope with domestic violence relationships both
  past and present.</p>\n</HTML>
CREATED;TZID=Europe/Berlin:20241217T105335
URL;VALUE=URI:https://kaiserslautern.armymwr.com/view-event
DTSTART;TZID=Europe/Berlin:20250129T113000
DTEND;TZID=Europe/Berlin:20250129T123000
SEQUENCE:5
END:VEVENT
END:VCALENDAR
