BEGIN:VCALENDAR
VERSION:2.0
PRODID:-//Sabre//Sabre VObject 4.5.8//EN
CALSCALE:GREGORIAN
BEGIN:VEVENT
UID:sabre-vobject-3800bd78-ec83-4c5f-a86a-99a9d963b487
DTSTAMP:20260425T165641Z
SUMMARY:Storytime with Santa
DESCRIPTION:Hosted by ACS at the Landstuhl Library Bldg. 3810.\n
X-ALT-DESC:FMTTYPE=text/html:<!DOCTYPE HTML PUBLIC "-//W3C//DTD HTML 3.2//E
 N"><HTML><p>Hosted by ACS at the Landstuhl Library Bldg. 3810.</p>\n</HTML
 >
CREATED;TZID=Europe/Berlin:20251125T101829
URL;VALUE=URI:https://kaiserslautern.armymwr.com/view-event
DTSTART;TZID=Europe/Berlin:20241203T120000
DTEND;TZID=Europe/Berlin:20241203T183000
SEQUENCE:0
END:VEVENT
BEGIN:VEVENT
UID:sabre-vobject-d6612462-53af-4a2f-ab8b-cf67696289d3
DTSTAMP:20260425T165641Z
SUMMARY:Storytime with Santa
DESCRIPTION:Hosted by ACS at the Landstuhl Library Bldg. 3810.\n
X-ALT-DESC:FMTTYPE=text/html:<!DOCTYPE HTML PUBLIC "-//W3C//DTD HTML 3.2//E
 N"><HTML><p>Hosted by ACS at the Landstuhl Library Bldg. 3810.</p>\n</HTML
 >
CREATED;TZID=Europe/Berlin:20251125T101829
URL;VALUE=URI:https://kaiserslautern.armymwr.com/view-event
DTSTART;TZID=Europe/Berlin:20251205T123000
DTEND;TZID=Europe/Berlin:20251205T180000
SEQUENCE:1
END:VEVENT
END:VCALENDAR
