BEGIN:VCALENDAR
VERSION:2.0
PRODID:-//Sabre//Sabre VObject 4.5.8//EN
CALSCALE:GREGORIAN
BEGIN:VEVENT
UID:sabre-vobject-46b3d751-774d-485f-8b4f-97610ce866bf
DTSTAMP:20260422T222057Z
SUMMARY:Ski Express - Jungfrau Ski Region - Grindelwald\, Switzerland
DESCRIPTION:Plan your ski trip to the Jungfrau Ski Region&nbsp\;today and s
 ave $20 per person with our Early Bird Discount on day trips!\n
X-ALT-DESC:FMTTYPE=text/html:<!DOCTYPE HTML PUBLIC "-//W3C//DTD HTML 3.2//E
 N"><HTML><p>Plan <strong>your ski trip to the Jungfrau Ski Region</strong>
 &nbsp\;today and save $20 per person with our <strong>Early Bird Discount<
 /strong> on day trips!</p>\n</HTML>
CREATED;TZID=Europe/Berlin:20260109T132247
URL;VALUE=URI:https://kaiserslautern.armymwr.com/view-event
DTSTART;TZID=Europe/Berlin:20260124T000000
DTEND;TZID=Europe/Berlin:20260124T010000
SEQUENCE:0
END:VEVENT
END:VCALENDAR
