BEGIN:VCALENDAR
VERSION:2.0
PRODID:-//Sabre//Sabre VObject 4.5.8//EN
CALSCALE:GREGORIAN
BEGIN:VEVENT
UID:sabre-vobject-3c88f181-90cf-48dd-96fc-ca10c7c46565
DTSTAMP:20260424T041037Z
SUMMARY:Options for Dealing with Debt
DESCRIPTION:ACS in Partnership with Financial Wellness &amp\; Literacy Clas
 ses from Service Credit Union. Join us for a lunch &amp\; learn! Bring you
 r lunch and learn how to break free from debt.\n
X-ALT-DESC:FMTTYPE=text/html:<!DOCTYPE HTML PUBLIC "-//W3C//DTD HTML 3.2//E
 N"><HTML><p>ACS in Partnership with Financial Wellness &amp\; Literacy Cla
 sses from Service Credit Union. Join us for a lunch &amp\; learn! Bring yo
 ur lunch and learn how to break free from debt.</p>\n</HTML>
CREATED;TZID=Europe/Berlin:20250129T112912
URL;VALUE=URI:https://kaiserslautern.armymwr.com/view-event
DTSTART;TZID=Europe/Berlin:20250110T113000
DTEND;TZID=Europe/Berlin:20250110T123000
SEQUENCE:0
END:VEVENT
BEGIN:VEVENT
UID:sabre-vobject-5a07e258-cf2c-4be5-90ca-c088db4c2cd1
DTSTAMP:20260424T041037Z
SUMMARY:Options for Dealing with Debt
DESCRIPTION:ACS in Partnership with Financial Wellness &amp\; Literacy Clas
 ses from Service Credit Union. Join us for a lunch &amp\; learn! Bring you
 r lunch and learn how to break free from debt.\n
X-ALT-DESC:FMTTYPE=text/html:<!DOCTYPE HTML PUBLIC "-//W3C//DTD HTML 3.2//E
 N"><HTML><p>ACS in Partnership with Financial Wellness &amp\; Literacy Cla
 sses from Service Credit Union. Join us for a lunch &amp\; learn! Bring yo
 ur lunch and learn how to break free from debt.</p>\n</HTML>
CREATED;TZID=Europe/Berlin:20250129T112912
URL;VALUE=URI:https://kaiserslautern.armymwr.com/view-event
DTSTART;TZID=Europe/Berlin:20250213T113000
DTEND;TZID=Europe/Berlin:20250213T123000
SEQUENCE:1
END:VEVENT
END:VCALENDAR
