BEGIN:VCALENDAR
VERSION:2.0
PRODID:-//Sabre//Sabre VObject 4.5.8//EN
CALSCALE:GREGORIAN
BEGIN:VEVENT
UID:sabre-vobject-f7479850-83ad-4a45-8f56-9e3c6124b89e
DTSTAMP:20260425T005859Z
SUMMARY:Heroes & Villains Epic Event
DESCRIPTION:All ages are invited.\n*Please note the date change from Feb. 1
  to Feb. 8.*\n
X-ALT-DESC:FMTTYPE=text/html:<!DOCTYPE HTML PUBLIC "-//W3C//DTD HTML 3.2//E
 N"><HTML><p>All ages are invited.<br />\n<strong>*Please note the date cha
 nge from Feb. 1 to Feb. 8.*</strong></p>\n</HTML>
CREATED;TZID=Europe/Berlin:20250115T090749
URL;VALUE=URI:https://kaiserslautern.armymwr.com/view-event
DTSTART;TZID=Europe/Berlin:20250208T100000
DTEND;TZID=Europe/Berlin:20250208T120000
SEQUENCE:0
END:VEVENT
END:VCALENDAR
