BEGIN:VCALENDAR
VERSION:2.0
PRODID:-//Sabre//Sabre VObject 4.5.8//EN
CALSCALE:GREGORIAN
BEGIN:VEVENT
UID:sabre-vobject-5fde049b-242e-47b4-92b7-a88fa09ab9f1
DTSTAMP:20260421T120045Z
SUMMARY:Staged Reading: “The Mountaintop”
DESCRIPTION:In honor of the Birthday of Martin Luther King\, Jr.\n
X-ALT-DESC:FMTTYPE=text/html:<!DOCTYPE HTML PUBLIC "-//W3C//DTD HTML 3.2//E
 N"><HTML><p>In honor of the Birthday of Martin Luther King\, Jr.</p>\n</HT
 ML>
CREATED;TZID=Europe/Berlin:20250205T155141
URL;VALUE=URI:https://kaiserslautern.armymwr.com/view-event
DTSTART;TZID=Europe/Berlin:20250115T183000
DTEND;TZID=Europe/Berlin:20250115T203000
SEQUENCE:0
END:VEVENT
BEGIN:VEVENT
UID:sabre-vobject-1f35c1e3-e241-4e6a-8fb0-60a8c237b13e
DTSTAMP:20260421T120045Z
SUMMARY:Staged Reading: “The Mountaintop”
DESCRIPTION:In honor of the Birthday of Martin Luther King\, Jr.\n
X-ALT-DESC:FMTTYPE=text/html:<!DOCTYPE HTML PUBLIC "-//W3C//DTD HTML 3.2//E
 N"><HTML><p>In honor of the Birthday of Martin Luther King\, Jr.</p>\n</HT
 ML>
CREATED;TZID=Europe/Berlin:20250205T155141
URL;VALUE=URI:https://kaiserslautern.armymwr.com/view-event
DTSTART;TZID=Europe/Berlin:20250121T170000
DTEND;TZID=Europe/Berlin:20250121T190000
SEQUENCE:1
END:VEVENT
BEGIN:VEVENT
UID:sabre-vobject-c580e091-de74-485e-933e-52c66791f361
DTSTAMP:20260421T120045Z
SUMMARY:Staged Reading: “The Mountaintop”
DESCRIPTION:In honor of the Birthday of Martin Luther King\, Jr.\n
X-ALT-DESC:FMTTYPE=text/html:<!DOCTYPE HTML PUBLIC "-//W3C//DTD HTML 3.2//E
 N"><HTML><p>In honor of the Birthday of Martin Luther King\, Jr.</p>\n</HT
 ML>
CREATED;TZID=Europe/Berlin:20250205T155141
URL;VALUE=URI:https://kaiserslautern.armymwr.com/view-event
DTSTART;TZID=Europe/Berlin:20250205T183000
DTEND;TZID=Europe/Berlin:20250205T203000
SEQUENCE:2
END:VEVENT
END:VCALENDAR
