BEGIN:VCALENDAR
VERSION:2.0
PRODID:-//Sabre//Sabre VObject 4.5.8//EN
CALSCALE:GREGORIAN
BEGIN:VEVENT
UID:sabre-vobject-f9fc5f68-e55e-4532-813d-5e07fc1ab481
DTSTAMP:20260421T153129Z
SUMMARY:Bump\, Baby\, and Beyond
DESCRIPTION:Join us for an informative session designed for expecting paren
 ts.\n
X-ALT-DESC:FMTTYPE=text/html:<!DOCTYPE HTML PUBLIC "-//W3C//DTD HTML 3.2//E
 N"><HTML><p>Join us for an informative session designed for expecting pare
 nts.</p>\n</HTML>
CREATED;TZID=Europe/Berlin:20260219T135351
URL;VALUE=URI:https://kaiserslautern.armymwr.com/view-event
DTSTART;TZID=Europe/Berlin:20250416T090000
DTEND;TZID=Europe/Berlin:20250416T130000
SEQUENCE:0
END:VEVENT
BEGIN:VEVENT
UID:sabre-vobject-2535c829-38a5-4058-9ead-6845a8e6cf4b
DTSTAMP:20260421T153129Z
SUMMARY:Bump\, Baby\, and Beyond
DESCRIPTION:Join us for an informative session designed for expecting paren
 ts.\n
X-ALT-DESC:FMTTYPE=text/html:<!DOCTYPE HTML PUBLIC "-//W3C//DTD HTML 3.2//E
 N"><HTML><p>Join us for an informative session designed for expecting pare
 nts.</p>\n</HTML>
CREATED;TZID=Europe/Berlin:20260219T135351
URL;VALUE=URI:https://kaiserslautern.armymwr.com/view-event
DTSTART;TZID=Europe/Berlin:20250521T090000
DTEND;TZID=Europe/Berlin:20250521T130000
SEQUENCE:1
END:VEVENT
BEGIN:VEVENT
UID:sabre-vobject-16722838-0e55-4212-84c2-13a32f4df427
DTSTAMP:20260421T153129Z
SUMMARY:Bump\, Baby\, and Beyond
DESCRIPTION:Join us for an informative session designed for expecting paren
 ts.\n
X-ALT-DESC:FMTTYPE=text/html:<!DOCTYPE HTML PUBLIC "-//W3C//DTD HTML 3.2//E
 N"><HTML><p>Join us for an informative session designed for expecting pare
 nts.</p>\n</HTML>
CREATED;TZID=Europe/Berlin:20260219T135351
URL;VALUE=URI:https://kaiserslautern.armymwr.com/view-event
DTSTART;TZID=Europe/Berlin:20250618T090000
DTEND;TZID=Europe/Berlin:20250618T130000
SEQUENCE:2
END:VEVENT
BEGIN:VEVENT
UID:sabre-vobject-dfa35636-2ad0-4b5a-91d9-fc3066e42279
DTSTAMP:20260421T153129Z
SUMMARY:Bump\, Baby\, and Beyond
DESCRIPTION:Join us for an informative session designed for expecting paren
 ts.\n
X-ALT-DESC:FMTTYPE=text/html:<!DOCTYPE HTML PUBLIC "-//W3C//DTD HTML 3.2//E
 N"><HTML><p>Join us for an informative session designed for expecting pare
 nts.</p>\n</HTML>
CREATED;TZID=Europe/Berlin:20260219T135351
URL;VALUE=URI:https://kaiserslautern.armymwr.com/view-event
DTSTART;TZID=Europe/Berlin:20250716T090000
DTEND;TZID=Europe/Berlin:20250716T130000
SEQUENCE:3
END:VEVENT
BEGIN:VEVENT
UID:sabre-vobject-58f736d1-c82d-4dbe-9b48-12f88b1b7070
DTSTAMP:20260421T153129Z
SUMMARY:Bump\, Baby\, and Beyond
DESCRIPTION:Join us for an informative session designed for expecting paren
 ts.\n
X-ALT-DESC:FMTTYPE=text/html:<!DOCTYPE HTML PUBLIC "-//W3C//DTD HTML 3.2//E
 N"><HTML><p>Join us for an informative session designed for expecting pare
 nts.</p>\n</HTML>
CREATED;TZID=Europe/Berlin:20260219T135351
URL;VALUE=URI:https://kaiserslautern.armymwr.com/view-event
DTSTART;TZID=Europe/Berlin:20250820T090000
DTEND;TZID=Europe/Berlin:20250820T130000
SEQUENCE:4
END:VEVENT
BEGIN:VEVENT
UID:sabre-vobject-5ccf694e-8fe4-4471-b6dc-018962ca12ac
DTSTAMP:20260421T153129Z
SUMMARY:Bump\, Baby\, and Beyond
DESCRIPTION:Join us for an informative session designed for expecting paren
 ts.\n
X-ALT-DESC:FMTTYPE=text/html:<!DOCTYPE HTML PUBLIC "-//W3C//DTD HTML 3.2//E
 N"><HTML><p>Join us for an informative session designed for expecting pare
 nts.</p>\n</HTML>
CREATED;TZID=Europe/Berlin:20260219T135351
URL;VALUE=URI:https://kaiserslautern.armymwr.com/view-event
DTSTART;TZID=Europe/Berlin:20250917T090000
DTEND;TZID=Europe/Berlin:20250917T130000
SEQUENCE:5
END:VEVENT
BEGIN:VEVENT
UID:sabre-vobject-5cf81f30-92a8-47c1-8c07-6ccb9ca653c4
DTSTAMP:20260421T153129Z
SUMMARY:Bump\, Baby\, and Beyond
DESCRIPTION:Join us for an informative session designed for expecting paren
 ts.\n
X-ALT-DESC:FMTTYPE=text/html:<!DOCTYPE HTML PUBLIC "-//W3C//DTD HTML 3.2//E
 N"><HTML><p>Join us for an informative session designed for expecting pare
 nts.</p>\n</HTML>
CREATED;TZID=Europe/Berlin:20260219T135351
URL;VALUE=URI:https://kaiserslautern.armymwr.com/view-event
DTSTART;TZID=Europe/Berlin:20251015T090000
DTEND;TZID=Europe/Berlin:20251015T130000
SEQUENCE:6
END:VEVENT
BEGIN:VEVENT
UID:sabre-vobject-074aed99-2cc8-4c0c-a517-9173c24c9918
DTSTAMP:20260421T153129Z
SUMMARY:Bump\, Baby\, and Beyond
DESCRIPTION:Join us for an informative session designed for expecting paren
 ts.\n
X-ALT-DESC:FMTTYPE=text/html:<!DOCTYPE HTML PUBLIC "-//W3C//DTD HTML 3.2//E
 N"><HTML><p>Join us for an informative session designed for expecting pare
 nts.</p>\n</HTML>
CREATED;TZID=Europe/Berlin:20260219T135351
URL;VALUE=URI:https://kaiserslautern.armymwr.com/view-event
DTSTART;TZID=Europe/Berlin:20251119T090000
DTEND;TZID=Europe/Berlin:20251119T130000
SEQUENCE:7
END:VEVENT
BEGIN:VEVENT
UID:sabre-vobject-0f1b76a5-68e3-4473-8ee1-1a5e452ffdf0
DTSTAMP:20260421T153129Z
SUMMARY:Bump\, Baby\, and Beyond
DESCRIPTION:Join us for an informative session designed for expecting paren
 ts.\n
X-ALT-DESC:FMTTYPE=text/html:<!DOCTYPE HTML PUBLIC "-//W3C//DTD HTML 3.2//E
 N"><HTML><p>Join us for an informative session designed for expecting pare
 nts.</p>\n</HTML>
CREATED;TZID=Europe/Berlin:20260219T135351
URL;VALUE=URI:https://kaiserslautern.armymwr.com/view-event
DTSTART;TZID=Europe/Berlin:20251217T090000
DTEND;TZID=Europe/Berlin:20251217T130000
SEQUENCE:8
END:VEVENT
BEGIN:VEVENT
UID:sabre-vobject-a4007d29-761b-45ac-897b-b60a200561d5
DTSTAMP:20260421T153129Z
SUMMARY:Bump\, Baby\, and Beyond
DESCRIPTION:Join us for an informative session designed for expecting paren
 ts.\n
X-ALT-DESC:FMTTYPE=text/html:<!DOCTYPE HTML PUBLIC "-//W3C//DTD HTML 3.2//E
 N"><HTML><p>Join us for an informative session designed for expecting pare
 nts.</p>\n</HTML>
CREATED;TZID=Europe/Berlin:20260219T135351
URL;VALUE=URI:https://kaiserslautern.armymwr.com/view-event
DTSTART;TZID=Europe/Berlin:20260318T090000
DTEND;TZID=Europe/Berlin:20260318T130000
SEQUENCE:9
END:VEVENT
END:VCALENDAR
