BEGIN:VCALENDAR
VERSION:2.0
PRODID:-//Sabre//Sabre VObject 4.5.8//EN
CALSCALE:GREGORIAN
BEGIN:VEVENT
UID:sabre-vobject-60d25878-3369-4df9-b65f-f9f67d8edc3e
DTSTAMP:20260419T132018Z
SUMMARY:Summer Bazaar
DESCRIPTION:Shop from&nbsp\;Friday\, June 6\, through Sunday\, June 8!\n
X-ALT-DESC:FMTTYPE=text/html:<!DOCTYPE HTML PUBLIC "-//W3C//DTD HTML 3.2//E
 N"><HTML><p>Shop from<b>&nbsp\;Friday\, June 6\, through Sunday\, June 8!<
 /b></p>\n</HTML>
CREATED;TZID=Europe/Berlin:20250604T095834
URL;VALUE=URI:https://kaiserslautern.armymwr.com/view-event
DTSTART;TZID=Europe/Berlin:20250606T100000
DTEND;TZID=Europe/Berlin:20250606T190000
SEQUENCE:0
END:VEVENT
BEGIN:VEVENT
UID:sabre-vobject-625eb618-eec7-4ed2-bb09-850560077a96
DTSTAMP:20260419T132018Z
SUMMARY:Summer Bazaar
DESCRIPTION:Shop from&nbsp\;Friday\, June 6\, through Sunday\, June 8!\n
X-ALT-DESC:FMTTYPE=text/html:<!DOCTYPE HTML PUBLIC "-//W3C//DTD HTML 3.2//E
 N"><HTML><p>Shop from<b>&nbsp\;Friday\, June 6\, through Sunday\, June 8!<
 /b></p>\n</HTML>
CREATED;TZID=Europe/Berlin:20250604T095834
URL;VALUE=URI:https://kaiserslautern.armymwr.com/view-event
DTSTART;TZID=Europe/Berlin:20250607T100000
DTEND;TZID=Europe/Berlin:20250607T190000
SEQUENCE:1
END:VEVENT
BEGIN:VEVENT
UID:sabre-vobject-6527fcfd-96b5-4bf1-a929-fb7561c21868
DTSTAMP:20260419T132018Z
SUMMARY:Summer Bazaar
DESCRIPTION:Shop from&nbsp\;Friday\, June 6\, through Sunday\, June 8!\n
X-ALT-DESC:FMTTYPE=text/html:<!DOCTYPE HTML PUBLIC "-//W3C//DTD HTML 3.2//E
 N"><HTML><p>Shop from<b>&nbsp\;Friday\, June 6\, through Sunday\, June 8!<
 /b></p>\n</HTML>
CREATED;TZID=Europe/Berlin:20250604T095834
URL;VALUE=URI:https://kaiserslautern.armymwr.com/view-event
DTSTART;TZID=Europe/Berlin:20250608T100000
DTEND;TZID=Europe/Berlin:20250608T170000
SEQUENCE:2
END:VEVENT
END:VCALENDAR
