BEGIN:VCALENDAR
VERSION:2.0
PRODID:-//Sabre//Sabre VObject 4.5.8//EN
CALSCALE:GREGORIAN
BEGIN:VEVENT
UID:sabre-vobject-f6200363-a59e-4d01-af38-51436f2f92de
DTSTAMP:20260419T132016Z
SUMMARY:Fall Youth Sports Enrollments
DESCRIPTION:Fall Youth Sports Enrollments are June 1 to July 11 or until te
 ams are full.\n
X-ALT-DESC:FMTTYPE=text/html:<!DOCTYPE HTML PUBLIC "-//W3C//DTD HTML 3.2//E
 N"><HTML><p>Fall Youth Sports Enrollments are June 1 to July 11 or until t
 eams are full.</p>\n</HTML>
CREATED;TZID=Europe/Berlin:20250602T160015
URL;VALUE=URI:https://kaiserslautern.armymwr.com/view-event
DTSTART;TZID=Europe/Berlin:20250601T153000
DTEND;TZID=Europe/Berlin:20250711T163000
SEQUENCE:0
END:VEVENT
END:VCALENDAR
